Workbook
Name Slicer_Age_Class1: #N/A
Name Slicer_Club_Size_Entries1: #N/A
Name Slicer_Discipline1: #N/A
Name Slicer_Grade_Class1: #N/A
Name Slicer_Individual_Team1: #N/A
Name Slicer_Sex1: #N/A

Sheet Graphics Corrected Medal Stats
A1: Medal Statistics Holland Cup 2018 | ITF Netherlands Master Series
A2: An interactive insight into the medal statistics
A3: Please note: these are corrected medal statistics, i.e. 3rd place medals in a cateogry with 3 competitors and 2nd place medals in a category of 2 competitors have been removed. Use the filters to zoom in on the statistics you are interested in. Selected filters are blue, unselected filters are white. This will instantly affect all four graphs below (1: Golden Medals per Club; 2: Medals per Club; 3: Gold% relative to entries per club; 4: Medal% relative to entries per club) E.g. only large clubs, junior females in patterns from 4th gup up: Club Size Entries "L"; Discipline "Patterns"; Age class "Junior"; Sex "Female"; Grade Class "A+B G04-D06" and "B G04-G01" (use multi-select toggle button, the icon with the list with checkmarks). Hover over the bars in the charts to view the exact values. Clear filters with the filter symbol with the " X". Club sizes are based on 1st to 4th quartiles with respect to the entries per club: XS 1 to 4.5 entries (1-25th percentile); S 4.5 to 12 entries (25-50th percentile); M 12 to 24.5 entries (50-75th percentile); L 24.5 to 143 entries (75-100th).
A14: Filters:
A26: Statistics:

Sheet Corrected Medal Statistics
B1: Results
A2: Club | B2: 1. Gold | C2: 2. Silver | D2: 3. Bronze | E2: Medals | F2: Entries | G2: Gold% Entries | H2: Medal% Entries
A3: Sportschool Tim Kool | B3: {=SUM(IF('Corrected Results_Entries_Cat'!$A$6:$A$64='Corrected Medal Statistics'!$A3,IF('Corrected Results_Entries_Cat'!$B$5:$RP$5='Corrected Medal Statistics'!B$2,'Corrected Results_Entries_Cat'!$B$6:$RP$64)))} -> 9 | C3: {=SUM(IF('Corrected Results_Entries_Cat'!$A$6:$A$64='Corrected Medal Statistics'!$A3,IF('Corrected Results_Entries_Cat'!$B$5:$RP$5='Corrected Medal Statistics'!C$2,'Corrected Results_Entries_Cat'!$B$6:$RP$64)))} -> 9 | D3: {=SUM(IF('Corrected Results_Entries_Cat'!$A$6:$A$64='Corrected Medal Statistics'!$A3,IF('Corrected Results_Entries_Cat'!$B$5:$RP$5='Corrected Medal Statistics'!D$2,'Corrected Results_Entries_Cat'!$B$6:$RP$64)))} -> 9 | E3: =SUM(B3:D3) -> 27 | F3: =INDEX(Results_Entries_Category_Club!$A$9:$NQ$69,MATCH(A3,Results_Entries_Category_Club!$A$9:$A$69,0),MATCH("Eindtotaal",Results_Entries_Category_Club!$A$9:$NQ$9,0)) -> 126 | G3: =B3/F3 -> 0.071428571 | H3: =E3/F3 -> 0.21428571
A4: Kassem Gym | B4: {=SUM(IF('Corrected Results_Entries_Cat'!$A$6:$A$64='Corrected Medal Statistics'!$A4,IF('Corrected Results_Entries_Cat'!$B$5:$RP$5='Corrected Medal Statistics'!B$2,'Corrected Results_Entries_Cat'!$B$6:$RP$64)))} -> 5 | C4: {=SUM(IF('Corrected Results_Entries_Cat'!$A$6:$A$64='Corrected Medal Statistics'!$A4,IF('Corrected Results_Entries_Cat'!$B$5:$RP$5='Corrected Medal Statistics'!C$2,'Corrected Results_Entries_Cat'!$B$6:$RP$64)))} -> 7 | D4: {=SUM(IF('Corrected Results_Entries_Cat'!$A$6:$A$64='Corrected Medal Statistics'!$A4,IF('Corrected Results_Entries_Cat'!$B$5:$RP$5='Corrected Medal Statistics'!D$2,'Corrected Results_Entries_Cat'!$B$6:$RP$64)))} -> 6 | E4: =SUM(B4:D4) -> 18 | F4: =INDEX(Results_Entries_Category_Club!$A$9:$NQ$69,MATCH(A4,Results_Entries_Category_Club!$A$9:$A$69,0),MATCH("Eindtotaal",Results_Entries_Category_Club!$A$9:$NQ$9,0)) -> 31 | G4: =B4/F4 -> 0.16129032 | H4: =E4/F4 -> 0.58064516
A5: Team Carvalho Sports / TS Amsterdam | B5: {=SUM(IF('Corrected Results_Entries_Cat'!$A$6:$A$64='Corrected Medal Statistics'!$A5,IF('Corrected Results_Entries_Cat'!$B$5:$RP$5='Corrected Medal Statistics'!B$2,'Corrected Results_Entries_Cat'!$B$6:$RP$64)))} -> 5 | C5: {=SUM(IF('Corrected Results_Entries_Cat'!$A$6:$A$64='Corrected Medal Statistics'!$A5,IF('Corrected Results_Entries_Cat'!$B$5:$RP$5='Corrected Medal Statistics'!C$2,'Corrected Results_Entries_Cat'!$B$6:$RP$64)))} -> 1 | D5: {=SUM(IF('Corrected Results_Entries_Cat'!$A$6:$A$64='Corrected Medal Statistics'!$A5,IF('Corrected Results_Entries_Cat'!$B$5:$RP$5='Corrected Medal Statistics'!D$2,'Corrected Results_Entries_Cat'!$B$6:$RP$64)))} -> 3 | E5: =SUM(B5:D5) -> 9 | F5: =INDEX(Results_Entries_Category_Club!$A$9:$NQ$69,MATCH(A5,Results_Entries_Category_Club!$A$9:$A$69,0),MATCH("Eindtotaal",Results_Entries_Category_Club!$A$9:$NQ$9,0)) -> 43 | G5: =B5/F5 -> 0.11627907 | H5: =E5/F5 -> 0.20930233
A6: Ohdokwan | B6: {=SUM(IF('Corrected Results_Entries_Cat'!$A$6:$A$64='Corrected Medal Statistics'!$A6,IF('Corrected Results_Entries_Cat'!$B$5:$RP$5='Corrected Medal Statistics'!B$2,'Corrected Results_Entries_Cat'!$B$6:$RP$64)))} -> 3 | C6: {=SUM(IF('Corrected Results_Entries_Cat'!$A$6:$A$64='Corrected Medal Statistics'!$A6,IF('Corrected Results_Entries_Cat'!$B$5:$RP$5='Corrected Medal Statistics'!C$2,'Corrected Results_Entries_Cat'!$B$6:$RP$64)))} -> 3 | D6: {=SUM(IF('Corrected Results_Entries_Cat'!$A$6:$A$64='Corrected Medal Statistics'!$A6,IF('Corrected Results_Entries_Cat'!$B$5:$RP$5='Corrected Medal Statistics'!D$2,'Corrected Results_Entries_Cat'!$B$6:$RP$64)))} -> 4 | E6: =SUM(B6:D6) -> 10 | F6: =INDEX(Results_Entries_Category_Club!$A$9:$NQ$69,MATCH(A6,Results_Entries_Category_Club!$A$9:$A$69,0),MATCH("Eindtotaal",Results_Entries_Category_Club!$A$9:$NQ$9,0)) -> 32 | G6: =B6/F6 -> 0.09375 | H6: =E6/F6 -> 0.3125
A7: Taekwon-Do Team Vrijsen | B7: {=SUM(IF('Corrected Results_Entries_Cat'!$A$6:$A$64='Corrected Medal Statistics'!$A7,IF('Corrected Results_Entries_Cat'!$B$5:$RP$5='Corrected Medal Statistics'!B$2,'Corrected Results_Entries_Cat'!$B$6:$RP$64)))} -> 5 | C7: {=SUM(IF('Corrected Results_Entries_Cat'!$A$6:$A$64='Corrected Medal Statistics'!$A7,IF('Corrected Results_Entries_Cat'!$B$5:$RP$5='Corrected Medal Statistics'!C$2,'Corrected Results_Entries_Cat'!$B$6:$RP$64)))} -> 4 | D7: {=SUM(IF('Corrected Results_Entries_Cat'!$A$6:$A$64='Corrected Medal Statistics'!$A7,IF('Corrected Results_Entries_Cat'!$B$5:$RP$5='Corrected Medal Statistics'!D$2,'Corrected Results_Entries_Cat'!$B$6:$RP$64)))} -> 4 | E7: =SUM(B7:D7) -> 13 | F7: =INDEX(Results_Entries_Category_Club!$A$9:$NQ$69,MATCH(A7,Results_Entries_Category_Club!$A$9:$A$69,0),MATCH("Eindtotaal",Results_Entries_Category_Club!$A$9:$NQ$9,0)) -> 31 | G7: =B7/F7 -> 0.16129032 | H7: =E7/F7 -> 0.41935484
A8: Koguryo | B8: {=SUM(IF('Corrected Results_Entries_Cat'!$A$6:$A$64='Corrected Medal Statistics'!$A8,IF('Corrected Results_Entries_Cat'!$B$5:$RP$5='Corrected Medal Statistics'!B$2,'Corrected Results_Entries_Cat'!$B$6:$RP$64)))} -> 5 | C8: {=SUM(IF('Corrected Results_Entries_Cat'!$A$6:$A$64='Corrected Medal Statistics'!$A8,IF('Corrected Results_Entries_Cat'!$B$5:$RP$5='Corrected Medal Statistics'!C$2,'Corrected Results_Entries_Cat'!$B$6:$RP$64)))} -> 6 | D8: {=SUM(IF('Corrected Results_Entries_Cat'!$A$6:$A$64='Corrected Medal Statistics'!$A8,IF('Corrected Results_Entries_Cat'!$B$5:$RP$5='Corrected Medal Statistics'!D$2,'Corrected Results_Entries_Cat'!$B$6:$RP$64)))} -> 0 | E8: =SUM(B8:D8) -> 11 | F8: =INDEX(Results_Entries_Category_Club!$A$9:$NQ$69,MATCH(A8,Results_Entries_Category_Club!$A$9:$A$69,0),MATCH("Eindtotaal",Results_Entries_Category_Club!$A$9:$NQ$9,0)) -> 28 | G8: =B8/F8 -> 0.17857143 | H8: =E8/F8 -> 0.39285714
A9: Taekwon-Do Academy Graziella Idili | B9: {=SUM(IF('Corrected Results_Entries_Cat'!$A$6:$A$64='Corrected Medal Statistics'!$A9,IF('Corrected Results_Entries_Cat'!$B$5:$RP$5='Corrected Medal Statistics'!B$2,'Corrected Results_Entries_Cat'!$B$6:$RP$64)))} -> 1 | C9: {=SUM(IF('Corrected Results_Entries_Cat'!$A$6:$A$64='Corrected Medal Statistics'!$A9,IF('Corrected Results_Entries_Cat'!$B$5:$RP$5='Corrected Medal Statistics'!C$2,'Corrected Results_Entries_Cat'!$B$6:$RP$64)))} -> 6 | D9: {=SUM(IF('Corrected Results_Entries_Cat'!$A$6:$A$64='Corrected Medal Statistics'!$A9,IF('Corrected Results_Entries_Cat'!$B$5:$RP$5='Corrected Medal Statistics'!D$2,'Corrected Results_Entries_Cat'!$B$6:$RP$64)))} -> 2 | E9: =SUM(B9:D9) -> 9 | F9: =INDEX(Results_Entries_Category_Club!$A$9:$NQ$69,MATCH(A9,Results_Entries_Category_Club!$A$9:$A$69,0),MATCH("Eindtotaal",Results_Entries_Category_Club!$A$9:$NQ$9,0)) -> 25 | G9: =B9/F9 -> 0.04 | H9: =E9/F9 -> 0.36
A10: PUMA England | B10: {=SUM(IF('Corrected Results_Entries_Cat'!$A$6:$A$64='Corrected Medal Statistics'!$A10,IF('Corrected Results_Entries_Cat'!$B$5:$RP$5='Corrected Medal Statistics'!B$2,'Corrected Results_Entries_Cat'!$B$6:$RP$64)))} -> 8 | C10: {=SUM(IF('Corrected Results_Entries_Cat'!$A$6:$A$64='Corrected Medal Statistics'!$A10,IF('Corrected Results_Entries_Cat'!$B$5:$RP$5='Corrected Medal Statistics'!C$2,'Corrected Results_Entries_Cat'!$B$6:$RP$64)))} -> 1 | D10: {=SUM(IF('Corrected Results_Entries_Cat'!$A$6:$A$64='Corrected Medal Statistics'!$A10,IF('Corrected Results_Entries_Cat'!$B$5:$RP$5='Corrected Medal Statistics'!D$2,'Corrected Results_Entries_Cat'!$B$6:$RP$64)))} -> 4 | E10: =SUM(B10:D10) -> 13 | F10: =INDEX(Results_Entries_Category_Club!$A$9:$NQ$69,MATCH(A10,Results_Entries_Category_Club!$A$9:$A$69,0),MATCH("Eindtotaal",Results_Entries_Category_Club!$A$9:$NQ$9,0)) -> 28 | G10: =B10/F10 -> 0.28571429 | H10: =E10/F10 -> 0.46428571
A11: Soo Bak-Gi | B11: {=SUM(IF('Corrected Results_Entries_Cat'!$A$6:$A$64='Corrected Medal Statistics'!$A11,IF('Corrected Results_Entries_Cat'!$B$5:$RP$5='Corrected Medal Statistics'!B$2,'Corrected Results_Entries_Cat'!$B$6:$RP$64)))} -> 2 | C11: {=SUM(IF('Corrected Results_Entries_Cat'!$A$6:$A$64='Corrected Medal Statistics'!$A11,IF('Corrected Results_Entries_Cat'!$B$5:$RP$5='Corrected Medal Statistics'!C$2,'Corrected Results_Entries_Cat'!$B$6:$RP$64)))} -> 1 | D11: {=SUM(IF('Corrected Results_Entries_Cat'!$A$6:$A$64='Corrected Medal Statistics'!$A11,IF('Corrected Results_Entries_Cat'!$B$5:$RP$5='Corrected Medal Statistics'!D$2,'Corrected Results_Entries_Cat'!$B$6:$RP$64)))} -> 3 | E11: =SUM(B11:D11) -> 6 | F11: =INDEX(Results_Entries_Category_Club!$A$9:$NQ$69,MATCH(A11,Results_Entries_Category_Club!$A$9:$A$69,0),MATCH("Eindtotaal",Results_Entries_Category_Club!$A$9:$NQ$9,0)) -> 24 | G11: =B11/F11 -> 0.083333333 | H11: =E11/F11 -> 0.25
A12: Taekwon-Do Vereniging Hwa Rangdo - Zeewolde | B12: {=SUM(IF('Corrected Results_Entries_Cat'!$A$6:$A$64='Corrected Medal Statistics'!$A12,IF('Corrected Results_Entries_Cat'!$B$5:$RP$5='Corrected Medal Statistics'!B$2,'Corrected Results_Entries_Cat'!$B$6:$RP$64)))} -> 0 | C12: {=SUM(IF('Corrected Results_Entries_Cat'!$A$6:$A$64='Corrected Medal Statistics'!$A12,IF('Corrected Results_Entries_Cat'!$B$5:$RP$5='Corrected Medal Statistics'!C$2,'Corrected Results_Entries_Cat'!$B$6:$RP$64)))} -> 1 | D12: {=SUM(IF('Corrected Results_Entries_Cat'!$A$6:$A$64='Corrected Medal Statistics'!$A12,IF('Corrected Results_Entries_Cat'!$B$5:$RP$5='Corrected Medal Statistics'!D$2,'Corrected Results_Entries_Cat'!$B$6:$RP$64)))} -> 1 | E12: =SUM(B12:D12) -> 2 | F12: =INDEX(Results_Entries_Category_Club!$A$9:$NQ$69,MATCH(A12,Results_Entries_Category_Club!$A$9:$A$69,0),MATCH("Eindtotaal",Results_Entries_Category_Club!$A$9:$NQ$9,0)) -> 21 | G12: =B12/F12 -> 0 | H12: =E12/F12 -> 0.095238095
A13: Taekwon-do Den Hoorn | B13: {=SUM(IF('Corrected Results_Entries_Cat'!$A$6:$A$64='Corrected Medal Statistics'!$A13,IF('Corrected Results_Entries_Cat'!$B$5:$RP$5='Corrected Medal Statistics'!B$2,'Corrected Results_Entries_Cat'!$B$6:$RP$64)))} -> 1 | C13: {=SUM(IF('Corrected Results_Entries_Cat'!$A$6:$A$64='Corrected Medal Statistics'!$A13,IF('Corrected Results_Entries_Cat'!$B$5:$RP$5='Corrected Medal Statistics'!C$2,'Corrected Results_Entries_Cat'!$B$6:$RP$64)))} -> 1 | D13: {=SUM(IF('Corrected Results_Entries_Cat'!$A$6:$A$64='Corrected Medal Statistics'!$A13,IF('Corrected Results_Entries_Cat'!$B$5:$RP$5='Corrected Medal Statistics'!D$2,'Corrected Results_Entries_Cat'!$B$6:$RP$64)))} -> 2 | E13: =SUM(B13:D13) -> 4 | F13: =INDEX(Results_Entries_Category_Club!$A$9:$NQ$69,MATCH(A13,Results_Entries_Category_Club!$A$9:$A$69,0),MATCH("Eindtotaal",Results_Entries_Category_Club!$A$9:$NQ$9,0)) -> 36 | G13: =B13/F13 -> 0.027777778 | H13: =E13/F13 -> 0.11111111
A14: Taekwondo Martial Arts Center Delft | B14: {=SUM(IF('Corrected Results_Entries_Cat'!$A$6:$A$64='Corrected Medal Statistics'!$A14,IF('Corrected Results_Entries_Cat'!$B$5:$RP$5='Corrected Medal Statistics'!B$2,'Corrected Results_Entries_Cat'!$B$6:$RP$64)))} -> 2 | C14: {=SUM(IF('Corrected Results_Entries_Cat'!$A$6:$A$64='Corrected Medal Statistics'!$A14,IF('Corrected Results_Entries_Cat'!$B$5:$RP$5='Corrected Medal Statistics'!C$2,'Corrected Results_Entries_Cat'!$B$6:$RP$64)))} -> 1 | D14: {=SUM(IF('Corrected Results_Entries_Cat'!$A$6:$A$64='Corrected Medal Statistics'!$A14,IF('Corrected Results_Entries_Cat'!$B$5:$RP$5='Corrected Medal Statistics'!D$2,'Corrected Results_Entries_Cat'!$B$6:$RP$64)))} -> 0 | E14: =SUM(B14:D14) -> 3 | F14: =INDEX(Results_Entries_Category_Club!$A$9:$NQ$69,MATCH(A14,Results_Entries_Category_Club!$A$9:$A$69,0),MATCH("Eindtotaal",Results_Entries_Category_Club!$A$9:$NQ$9,0)) -> 18 | G14: =B14/F14 -> 0.11111111 | H14: =E14/F14 -> 0.16666667
... A61: Just For Kicks | B61: {=SUM(IF('Corrected Results_Entries_Cat'!$A$6:$A$64='Corrected Medal Statistics'!$A61,IF('Corrected Results_Entries_Cat'!$B$5:$RP$5='Corrected Medal Statistics'!B$2,'Corrected Results_Entries_Cat'!$B$6:$RP$64)))} -> 0 | C61: {=SUM(IF('Corrected Results_Entries_Cat'!$A$6:$A$64='Corrected Medal Statistics'!$A61,IF('Corrected Results_Entries_Cat'!$B$5:$RP$5='Corrected Medal Statistics'!C$2,'Corrected Results_Entries_Cat'!$B$6:$RP$64)))} -> 1 | D61: {=SUM(IF('Corrected Results_Entries_Cat'!$A$6:$A$64='Corrected Medal Statistics'!$A61,IF('Corrected Results_Entries_Cat'!$B$5:$RP$5='Corrected Medal Statistics'!D$2,'Corrected Results_Entries_Cat'!$B$6:$RP$64)))} -> 0 | E61: =SUM(B61:D61) -> 1 | F61: =INDEX(Results_Entries_Category_Club!$A$9:$NQ$69,MATCH(A61,Results_Entries_Category_Club!$A$9:$A$69,0),MATCH("Eindtotaal",Results_Entries_Category_Club!$A$9:$NQ$9,0)) -> 1 | G61: =B61/F61 -> 0 | H61: =E61/F61 -> 1

Sheet Corrected Results_Entries_Cat
A3: Aantal van Corrected Result | B3: Kolomlabels
B4: 01001 Tul Youth 6-13 F A D01 | D4: Totaal 01001 Tul Youth 6-13 F A D01 | E4: 01002 Tul Youth 6-13 F B G04-G01 | I4: Totaal 01002 Tul Youth 6-13 F B G04-G01 | J4: 01003a Tul Youth 6-13 F C G06-G05 | N4: Totaal 01003a Tul Youth 6-13 F C G06-G05 | O4: 01003b Tul Youth 6-13 F C G07 | S4: Totaal 01003b Tul Youth 6-13 F C G07 | T4: 01004 Tul Youth 6-13 F C G10-G08 | X4: Totaal 01004 Tul Youth 6-13 F C G10-G08 | Y4: 01006 Tul Youth 6-13 M A D01 | AC4: Totaal 01006 Tul Youth 6-13 M A D01 | AD4: 01007a Tul Youth 6-13 M B G02-G01 | AH4: Totaal 01007a Tul Youth 6-13 M B G02-G01 | AI4: 01007b Tul Youth 6-13 M B G04-G03 | AM4: Totaal 01007b Tul Youth 6-13 M B G04-G03 | AN4: 01008a Tul Youth 6-13 M C G06-G05 | AR4: Totaal 01008a Tul Youth 6-13 M C G06-G05 | AS4: 01008b Tul Youth 6-13 M C G07 | AW4: Totaal 01008b Tul Youth 6-13 M C G07 | AX4: 01009 Tul Youth 6-13 M C G10-G08 | BB4: Totaal 01009 Tul Youth 6-13 M C G10-G08 | BC4: 01011 S Tul Junior 14-17 F/M A D02 | BG4: Totaal 01011 S Tul Junior 14-17 F/M A D02 | BH4: 01012 Tul Junior 14-17 F A D01 | BL4: Totaal 01012 Tul Junior 14-17 F A D01 | BM4: 01013 Tul Junior 14-17 F B G04-G01 | BQ4: Totaal 01013 Tul Junior 14-17 F B G04-G01 | BR4: 01014 Tul Junior 14-17 F C G07-G05 | BV4: Totaal 01014 Tul Junior 14-17 F C G07-G05 | BW4: 01018 Tul Junior 14-17 M A D01 | CA4: Totaal 01018 Tul Junior 14-17 M A D01 | CB4: 01019 Tul Junior 14-17 M B G04-G01 | CF4: Totaal 01019 Tul Junior 14-17 M B G04-G01 | CG4: 01020 Tul Junior 14-17 M C G07-G05 | CK4: Totaal 01020 Tul Junior 14-17 M C G07-G05 | CL4: 01021 Tul Junior 14-17 M C G10-G08 | CN4: Totaal 01021 Tul Junior 14-17 M C G10-G08 | CO4: 01022 Tul Senior-Veteran 18+ F A D04-D06 | CS4: Totaal 01022 Tul Senior-Veteran 18+ F A D04-D06 | CT4: 01023 Tul Senior-Veteran 18+ F A D03 | CW4: Totaal 01023 Tul Senior-Veteran 18+ F A D03 | CX4: 01024 Tul Senior-Veteran 18+ F A D02 | DB4: Totaal 01024 Tul Senior-Veteran 18+ F A D02 | DC4: 01025 Tul Senior-Veteran 18+ F A D01 | DG4: Totaal 01025 Tul Senior-Veteran 18+ F A D01 | DH4: 01026 Tul Senior-Veteran 18+ F B G04-G01 | DL4: Totaal 01026 Tul Senior-Veteran 18+ F B G04-G01 | DM4: 01027 Tul Senior-Veteran 18+ F C G07-G05 | DQ4: Totaal 01027 Tul Senior-Veteran 18+ F C G07-G05 | DR4: 01028 Tul Senior-Veteran 18+ F C G10-G08 | DU4: Totaal 01028 Tul Senior-Veteran 18+ F C G10-G08 | DV4: 01029 Tul Senior-Veteran 18+ M A D04-D06 | DZ4: Totaal 01029 Tul Senior-Veteran 18+ M A D04-D06 | EA4: 01030 Tul Senior-Veteran 18+ M A D03 | EE4: Totaal 01030 Tul Senior-Veteran 18+ M A D03 | EF4: 01031 Tul Senior-Veteran 18+ M A D02 | EJ4: Totaal 01031 Tul Senior-Veteran 18+ M A D02 | EK4: 01032 Tul Senior-Veteran 18+ M A D01 | EO4: Totaal 01032 Tul Senior-Veteran 18+ M A D01 | EP4: 01033 Tul Senior-Veteran 18+ M B G04-G01 | ET4: Totaal 01033 Tul Senior-Veteran 18+ M B G04-G01 | EU4: 01034 Tul Senior-Veteran 18+ M C G07-G05 | EY4: Totaal 01034 Tul Senior-Veteran 18+ M C G07-G05 | EZ4: 01035 Tul Senior-Veteran 18+ M C G10-G08 | FD4: Totaal 01035 Tul Senior-Veteran 18+ M C G10-G08 | FE4: 02000 Team Tul Junior-Senior-Veteran 14+ F+M A+B G04-D06 | FI4: Totaal 02000 Team Tul Junior-Senior-Veteran 14+ F+M A+B G04-D06 | FJ4: 03000 Pre-Arranged Junior-Senior-Veteran 14+ F+M A+B G04-D06 | FM4: Totaal 03000 Pre-Arranged Junior-Senior-Veteran 14+ F+M A+B G04-D06 | FN4: 04000 Chon-Ji Challenge Youth 6-13 F+M C G10-G05 | FQ4: Totaal 04000 Chon-Ji Challenge Youth 6-13 F+M C G10-G05 | FR4: 04001 Chon-Ji Challenge Junior-Senior 14+ F+M C G10-G05 | FU4: Totaal 04001 Chon-Ji Challenge Junior-Senior 14+ F+M C G10-G05 | FV4: 05002 S Sparring Youth 6-13 F A/B G04-D03 -150 cm | FZ4: Totaal 05002 S Sparring Youth 6-13 F A/B G04-D03 -150 cm | GA4: 05003 S Sparring Youth 6-13 F A/B G04-D03 -160 cm | GE4: Totaal 05003 S Sparring Youth 6-13 F A/B G04-D03 -160 cm | GF4: 05004 Sparring Youth 6-13 F A D01-D03 -170 cm | GJ4: Totaal 05004 Sparring Youth 6-13 F A D01-D03 -170 cm | GK4: 05006 Sparring Youth 6-13 F B G04-G01 -130 cm | GM4: Totaal 05006 Sparring Youth 6-13 F B G04-G01 -130 cm | GN4: 05007 S Sparring Youth 6-13 F A/B G04-D03 -140 cm | GR4: Totaal 05007 S Sparring Youth 6-13 F A/B G04-D03 -140 cm | GS4: 05010 Sparring Youth 6-13 F B G04-G01 -170 cm | GW4: Totaal 05010 Sparring Youth 6-13 F B G04-G01 -170 cm | GX4: 05012 Sparring Youth 6-13 F C G10-G05 -130 cm | HB4: Totaal 05012 Sparring Youth 6-13 F C G10-G05 -130 cm | HC4: 05013 Sparring Youth 6-13 F C G10-G05 -140 cm | HG4: Totaal 05013 Sparring Youth 6-13 F C G10-G05 -140 cm | HH4: 05014 Sparring Youth 6-13 F C G10-G05 -150 cm | HL4: Totaal 05014 Sparring Youth 6-13 F C G10-G05 -150 cm | HM4: 05015 Sparring Youth 6-13 F C G10-G05 -160 cm | HQ4: Totaal 05015 Sparring Youth 6-13 F C G10-G05 -160 cm | HR4: 05020 S Sparring Youth 6-13 M A/B G04-D03 -150 cm | HV4: Totaal 05020 S Sparring Youth 6-13 M A/B G04-D03 -150 cm | HW4: 05021 S Sparring Youth 6-13 M A/B G04-D03 -160 cm | IA4: Totaal 05021 S Sparring Youth 6-13 M A/B G04-D03 -160 cm | IB4: 05022 S Sparring Youth 6-13 M A/B G04-D03 -170 cm | IF4: Totaal 05022 S Sparring Youth 6-13 M A/B G04-D03 -170 cm | IG4: 05023 S Sparring Youth 6-13 M A/B G04-D03 +170 cm | IH4: Totaal 05023 S Sparring Youth 6-13 M A/B G04-D03 +170 cm | II4: 05024 Sparring Youth 6-13 M B G04-G01 -130 cm | IM4: Totaal 05024 Sparring Youth 6-13 M B G04-G01 -130 cm | IN4: 05025 Sparring Youth 6-13 M B G04-G01 -140 cm | IR4: Totaal 05025 Sparring Youth 6-13 M B G04-G01 -140 cm | IS4: 05030 Sparring Youth 6-13 M C G10-G05 -130 cm | IW4: Totaal 05030 Sparring Youth 6-13 M C G10-G05 -130 cm | IX4: 05031 Sparring Youth 6-13 M C G10-G05 -140 cm | JB4: Totaal 05031 Sparring Youth 6-13 M C G10-G05 -140 cm | JC4: 05032 Sparring Youth 6-13 M C G10-G05 -150 cm | JG4: Totaal 05032 Sparring Youth 6-13 M C G10-G05 -150 cm | JH4: 05033 Sparring Youth 6-13 M C G10-G05 -160 cm | JL4: Totaal 05033 Sparring Youth 6-13 M C G10-G05 -160 cm | JM4: 05034 Sparring Youth 6-13 M C G10-G05 -170 cm | JQ4: Totaal 05034 Sparring Youth 6-13 M C G10-G05 -170 cm | JR4: 05035 Sparring Youth 6-13 M C G10-G05 +170 cm | JV4: Totaal 05035 Sparring Youth 6-13 M C G10-G05 +170 cm | JW4: 05036 S Sparring Junior 14-17 F A/B G04-D03 -45 kg | KA4: Totaal 05036 S Sparring Junior 14-17 F A/B G04-D03 -45 kg | KB4: 05037 S Sparring Junior 14-17 F A/B G04-D03 -50 kg | KF4: Totaal 05037 S Sparring Junior 14-17 F A/B G04-D03 -50 kg | KG4: 05038 S Sparring Junior 14-17 F A/B G04-D03 -55 kg | KK4: Totaal 05038 S Sparring Junior 14-17 F A/B G04-D03 -55 kg | KL4: 05039 S Sparring Junior 14-17 F A/B G04-D03 - 60 kg | KP4: Totaal 05039 S Sparring Junior 14-17 F A/B G04-D03 - 60 kg | KQ4: 05040 Sparring Junior 14-17 F A/B G04-D03 -65 kg | KU4: Totaal 05040 Sparring Junior 14-17 F A/B G04-D03 -65 kg | KV4: 05041 S Sparring Junior 14-17 F A/B G04-D03 +65 kg | KZ4: Totaal 05041 S Sparring Junior 14-17 F A/B G04-D03 +65 kg | LA4: 05048 S Sparring Junior 14-17 F C G10-G05 -50 kg | LC4: Totaal 05048 S Sparring Junior 14-17 F C G10-G05 -50 kg | LD4: 05050 Sparring Junior 14-17 F C G10-G05 -55 kg | LF4: Totaal 05050 Sparring Junior 14-17 F C G10-G05 -55 kg | LG4: 05052 S Sparring Junior 14-17 F C G10-G05 +60 kg | LK4: Totaal 05052 S Sparring Junior 14-17 F C G10-G05 +60 kg | LL4: 05054 S Sparring Junior 14-17 M A/B G04-D03 - 50 kg | LP4: Totaal 05054 S Sparring Junior 14-17 M A/B G04-D03 - 50 kg | LQ4: 05055 Sparring Junior 14-17 M A D01-D03 -56 kg | LU4: Totaal 05055 Sparring Junior 14-17 M A D01-D03 -56 kg | LV4: 05056 Sparring Junior 14-17 M A D01-D03 -62 kg | LZ4: Totaal 05056 Sparring Junior 14-17 M A D01-D03 -62 kg | MA4: 05057 S Sparring Junior 14-17 M A/B G04-D03 -68 kg | MD4: Totaal 05057 S Sparring Junior 14-17 M A/B G04-D03 -68 kg | ME4: 05058 S Sparring Junior 14-17 M A/B G04-D03 -75 kg | MI4: Totaal 05058 S Sparring Junior 14-17 M A/B G04-D03 -75 kg | MJ4: 05059 Sparring Junior 14-17 M A D01-D03 +75 kg | MN4: Totaal 05059 Sparring Junior 14-17 M A D01-D03 +75 kg | MO4: 05061 Sparring Junior 14-17 M B G04-G01 -56 kg | MR4: Totaal 05061 Sparring Junior 14-17 M B G04-G01 -56 kg | MS4: 05062 Sparring Junior 14-17 M B G04-G01 -62 kg | MV4: Totaal 05062 Sparring Junior 14-17 M B G04-G01 -62 kg | MW4: 05065 Sparring Junior 14-17 M B G04-G01 +75 kg | NA4: Totaal 05065 Sparring Junior 14-17 M B G04-G01 +75 kg | NB4: 05067 S Sparring Junior 14-17 M C G10-G05 -62 kg | NF4: Totaal 05067 S Sparring Junior 14-17 M C G10-G05 -62 kg | NG4: 05069 Sparring Junior 14-17 M C G10-G05 -68 kg | NJ4: Totaal 05069 Sparring Junior 14-17 M C G10-G05 -68 kg | NK4: 05071 Sparring Junior 14-17 M C G10-G05 +75 kg | NM4: Totaal 05071 Sparring Junior 14-17 M C G10-G05 +75 kg | NN4: 05072 S Sparring Senior 18+ F A/B G04-D06 -56 kg | NR4: Totaal 05072 S Sparring Senior 18+ F A/B G04-D06 -56 kg | NS4: 05074 Sparring Senior 18+ F A D01-D06 -62 kg | NW4: Totaal 05074 Sparring Senior 18+ F A D01-D06 -62 kg | NX4: 05075 S Sparring Senior 18+ F A D01-D06 -75 kg | NY4: Totaal 05075 S Sparring Senior 18+ F A D01-D06 -75 kg | NZ4: 05077 S Sparring Senior 18+ F A/B G04-D06 +75kg | OD4: Totaal 05077 S Sparring Senior 18+ F A/B G04-D06 +75kg | OE4: 05085 S Sparring Senior 18+ F C G10-G05 -62 kg | OG4: Totaal 05085 S Sparring Senior 18+ F C G10-G05 -62 kg | OH4: 05090 S Sparring Senior 18+ M A/B G04-D06 -57 kg | OK4: Totaal 05090 S Sparring Senior 18+ M A/B G04-D06 -57 kg | OL4: 05091 S Sparring Senior 18+ M A/B G04-D06 -63kg | OP4: Totaal 05091 S Sparring Senior 18+ M A/B G04-D06 -63kg | OQ4: 05092 Sparring Senior 18+ M A D01-D06 -70 kg | OU4: Totaal 05092 Sparring Senior 18+ M A D01-D06 -70 kg | OV4: 05093 S Sparring Senior 18+ M A/B G04-D06 -78 kg | OZ4: Totaal 05093 S Sparring Senior 18+ M A/B G04-D06 -78 kg | PA4: 05094 S Sparring Senior 18+ M A/B G04-D06 -85 kg | PE4: Totaal 05094 S Sparring Senior 18+ M A/B G04-D06 -85 kg | PF4: 05095 S Sparring Senior 18+ M A/B G04-D06 +85 kg | PJ4: Totaal 05095 S Sparring Senior 18+ M A/B G04-D06 +85 kg | PK4: 05098 Sparring Senior 18+ M B G04-G01 -70 kg | PN4: Totaal 05098 Sparring Senior 18+ M B G04-G01 -70 kg | PO4: 05104 Sparring Senior 18+ M C G10-G05 -70 kg | PS4: Totaal 05104 Sparring Senior 18+ M C G10-G05 -70 kg | PT4: 05105 Sparring Senior 18+ M C G10-G05 -78 kg | PX4: Totaal 05105 Sparring Senior 18+ M C G10-G05 -78 kg | PY4: 05106 Sparring Senior 18+ M C G10-G05 -85 kg | QC4: Totaal 05106 Sparring Senior 18+ M C G10-G05 -85 kg | QD4: 05107 Sparring Senior 18+ M C G10-G05 +85 kg | QE4: Totaal 05107 Sparring Senior 18+ M C G10-G05 +85 kg | QF4: 05112 S Sparring Veteran 35+ M A D01-D06 +50 kg | QH4: Totaal 05112 S Sparring Veteran 35+ M A D01-D06 +50 kg | QI4: 06000 Overall Sparring Junior 14-17 F A+B G04-D03 | QL4: Totaal 06000 Overall Sparring Junior 14-17 F A+B G04-D03 | QM4: 06001 Overall Sparring Junior 14-17 M A+B G04-D03 | QP4: Totaal 06001 Overall Sparring Junior 14-17 M A+B G04-D03 | QQ4: 06002 Overall Sparring Senior-Veteran 18+ F A+B G04-D06 | QT4: Totaal 06002 Overall Sparring Senior-Veteran 18+ F A+B G04-D06 | QU4: 06003 Overall Sparring Senior-Veteran 18+ M A+B G04-D06 | QX4: Totaal 06003 Overall Sparring Senior-Veteran 18+ M A+B G04-D06 | QY4: 07000 S Power Breaking Junior 14-17 F A/B G04-D03 | RC4: Totaal 07000 S Power Breaking Junior 14-17 F A/B G04-D03 | RD4: 07002 S Power Breaking Junior 14-17 M A/B G04-D03 | RG4: Totaal 07002 S Power Breaking Junior 14-17 M A/B G04-D03 | RH4: 07004 S Power Breaking Senior 18+ F A/B G04-D06 | RL4: Totaal 07004 S Power Breaking Senior 18+ F A/B G04-D06 | RM4: 07006 S Power Breaking Senior 18+ M A/B G04-D06 | RQ4: Totaal 07006 S Power Breaking Senior 18+ M A/B G04-D06 | RR4: Eindtotaal
A5: Rijlabels | B5: 0. None | C5: 1. Gold | E5: 0. None | F5: 1. Gold | G5: 2. Silver | H5: 3. Bronze | J5: 0. None | K5: 1. Gold | L5: 2. Silver | M5: 3. Bronze | O5: 0. None | P5: 1. Gold | Q5: 2. Silver | R5: 3. Bronze | T5: 0. None | U5: 1. Gold | V5: 2. Silver | W5: 3. Bronze | Y5: 0. None | Z5: 1. Gold | AA5: 2. Silver | AB5: 3. Bronze | AD5: 0. None | AE5: 1. Gold | AF5: 2. Silver | AG5: 3. Bronze | AI5: 0. None | AJ5: 1. Gold | AK5: 2. Silver | AL5: 3. Bronze | AN5: 0. None | AO5: 1. Gold | AP5: 2. Silver | AQ5: 3. Bronze | AS5: 0. None | AT5: 1. Gold | AU5: 2. Silver | AV5: 3. Bronze | AX5: 0. None | AY5: 1. Gold | AZ5: 2. Silver | BA5: 3. Bronze | BC5: 0. None | BD5: 1. Gold | BE5: 2. Silver | BF5: 3. Bronze | BH5: 0. None | BI5: 1. Gold | BJ5: 2. Silver | BK5: 3. Bronze | BM5: 0. None | BN5: 1. Gold | BO5: 2. Silver | BP5: 3. Bronze | BR5: 0. None | BS5: 1. Gold | BT5: 2. Silver | BU5: 3. Bronze | BW5: 0. None | BX5: 1. Gold | BY5: 2. Silver | BZ5: 3. Bronze | CB5: 0. None | CC5: 1. Gold | CD5: 2. Silver | CE5: 3. Bronze | CG5: 0. None | CH5: 1. Gold | CI5: 2. Silver | CJ5: 3. Bronze | CL5: 0. None | CM5: 1. Gold | CO5: 0. None | CP5: 1. Gold | CQ5: 2. Silver | CR5: 3. Bronze | CT5: 0. None | CU5: 1. Gold | CV5: 2. Silver | CX5: 0. None | CY5: 1. Gold | CZ5: 2. Silver | DA5: 3. Bronze | DC5: 0. None | DD5: 1. Gold | DE5: 2. Silver | DF5: 3. Bronze | DH5: 0. None | DI5: 1. Gold | DJ5: 2. Silver | DK5: 3. Bronze | DM5: 0. None | DN5: 1. Gold | DO5: 2. Silver | DP5: 3. Bronze | DR5: 0. None | DS5: 1. Gold | DT5: 2. Silver | DV5: 0. None | DW5: 1. Gold | DX5: 2. Silver | DY5: 3. Bronze | EA5: 0. None | EB5: 1. Gold | EC5: 2. Silver | ED5: 3. Bronze | EF5: 0. None | EG5: 1. Gold | EH5: 2. Silver | EI5: 3. Bronze | EK5: 0. None | EL5: 1. Gold | EM5: 2. Silver | EN5: 3. Bronze | EP5: 0. None | EQ5: 1. Gold | ER5: 2. Silver | ES5: 3. Bronze | EU5: 0. None | EV5: 1. Gold | EW5: 2. Silver | EX5: 3. Bronze | EZ5: 0. None | FA5: 1. Gold | FB5: 2. Silver | FC5: 3. Bronze | FE5: 0. None | FF5: 1. Gold | FG5: 2. Silver | FH5: 3. Bronze | FJ5: 0. None | FK5: 1. Gold | FL5: 3. Bronze | FN5: 0. None | FO5: 1. Gold | FP5: 2. Silver | FR5: 0. None | FS5: 1. Gold | FT5: 2. Silver | FV5: 0. None | FW5: 1. Gold | FX5: 2. Silver | FY5: 3. Bronze | GA5: 0. None | GB5: 1. Gold | GC5: 2. Silver | GD5: 3. Bronze | GF5: 0. None | GG5: 1. Gold | GH5: 2. Silver | GI5: 3. Bronze | GK5: 0. None | GL5: 1. Gold | GN5: 0. None | GO5: 1. Gold | GP5: 2. Silver | GQ5: 3. Bronze | GS5: 0. None | GT5: 1. Gold | GU5: 2. Silver | GV5: 3. Bronze | GX5: 0. None | GY5: 1. Gold | GZ5: 2. Silver | HA5: 3. Bronze | HC5: 0. None | HD5: 1. Gold | HE5: 2. Silver | HF5: 3. Bronze | HH5: 0. None | HI5: 1. Gold | HJ5: 2. Silver | HK5: 3. Bronze | HM5: 0. None | HN5: 1. Gold | HO5: 2. Silver | HP5: 3. Bronze | HR5: 0. None | HS5: 1. Gold | HT5: 2. Silver | HU5: 3. Bronze | HW5: 0. None | HX5: 1. Gold | HY5: 2. Silver | HZ5: 3. Bronze | IB5: 0. None | IC5: 1. Gold | ID5: 2. Silver | IE5: 3. Bronze | IG5: 0. None | II5: 0. None | IJ5: 1. Gold | IK5: 2. Silver | IL5: 3. Bronze | IN5: 0. None | IO5: 1. Gold | IP5: 2. Silver | IQ5: 3. Bronze | IS5: 0. None | IT5: 1. Gold | IU5: 2. Silver | IV5: 3. Bronze | IX5: 0. None | IY5: 1. Gold | IZ5: 2. Silver | JA5: 3. Bronze | JC5: 0. None | JD5: 1. Gold | JE5: 2. Silver | JF5: 3. Bronze | JH5: 0. None | JI5: 1. Gold | JJ5: 2. Silver | JK5: 3. Bronze | JM5: 0. None | JN5: 1. Gold | JO5: 2. Silver | JP5: 3. Bronze | JR5: 0. None | JS5: 1. Gold | JT5: 2. Silver | JU5: 3. Bronze | JW5: 0. None | JX5: 1. Gold | JY5: 2. Silver | JZ5: 3. Bronze | KB5: 0. None | KC5: 1. Gold | KD5: 2. Silver | KE5: 3. Bronze | KG5: 0. None | KH5: 1. Gold | KI5: 2. Silver | KJ5: 3. Bronze | KL5: 0. None | KM5: 1. Gold | KN5: 2. Silver | KO5: 3. Bronze | KQ5: 0. None | KR5: 1. Gold | KS5: 2. Silver | KT5: 3. Bronze | KV5: 0. None | KW5: 1. Gold | KX5: 2. Silver | KY5: 3. Bronze | LA5: 0. None | LB5: 1. Gold | LD5: 0. None | LE5: 1. Gold | LG5: 0. None | LH5: 1. Gold | LI5: 2. Silver | LJ5: 3. Bronze | LL5: 0. None | LM5: 1. Gold | LN5: 2. Silver | LO5: 3. Bronze | LQ5: 0. None | LR5: 1. Gold | LS5: 2. Silver | LT5: 3. Bronze | LV5: 0. None | LW5: 1. Gold | LX5: 2. Silver | LY5: 3. Bronze | MA5: 0. None | MB5: 1. Gold | MC5: 2. Silver | ME5: 0. None | MF5: 1. Gold | MG5: 2. Silver | MH5: 3. Bronze | MJ5: 0. None | MK5: 1. Gold | ML5: 2. Silver | MM5: 3. Bronze | MO5: 0. None | MP5: 1. Gold | MQ5: 2. Silver | MS5: 0. None | MT5: 1. Gold | MU5: 3. Bronze | MW5: 0. None | MX5: 1. Gold | MY5: 2. Silver | MZ5: 3. Bronze | NB5: 0. None | NC5: 1. Gold | ND5: 2. Silver | NE5: 3. Bronze | NG5: 0. None | NH5: 1. Gold | NI5: 2. Silver | NK5: 0. None | NL5: 1. Gold | NN5: 0. None | NO5: 1. Gold | NP5: 2. Silver | NQ5: 3. Bronze | NS5: 0. None | NT5: 1. Gold | NU5: 2. Silver | NV5: 3. Bronze | NX5: 0. None | NZ5: 0. None | OA5: 1. Gold | OB5: 2. Silver | OC5: 3. Bronze | OE5: 0. None | OF5: 1. Gold | OH5: 0. None | OI5: 1. Gold | OJ5: 2. Silver | OL5: 0. None | OM5: 1. Gold | ON5: 2. Silver | OO5: 3. Bronze | OQ5: 0. None | OR5: 1. Gold | OS5: 2. Silver | OT5: 3. Bronze | OV5: 0. None | OW5: 1. Gold | OX5: 2. Silver | OY5: 3. Bronze | PA5: 0. None | PB5: 1. Gold | PC5: 2. Silver | PD5: 3. Bronze | PF5: 0. None | PG5: 1. Gold | PH5: 2. Silver | PI5: 3. Bronze | PK5: 0. None | PL5: 1. Gold | PM5: 2. Silver | PO5: 0. None | PP5: 1. Gold | PQ5: 2. Silver | PR5: 3. Bronze | PT5: 0. None | PU5: 1. Gold | PV5: 2. Silver | PW5: 3. Bronze | PY5: 0. None | PZ5: 1. Gold | QA5: 2. Silver | QB5: 3. Bronze | QD5: 0. None | QF5: 0. None | QG5: 1. Gold | QI5: 0. None | QJ5: 1. Gold | QK5: 2. Silver | QM5: 0. None | QN5: 1. Gold | QO5: 2. Silver | QQ5: 0. None | QR5: 1. Gold | QS5: 2. Silver | QU5: 0. None | QV5: 1. Gold | QW5: 2. Silver | QY5: 0. None | QZ5: 1. Gold | RA5: 2. Silver | RB5: 3. Bronze | RD5: 0. None | RE5: 1. Gold | RF5: 3. Bronze | RH5: 0. None | RI5: 1. Gold | RJ5: 2. Silver | RK5: 3. Bronze | RM5: 0. None | RN5: 1. Gold | RO5: 2. Silver | RP5: 3. Bronze
A6: Aberdeenshire Blackbelt Club | BC6: 1 | BG6: 1 | MG6: 1 | MI6: 1 | QM6: 1 | QP6: 1 | RD6: 1 | RG6: 1 | RR6: 4
A7: BOOZ ITF Taekwon-Do | DC7: 1 | DG7: 1 | RR7: 1
A8: Braveheart Martial Arts | T8: 1 | X8: 1 | AI8: 2 | AM8: 2 | DA8: 1 | DB8: 1 | EF8: 1 | EJ8: 1 | HA8: 1 | HB8: 1 | HR8: 1 | HV8: 1 | IB8: 1 | IF8: 1 | NS8: 1 | NW8: 1 | OX8: 1 | OZ8: 1 | QW8: 1 | QX8: 1 | RR8: 11
A9: Chong Do Kwan | E9: 1 | I9: 1 | J9: 1 | M9: 1 | N9: 2 | T9: 2 | X9: 2 | AN9: 1 | AR9: 1 | AX9: 1 | BB9: 1 | FN9: 6 | FQ9: 6 | FV9: 1 | FZ9: 1 | GZ9: 1 | HB9: 1 | HH9: 1 | HI9: 1 | HL9: 2 | HM9: 1 | HQ9: 1 | IU9: 1 | IW9: 1 | JJ9: 1 | JL9: 1 | RR9: 20
A10: Christiania NTN Taekwon-Do Norway | CT10: 1 | CW10: 1 | EA10: 1 | EE10: 1 | EU10: 1 | EY10: 1 | FR10: 1 | FU10: 1 | NZ10: 1 | OD10: 1 | OQ10: 1 | OU10: 1 | OY10: 1 | OZ10: 1 | PY10: 1 | QC10: 1 | QQ10: 1 | QT10: 1 | QU10: 2 | QX10: 2 | RH10: 1 | RL10: 1 | RR10: 12
A11: Difesa Sports | O11: 1 | S11: 1 | AS11: 1 | AW11: 1 | BM11: 1 | BQ11: 1 | BW11: 1 | CA11: 1 | CO11: 1 | CS11: 1 | FB11: 1 | FD11: 1 | FN11: 3 | FQ11: 3 | HH11: 1 | HL11: 1 | IS11: 1 | IW11: 1 | KT11: 1 | KU11: 1 | LV11: 1 | LZ11: 1 | NT11: 1 | NW11: 1 | QA11: 1 | QC11: 1 | RJ11: 1 | RL11: 1 | RR11: 16
A12: England Taekwon-Do Association | BD12: 1 | BG12: 1 | CG12: 1 | CK12: 1 | CU12: 1 | CW12: 1 | EA12: 1 | EE12: 1 | ER12: 1 | ET12: 1 | EU12: 2 | EY12: 2 | KE12: 1 | KF12: 1 | NL12: 1 | NM12: 1 | NP12: 1 | NR12: 1 | OQ12: 1 | OU12: 1 | PA12: 1 | PE12: 1 | PR12: 1 | PS12: 1 | PV12: 1 | PX12: 1 | QQ12: 1 | QT12: 1 | QU12: 1 | QX12: 1 | RR12: 16
A13: Frolunda TKD | BW13: 1 | CA13: 1 | MK13: 1 | MN13: 1 | QM13: 1 | QP13: 1 | RR13: 3
A14: Ge-Baek | BN14: 1 | BQ14: 1 | RB14: 1 | RC14: 1 | RM14: 1 | RQ14: 1 | RR14: 3
A15: GMS Martial arts | Y15: 1 | AC15: 1 | BW15: 4 | CA15: 4 | IG15: 1 | IH15: 1 | LL15: 1 | LP15: 1 | LQ15: 2 | LS15: 1 | LU15: 3 | RD15: 3 | RG15: 3 | RR15: 13
A16: HWA RANG SAN PEDRO ALCANTARA | AI16: 1 | AM16: 1 | AX16: 1 | BB16: 1 | HR16: 1 | HV16: 1 | IS16: 1 | IW16: 1 | RR16: 4
A17: Hyong Celje | BH17: 2 | BL17: 2 | KD17: 1 | KF17: 1 | KI17: 1 | KK17: 1 | KM17: 1 | KP17: 1 | KS17: 1 | KU17: 1 | KW17: 1 | KZ17: 1 | QI17: 2 | QJ17: 1 | QL17: 3 | RR17: 10
A18: I-Kick Martial Arts | E18: 1 | I18: 1 | J18: 1 | N18: 1 | O18: 1 | S18: 1 | AN18: 2 | AQ18: 1 | AR18: 3 | BW18: 1 | CA18: 1 | CI18: 1 | CK18: 1 | DN18: 1 | DQ18: 1 | EB18: 1 | EE18: 1 | FN18: 5 | FQ18: 5 | FR18: 1 | FT18: 1 | FU18: 2 | FV18: 1 | FZ18: 1 | HM18: 1 | HP18: 1 | HQ18: 2 | JC18: 2 | JG18: 2 | JH18: 1 | JL18: 1 | ML18: 1 | MN18: 1 | NI18: 1 | NJ18: 1 | OF18: 1 | OG18: 1 | OR18: 1 | OU18: 1 | QU18: 1 | QX18: 1 | RR18: 28
A19: IMPACT | AD19: 1 | AH19: 1 | DC19: 2 | DG19: 2 | HW19: 1 | IA19: 1 | NS19: 1 | NW19: 1 | NX19: 1 | NY19: 1 | QQ19: 2 | QT19: 2 | RH19: 2 | RL19: 2 | RR19: 10
A20: ITF Fusion | BJ20: 1 | BL20: 1 | DV20: 1 | DY20: 1 | DZ20: 2 | JY20: 1 | KA20: 1 | OM20: 1 | OP20: 1 | OQ20: 1 | OU20: 1 | QF20: 1 | QH20: 1 | RR20: 7
A21: ITF JAPAN - KANSAI | CZ21: 1 | DB21: 1 | RR21: 1
A22: ITF Paris | CX22: 1 | DB22: 1 | DC22: 1 | DG22: 1 | EF22: 1 | EJ22: 1 | EM22: 1 | EO22: 1 | NN22: 1 | NR22: 1 | OV22: 1 | OZ22: 1 | PA22: 1 | PE22: 1 | RR22: 7
A23: Jungshin Kwan | J23: 1 | N23: 1 | O23: 1 | S23: 1 | T23: 1 | X23: 1 | AN23: 2 | AP23: 1 | AR23: 3 | AS23: 1 | AW23: 1 | DP23: 1 | DQ23: 1 | DT23: 1 | DU23: 1 | EU23: 1 | EY23: 1 | FA23: 1 | FD23: 1 | FN23: 7 | FQ23: 7 | FR23: 4 | FU23: 4 | HC23: 1 | HG23: 1 | HH23: 1 | HL23: 1 | IS23: 1 | IW23: 1 | JC23: 2 | JG23: 2 | JH23: 2 | JL23: 2 | PT23: 1 | PX23: 1 | PY23: 1 | QC23: 1 | RR23: 31
A24: Just For Kicks | CQ24: 1 | CS24: 1 | RR24: 1
A25: Kassem Gym | FW25: 1 | FX25: 1 | FY25: 1 | FZ25: 3 | GK25: 1 | GM25: 1 | GO25: 1 | GP25: 1 | GR25: 2 | GU25: 1 | GW25: 1 | GX25: 1 | HB25: 1 | HF25: 1 | HG25: 1 | HH25: 1 | HL25: 1 | HY25: 1 | IA25: 1 | IL25: 1 | IM25: 1 | IV25: 1 | IW25: 1 | IZ25: 1 | JB25: 1 | JC25: 1 | JG25: 1 | JH25: 2 | JL25: 2 | KL25: 1 | KP25: 1 | KV25: 1 | KX25: 1 | KY25: 1 | KZ25: 3 | LB25: 1 | LC25: 1 | LH25: 1 | LI25: 1 | LK25: 2 | LQ25: 1 | LU25: 1 | LV25: 1 | LZ25: 1 | MA25: 1 | MD25: 1 | NS25: 1 | NW25: 1 | NZ25: 1 | OD25: 1 | OT25: 1 | OU25: 1 | PG25: 1 | PJ25: 1 | RR25: 31
A26: Koguryo | E26: 3 | I26: 3 | AI26: 1 | AM26: 1 | BH26: 1 | BL26: 1 | CV26: 1 | CW26: 1 | EC26: 1 | EE26: 1 | FE26: 1 | FI26: 1 | FV26: 1 | FZ26: 1 | GC26: 1 | GE26: 1 | GH26: 1 | GJ26: 1 | GN26: 2 | GR26: 2 | IN26: 1 | IR26: 1 | JX26: 1 | KA26: 1 | KH26: 1 | KK26: 1 | NN26: 1 | NO26: 1 | NR26: 2 | NU26: 1 | NW26: 1 | NX26: 1 | NY26: 1 | OA26: 1 | OD26: 1 | OL26: 1 | OP26: 1 | OQ26: 1 | OU26: 1 | PF26: 1 | PJ26: 1 | QK26: 1 | QL26: 1 | QQ26: 2 | QR26: 1 | QT26: 3 | RR26: 28
A27: MARRIS GYM | E27: 1 | I27: 1 | J27: 1 | N27: 1 | AI27: 1 | AM27: 1 | AS27: 1 | AW27: 1 | GS27: 1 | GW27: 1 | HC27: 1 | HG27: 1 | IK27: 1 | IM27: 1 | IS27: 1 | IW27: 1 | RR27: 8
A28: Ohdokwan | AI28: 1 | AM28: 1 | AN28: 1 | AR28: 1 | BH28: 1 | BL28: 1 | BO28: 1 | BQ28: 1 | BW28: 1 | CA28: 1 | CB28: 1 | CC28: 1 | CF28: 2 | DK28: 1 | DL28: 1 | DR28: 1 | DS28: 1 | DU28: 2 | EP28: 1 | ET28: 1 | EZ28: 1 | FD28: 1 | FN28: 1 | FQ28: 1 | FR28: 3 | FU28: 3 | KG28: 1 | KK28: 1 | KL28: 1 | KP28: 1 | MS28: 1 | MU28: 1 | MV28: 2 | MW28: 1 | NA28: 1 | NB28: 1 | ND28: 1 | NF28: 2 | PF28: 1 | PJ28: 1 | QB28: 1 | QC28: 1 | QZ28: 1 | RC28: 1 | RD28: 1 | RG28: 1 | RM28: 3 | RO28: 1 | RP28: 1 | RQ28: 5 | RR28: 32
A29: PUMA England | F29: 1 | I29: 1 | U29: 1 | X29: 1 | AD29: 1 | AH29: 1 | AY29: 1 | BB29: 1 | BC29: 1 | BG29: 1 | BH29: 2 | BK29: 1 | BL29: 3 | BW29: 2 | CA29: 2 | CP29: 1 | CS29: 1 | DX29: 1 | DZ29: 1 | EF29: 1 | EJ29: 1 | FK29: 1 | FM29: 1 | FN29: 2 | FQ29: 2 | FV29: 1 | FZ29: 1 | HH29: 1 | HL29: 1 | IT29: 1 | IW29: 1 | JW29: 1 | JZ29: 1 | KA29: 2 | KG29: 1 | KK29: 1 | MH29: 1 | MI29: 1 | MM29: 1 | MN29: 1 | OQ29: 1 | OU29: 1 | QM29: 1 | QN29: 1 | QP29: 2 | RE29: 1 | RG29: 1 | RR29: 28
A30: RasBudo ITF Taekwon-do rf | FV30: 1 | FZ30: 1 | MA30: 1 | MD30: 1 | RR30: 2
A31: SLOVENIA TEAM | IB31: 1 | IF31: 1 | JW31: 1 | KA31: 1 | LR31: 1 | LU31: 1 | OI31: 1 | OK31: 1 | RR31: 4
A32: Soo Bak-Gi | E32: 1 | I32: 1 | T32: 1 | X32: 1 | AI32: 1 | AM32: 1 | AS32: 2 | AU32: 1 | AW32: 3 | CB32: 1 | CE32: 1 | CF32: 2 | CH32: 1 | CK32: 1 | CX32: 1 | DB32: 1 | FN32: 4 | FQ32: 4 | HH32: 1 | HL32: 1 | HR32: 1 | HV32: 1 | IX32: 2 | JB32: 2 | LY32: 1 | LZ32: 1 | MO32: 1 | MR32: 1 | NH32: 1 | NJ32: 1 | OV32: 1 | OZ32: 1 | PW32: 1 | PX32: 1 | RH32: 1 | RL32: 1 | RR32: 24
A33: South queensferry TKD | DD33: 1 | DG33: 1 | EA33: 1 | EE33: 1 | EG33: 1 | EJ33: 1 | ON33: 1 | OP33: 1 | PA33: 1 | PE33: 1 | QU33: 1 | QX33: 1 | RR33: 6
A34: Sportschool Tim Kool | C34: 1 | D34: 1 | E34: 5 | I34: 5 | J34: 3 | N34: 3 | O34: 2 | S34: 2 | T34: 9 | X34: 9 | AD34: 3 | AH34: 3 | AI34: 1 | AJ34: 1 | AM34: 2 | AN34: 4 | AR34: 4 | AX34: 2 | BB34: 2 | BH34: 1 | BI34: 1 | BL34: 2 | BW34: 2 | CA34: 2 | CB34: 1 | CF34: 1 | CJ34: 1 | CK34: 1 | CL34: 1 | CN34: 1 | CY34: 1 | DB34: 1 | DC34: 1 | DE34: 1 | DG34: 2 | DM34: 2 | DO34: 1 | DQ34: 3 | ED34: 1 | EE34: 1 | EH34: 1 | EJ34: 1 | EP34: 1 | ET34: 1 | EU34: 1 | EY34: 1 | FF34: 1 | FH34: 1 | FI34: 2 | FJ34: 1 | FM34: 1 | FN34: 14 | FQ34: 14 | FR34: 6 | FU34: 6 | FV34: 1 | FZ34: 1 | GB34: 1 | GE34: 1 | GI34: 1 | GJ34: 1 | GQ34: 1 | GR34: 1 | GX34: 4 | HB34: 4 | HC34: 3 | HG34: 3 | HH34: 2 | HL34: 2 | HM34: 1 | HQ34: 1 | HT34: 1 | HV34: 1 | HW34: 2 | IA34: 2 | IP34: 1 | IQ34: 1 | IR34: 2 | IS34: 2 | IW34: 2 | JC34: 3 | JG34: 3 | KB34: 1 | KF34: 1 | KN34: 1 | KP34: 1 | LQ34: 1 | LU34: 1 | LV34: 1 | LZ34: 1 | MA34: 1 | MD34: 1 | ME34: 1 | MI34: 1 | MJ34: 2 | MN34: 2 | MX34: 1 | MY34: 1 | NA34: 2 | NE34: 1 | NF34: 1 | NG34: 1 | NJ34: 1 | NV34: 1 | NW34: 1 | NZ34: 1 | OD34: 1 | OE34: 1 | OG34: 1 | OO34: 1 | OP34: 1 | OW34: 1 | OZ34: 1 | PA34: 1 | PC34: 1 | PE34: 2 | PH34: 1 | PJ34: 1 | QI34: 1 | QL34: 1 | QM34: 4 | QP34: 4 | QQ34: 1 | QT34: 1 | QU34: 3 | QV34: 1 | QX34: 4 | RM34: 1 | RQ34: 1 | RR34: 126
A35: Sportschule Monheim | DC35: 1 | DG35: 1 | DI35: 1 | DL35: 1 | EK35: 1 | EO35: 1 | EP35: 1 | ES35: 1 | ET35: 2 | NQ35: 1 | NR35: 1 | NS35: 1 | NW35: 1 | OL35: 1 | OP35: 1 | OV35: 1 | OZ35: 1 | PM35: 1 | PN35: 1 | QS35: 1 | QT35: 1 | RR35: 11
A36: sportschuledamato | H36: 1 | I36: 1 | O36: 2 | P36: 1 | Q36: 1 | S36: 4 | AN36: 1 | AR36: 1 | AX36: 1 | BB36: 1 | BH36: 2 | BL36: 2 | EF36: 1 | EJ36: 1 | EW36: 1 | EY36: 1 | FN36: 5 | FP36: 1 | FQ36: 6 | FR36: 1 | FU36: 1 | FV36: 1 | FZ36: 1 | GY36: 1 | HB36: 1 | HC36: 1 | HG36: 1 | HH36: 1 | HJ36: 1 | HL36: 2 | IY36: 1 | JB36: 1 | JC36: 1 | JG36: 1 | KC36: 1 | KF36: 1 | KL36: 1 | KP36: 1 | OQ36: 1 | OU36: 1 | PO36: 1 | PS36: 1 | QI36: 1 | QL36: 1 | QY36: 1 | RA36: 1 | RC36: 2 | RR36: 32
A37: T.A.Nimjae | E37: 2 | I37: 2 | J37: 1 | N37: 1 | O37: 1 | S37: 1 | T37: 1 | V37: 1 | X37: 2 | AB37: 1 | AC37: 1 | AS37: 1 | AW37: 1 | FC37: 1 | FD37: 1 | FN37: 5 | FQ37: 5 | FR37: 1 | FU37: 1 | GS37: 2 | GW37: 2 | GX37: 1 | HB37: 1 | HC37: 3 | HG37: 3 | HX37: 1 | IA37: 1 | IX37: 1 | JB37: 1 | PP37: 1 | PS37: 1 | RR37: 24
A38: Taekwon-Do Academy Graziella Idili | E38: 1 | I38: 1 | L38: 1 | N38: 1 | T38: 1 | X38: 1 | AS38: 1 | AW38: 1 | AX38: 1 | AZ38: 1 | BB38: 2 | BF38: 1 | BG38: 1 | BP38: 1 | BQ38: 1 | BW38: 1 | BY38: 1 | CA38: 2 | CD38: 1 | CF38: 1 | FG38: 1 | FI38: 1 | FN38: 3 | FQ38: 3 | FV38: 1 | FZ38: 1 | GF38: 1 | GJ38: 1 | GX38: 1 | HB38: 1 | HH38: 1 | HL38: 1 | IS38: 1 | IW38: 1 | IX38: 1 | JB38: 1 | LV38: 1 | LZ38: 1 | MA38: 1 | MB38: 1 | MD38: 2 | QO38: 1 | QP38: 1 | RR38: 25
A39: Taekwon-do Den Hoorn | J39: 3 | N39: 3 | T39: 2 | W39: 1 | X39: 3 | AN39: 3 | AR39: 3 | AX39: 1 | BB39: 1 | EU39: 1 | EY39: 1 | FN39: 12 | FQ39: 12 | FR39: 1 | FU39: 1 | GX39: 1 | HB39: 1 | HC39: 1 | HE39: 1 | HG39: 2 | HH39: 1 | HK39: 1 | HL39: 2 | HM39: 1 | HQ39: 1 | IS39: 2 | IW39: 2 | IX39: 3 | JB39: 3 | PU39: 1 | PX39: 1 | RR39: 36
A40: Taekwon-Do Excel | AD40: 2 | AH40: 2 | IN40: 1 | IO40: 1 | IR40: 2 | RR40: 4
A41: Taekwon-Do IN NAE DO KWAN | E41: 1 | G41: 1 | I41: 2 | J41: 2 | N41: 2 | AL41: 1 | AM41: 1 | AN41: 2 | AR41: 2 | BW41: 1 | CA41: 1 | EL41: 1 | EO41: 1 | EX41: 1 | EY41: 1 | FN41: 4 | FQ41: 4 | FR41: 1 | FU41: 1 | GD41: 1 | GE41: 1 | GT41: 1 | GW41: 1 | HH41: 2 | HL41: 2 | IB41: 1 | IF41: 1 | JA41: 1 | JB41: 1 | JF41: 1 | JG41: 1 | LT41: 1 | LU41: 1 | LV41: 1 | LZ41: 1 | OQ41: 1 | OU41: 1 | PA41: 1 | PE41: 1 | PQ41: 1 | PS41: 1 | QM41: 1 | QP41: 1 | QU41: 1 | QX41: 1 | RR41: 29
A42: Taekwon-Do ITF Nimes | DV42: 1 | DW42: 1 | DZ42: 2 | RM42: 1 | RQ42: 1 | RR42: 3
A43: Taekwondo Martial Arts Center Delft | EU43: 2 | EY43: 2 | FN43: 3 | FQ43: 3 | FR43: 1 | FU43: 1 | HC43: 1 | HG43: 1 | HH43: 2 | HL43: 2 | HM43: 1 | HQ43: 1 | IS43: 1 | IW43: 1 | JD43: 1 | JG43: 1 | JO43: 1 | JQ43: 1 | JR43: 1 | JV43: 1 | JW43: 1 | KA43: 1 | LD43: 1 | LF43: 1 | NC43: 1 | NF43: 1 | QY43: 1 | RC43: 1 | RR43: 18
A44: Taekwondo Middelburg | O44: 1 | R44: 1 | S44: 2 | AD44: 1 | AG44: 1 | AH44: 2 | AN44: 1 | AO44: 1 | AR44: 2 | AX44: 1 | BB44: 1 | CB44: 1 | CF44: 1 | FN44: 5 | FQ44: 5 | HC44: 1 | HG44: 1 | HM44: 1 | HQ44: 1 | IX44: 3 | JB44: 3 | MA44: 1 | MD44: 1 | ME44: 1 | MI44: 1 | OQ44: 1 | OU44: 1 | QM44: 1 | QP44: 1 | QU44: 1 | QX44: 1 | RR44: 23
A45: taekwon-do norden | CX45: 1 | DB45: 1 | NX45: 1 | NY45: 1 | RR45: 2
A46: Taekwon-Do School Martowirono | AI46: 2 | AM46: 2 | BM46: 2 | BQ46: 2 | CB46: 3 | CF46: 3 | EN46: 1 | EO46: 1 | EP46: 1 | ET46: 1 | HZ46: 1 | IA46: 1 | KG46: 1 | KK46: 1 | MQ46: 1 | MR46: 1 | MS46: 1 | MT46: 1 | MV46: 2 | OJ46: 1 | OK46: 1 | PA46: 1 | PE46: 1 | QY46: 2 | RC46: 2 | RD46: 3 | RG46: 3 | RM46: 1 | RQ46: 1 | RR46: 22
A47: Taekwon-Do So San | Z47: 1 | AC47: 1 | AK47: 1 | AM47: 1 | BH47: 1 | BL47: 1 | HR47: 3 | HV47: 3 | KO47: 1 | KP47: 1 | RR47: 7
A48: Taekwon-Do Team Vrijsen | J48: 2 | N48: 2 | T48: 1 | X48: 1 | AI48: 2 | AM48: 2 | AS48: 2 | AW48: 2 | AX48: 1 | BB48: 1 | BT48: 1 | BU48: 1 | BV48: 2 | DJ48: 1 | DL48: 1 | HC48: 1 | HG48: 1 | HH48: 1 | HL48: 1 | HN48: 1 | HQ48: 1 | HU48: 1 | HV48: 1 | IG48: 1 | IH48: 1 | JE48: 1 | JG48: 1 | JN48: 1 | JQ48: 1 | JS48: 1 | JV48: 1 | KR48: 1 | KU48: 1 | LA48: 1 | LC48: 1 | LJ48: 1 | LK48: 1 | LL48: 1 | LP48: 1 | MP48: 1 | MR48: 1 | OB48: 1 | OD48: 1 | OV48: 1 | OZ48: 1 | PK48: 1 | PN48: 1 | RD48: 1 | RG48: 1 | RH48: 1 | RK48: 1 | RL48: 2 | RM48: 1 | RQ48: 1 | RR48: 31
A49: Taekwon-Do Vereniging Hwa Rangdo - Zeewolde | E49: 2 | I49: 2 | AA49: 1 | AC49: 1 | AD49: 2 | AH49: 2 | AS49: 1 | AW49: 1 | AX49: 1 | BB49: 1 | BW49: 2 | CA49: 2 | CB49: 2 | CF49: 2 | DF49: 1 | DG49: 1 | EP49: 1 | ET49: 1 | FN49: 2 | FQ49: 2 | GA49: 1 | GE49: 1 | IB49: 1 | IF49: 1 | JC49: 1 | JG49: 1 | MA49: 1 | MD49: 1 | QM49: 1 | QP49: 1 | RD49: 1 | RG49: 1 | RR49: 21
A50: Taekwondo vereniging Taekyon Houten | AN50: 1 | AR50: 1 | AX50: 4 | BA50: 1 | BB50: 5 | IS50: 1 | IW50: 1 | IX50: 2 | JB50: 2 | JC50: 1 | JG50: 1 | JI50: 1 | JK50: 1 | JL50: 2 | RR50: 12
A51: taekwondo-beuk | AD51: 1 | AH51: 1 | BC51: 1 | BG51: 1 | BH51: 1 | BL51: 1 | BW51: 1 | CA51: 1 | CX51: 2 | DB51: 2 | DV51: 2 | DZ51: 2 | EF51: 2 | EJ51: 2 | IB51: 1 | IF51: 1 | KJ51: 1 | KK51: 1 | KQ51: 1 | KU51: 1 | LV51: 1 | LZ51: 1 | MA51: 1 | MD51: 1 | OC51: 1 | OD51: 1 | PI51: 1 | PJ51: 1 | QM51: 1 | QP51: 1 | QU51: 1 | QX51: 1 | RH51: 1 | RL51: 1 | RM51: 1 | RN51: 1 | RQ51: 2 | RR51: 22
A52: Taekyon Berghem | E52: 1 | I52: 1 | AD52: 1 | AH52: 1 | EF52: 1 | EJ52: 1 | EK52: 1 | EO52: 1 | GV52: 1 | GW52: 1 | ID52: 1 | IF52: 1 | OH52: 1 | OK52: 1 | RR52: 7
A53: Tan Gun Sports e.V. | GG53: 1 | GJ53: 1 | GL53: 1 | GM53: 1 | HR53: 1 | HS53: 1 | HV53: 2 | IJ53: 1 | IM53: 1 | MF53: 1 | MI53: 1 | PB53: 1 | PE53: 1 | RR53: 7
A54: Tanny Academy of Martial Arts | AE54: 1 | AH54: 1 | CO54: 1 | CS54: 1 | DH54: 1 | DL54: 1 | II54: 1 | IM54: 1 | NZ54: 1 | OD54: 1 | RH54: 1 | RI54: 1 | RL54: 2 | RR54: 7
A55: Tapilatu Sportcenter | B55: 1 | D55: 1 | E55: 1 | I55: 1 | O55: 1 | S55: 1 | AD55: 1 | AH55: 1 | AI55: 1 | AM55: 1 | AX55: 3 | BB55: 3 | BW55: 2 | CA55: 2 | CB55: 1 | CF55: 1 | EZ55: 1 | FD55: 1 | FN55: 4 | FQ55: 4 | GF55: 1 | GJ55: 1 | GS55: 1 | GW55: 1 | HM55: 1 | HQ55: 1 | HR55: 1 | HV55: 1 | IN55: 1 | IR55: 1 | IS55: 1 | IW55: 1 | JC55: 1 | JG55: 1 | JU55: 1 | JV55: 1 | LM55: 1 | LO55: 1 | LP55: 2 | MZ55: 1 | NA55: 1 | QD55: 1 | QE55: 1 | RF55: 1 | RG55: 1 | RR55: 29
A56: Team Carvalho Sports / TS Amsterdam | E56: 1 | I56: 1 | J56: 2 | N56: 2 | AD56: 1 | AH56: 1 | AI56: 2 | AM56: 2 | AV56: 1 | AW56: 1 | AX56: 2 | BB56: 2 | BM56: 1 | BQ56: 1 | BS56: 1 | BV56: 1 | BW56: 2 | CA56: 2 | FL56: 1 | FM56: 1 | FN56: 5 | FQ56: 5 | FR56: 1 | FU56: 1 | FV56: 1 | FZ56: 1 | HC56: 1 | HG56: 1 | HH56: 1 | HL56: 1 | HW56: 3 | IA56: 3 | IC56: 1 | IF56: 1 | JC56: 2 | JG56: 2 | JM56: 1 | JP56: 1 | JQ56: 2 | JT56: 1 | JV56: 1 | KB56: 1 | KF56: 1 | LE56: 1 | LF56: 1 | LQ56: 1 | LU56: 1 | LV56: 1 | LZ56: 1 | MA56: 1 | MD56: 1 | OL56: 1 | OP56: 1 | PT56: 1 | PX56: 1 | PZ56: 1 | QC56: 1 | QG56: 1 | QH56: 1 | QM56: 2 | QP56: 2 | RR56: 43
A57: TKD SPIRIT ASSOCIATION | BE57: 1 | BG57: 1 | FJ57: 1 | FM57: 1 | RR57: 2
A58: TOTAL TKD | Y58: 2 | AC58: 2 | CR58: 1 | CS58: 1 | IE58: 1 | IF58: 1 | IG58: 1 | IH58: 1 | NS58: 1 | NW58: 1 | OV58: 1 | OZ58: 1 | PF58: 1 | PJ58: 1 | QU58: 2 | QX58: 2 | RR58: 10
A59: Trondheim Taekwon-Do Klubb | BX59: 1 | CA59: 1 | DC59: 1 | DG59: 1 | LW59: 1 | LZ59: 1 | NX59: 1 | NY59: 1 | QM59: 1 | QP59: 1 | QQ59: 1 | QT59: 1 | RR59: 6
A60: True Warrior | BW60: 1 | CA60: 1 | EI60: 1 | EJ60: 1 | MC60: 1 | MD60: 1 | OS60: 1 | OU60: 1 | PD60: 1 | PE60: 1 | QM60: 1 | QP60: 1 | QU60: 2 | QX60: 2 | RR60: 8
A61: University of Limerick Tae Kwon-Do | OQ61: 1 | OU61: 1 | RR61: 1
A62: Værnes NTN Taekwon-Do klubb | BZ62: 1 | CA62: 1 | CX62: 1 | DB62: 1 | LX62: 1 | LZ62: 1 | QM62: 1 | QP62: 1 | RR62: 4
A63: Vision TKD | AN63: 1 | AR63: 1 | FN63: 1 | FQ63: 1 | JC63: 1 | JG63: 1 | RR63: 3
A64: West Clare & Quin | J64: 1 | K64: 1 | N64: 2 | AF64: 1 | AH64: 1 | AI64: 1 | AM64: 1 | AT64: 1 | AW64: 1 | BR64: 1 | BV64: 1 | BW64: 1 | CA64: 1 | CM64: 1 | CN64: 1 | EQ64: 1 | ET64: 1 | EU64: 1 | EV64: 1 | EY64: 2 | FN64: 2 | FO64: 1 | FQ64: 3 | FR64: 3 | FS64: 1 | FU64: 4 | HD64: 1 | HG64: 1 | HO64: 1 | HQ64: 1 | HR64: 1 | HV64: 1 | HW64: 1 | IA64: 1 | IX64: 1 | JB64: 1 | LG64: 1 | LK64: 1 | LN64: 1 | LP64: 1 | NK64: 1 | NM64: 1 | PL64: 1 | PN64: 1 | PO64: 1 | PS64: 1 | PT64: 1 | PX64: 1 | RR64: 29
A65: Eindtotaal | B65: 1 | C65: 1 | D65: 2 | E65: 21 | F65: 1 | G65: 1 | H65: 1 | I65: 24 | J65: 18 | K65: 1 | L65: 1 | M65: 1 | N65: 21 | O65: 10 | P65: 1 | Q65: 1 | R65: 1 | S65: 13 | T65: 19 | U65: 1 | V65: 1 | W65: 1 | X65: 22 | Y65: 3 | Z65: 1 | AA65: 1 | AB65: 1 | AC65: 6 | AD65: 14 | AE65: 1 | AF65: 1 | AG65: 1 | AH65: 17 | AI65: 16 | AJ65: 1 | AK65: 1 | AL65: 1 | AM65: 19 | AN65: 19 | AO65: 1 | AP65: 1 | AQ65: 1 | AR65: 22 | AS65: 10 | AT65: 1 | AU65: 1 | AV65: 1 | AW65: 13 | AX65: 19 | AY65: 1 | AZ65: 1 | BA65: 1 | BB65: 22 | BC65: 3 | BD65: 1 | BE65: 1 | BF65: 1 | BG65: 6 | BH65: 11 | BI65: 1 | BJ65: 1 | BK65: 1 | BL65: 14 | BM65: 4 | BN65: 1 | BO65: 1 | BP65: 1 | BQ65: 7 | BR65: 1 | BS65: 1 | BT65: 1 | BU65: 1 | BV65: 4 | BW65: 23 | BX65: 1 | BY65: 1 | BZ65: 1 | CA65: 26 | CB65: 10 | CC65: 1 | CD65: 1 | CE65: 1 | CF65: 13 | CG65: 1 | CH65: 1 | CI65: 1 | CJ65: 1 | CK65: 4 | CL65: 1 | CM65: 1 | CN65: 2 | CO65: 2 | CP65: 1 | CQ65: 1 | CR65: 1 | CS65: 5 | CT65: 1 | CU65: 1 | CV65: 1 | CW65: 3 | CX65: 6 | CY65: 1 | CZ65: 1 | DA65: 1 | DB65: 9 | DC65: 7 | DD65: 1 | DE65: 1 | DF65: 1 | DG65: 10 | DH65: 1 | DI65: 1 | DJ65: 1 | DK65: 1 | DL65: 4 | DM65: 2 | DN65: 1 | DO65: 1 | DP65: 1 | DQ65: 5 | DR65: 1 | DS65: 1 | DT65: 1 | DU65: 3 | DV65: 4 | DW65: 1 | DX65: 1 | DY65: 1 | DZ65: 7 | EA65: 3 | EB65: 1 | EC65: 1 | ED65: 1 | EE65: 6 | EF65: 7 | EG65: 1 | EH65: 1 | EI65: 1 | EJ65: 10 | EK65: 2 | EL65: 1 | EM65: 1 | EN65: 1 | EO65: 5 | EP65: 5 | EQ65: 1 | ER65: 1 | ES65: 1 | ET65: 8 | EU65: 9 | EV65: 1 | EW65: 1 | EX65: 1 | EY65: 12 | EZ65: 2 | FA65: 1 | FB65: 1 | FC65: 1 | FD65: 5 | FE65: 1 | FF65: 1 | FG65: 1 | FH65: 1 | FI65: 4 | FJ65: 2 | FK65: 1 | FL65: 1 | FM65: 4 | FN65: 93 | FO65: 1 | FP65: 1 | FQ65: 95 | FR65: 24 | FS65: 1 | FT65: 1 | FU65: 26 | FV65: 9 | FW65: 1 | FX65: 1 | FY65: 1 | FZ65: 12 | GA65: 1 | GB65: 1 | GC65: 1 | GD65: 1 | GE65: 4 | GF65: 2 | GG65: 1 | GH65: 1 | GI65: 1 | GJ65: 5 | GK65: 1 | GL65: 1 | GM65: 2 | GN65: 2 | GO65: 1 | GP65: 1 | GQ65: 1 | GR65: 5 | GS65: 4 | GT65: 1 | GU65: 1 | GV65: 1 | GW65: 7 | GX65: 8 | GY65: 1 | GZ65: 1 | HA65: 1 | HB65: 11 | HC65: 14 | HD65: 1 | HE65: 1 | HF65: 1 | HG65: 17 | HH65: 17 | HI65: 1 | HJ65: 1 | HK65: 1 | HL65: 20 | HM65: 7 | HN65: 1 | HO65: 1 | HP65: 1 | HQ65: 10 | HR65: 9 | HS65: 1 | HT65: 1 | HU65: 1 | HV65: 12 | HW65: 7 | HX65: 1 | HY65: 1 | HZ65: 1 | IA65: 10 | IB65: 5 | IC65: 1 | ID65: 1 | IE65: 1 | IF65: 8 | IG65: 3 | IH65: 3 | II65: 1 | IJ65: 1 | IK65: 1 | IL65: 1 | IM65: 4 | IN65: 3 | IO65: 1 | IP65: 1 | IQ65: 1 | IR65: 6 | IS65: 12 | IT65: 1 | IU65: 1 | IV65: 1 | IW65: 15 | IX65: 13 | IY65: 1 | IZ65: 1 | JA65: 1 | JB65: 16 | JC65: 15 | JD65: 1 | JE65: 1 | JF65: 1 | JG65: 18 | JH65: 5 | JI65: 1 | JJ65: 1 | JK65: 1 | JL65: 8 | JM65: 1 | JN65: 1 | JO65: 1 | JP65: 1 | JQ65: 4 | JR65: 1 | JS65: 1 | JT65: 1 | JU65: 1 | JV65: 4 | JW65: 3 | JX65: 1 | JY65: 1 | JZ65: 1 | KA65: 6 | KB65: 2 | KC65: 1 | KD65: 1 | KE65: 1 | KF65: 5 | KG65: 3 | KH65: 1 | KI65: 1 | KJ65: 1 | KK65: 6 | KL65: 3 | KM65: 1 | KN65: 1 | KO65: 1 | KP65: 6 | KQ65: 1 | KR65: 1 | KS65: 1 | KT65: 1 | KU65: 4 | KV65: 1 | KW65: 1 | KX65: 1 | KY65: 1 | KZ65: 4 | LA65: 1 | LB65: 1 | LC65: 2 | LD65: 1 | LE65: 1 | LF65: 2 | LG65: 1 | LH65: 1 | LI65: 1 | LJ65: 1 | LK65: 4 | LL65: 2 | LM65: 1 | LN65: 1 | LO65: 1 | LP65: 5 | LQ65: 5 | LR65: 1 | LS65: 1 | LT65: 1 | LU65: 8 | LV65: 7 | LW65: 1 | LX65: 1 | LY65: 1 | LZ65: 10 | MA65: 8 | MB65: 1 | MC65: 1 | MD65: 10 | ME65: 2 | MF65: 1 | MG65: 1 | MH65: 1 | MI65: 5 | MJ65: 2 | MK65: 1 | ML65: 1 | MM65: 1 | MN65: 5 | MO65: 1 | MP65: 1 | MQ65: 1 | MR65: 3 | MS65: 2 | MT65: 1 | MU65: 1 | MV65: 4 | MW65: 1 | MX65: 1 | MY65: 1 | MZ65: 1 | NA65: 4 | NB65: 1 | NC65: 1 | ND65: 1 | NE65: 1 | NF65: 4 | NG65: 1 | NH65: 1 | NI65: 1 | NJ65: 3 | NK65: 1 | NL65: 1 | NM65: 2 | NN65: 2 | NO65: 1 | NP65: 1 | NQ65: 1 | NR65: 5 | NS65: 5 | NT65: 1 | NU65: 1 | NV65: 1 | NW65: 8 | NX65: 4 | NY65: 4 | NZ65: 4 | OA65: 1 | OB65: 1 | OC65: 1 | OD65: 7 | OE65: 1 | OF65: 1 | OG65: 2 | OH65: 1 | OI65: 1 | OJ65: 1 | OK65: 3 | OL65: 3 | OM65: 1 | ON65: 1 | OO65: 1 | OP65: 6 | OQ65: 9 | OR65: 1 | OS65: 1 | OT65: 1 | OU65: 12 | OV65: 5 | OW65: 1 | OX65: 1 | OY65: 1 | OZ65: 8 | PA65: 6 | PB65: 1 | PC65: 1 | PD65: 1 | PE65: 9 | PF65: 3 | PG65: 1 | PH65: 1 | PI65: 1 | PJ65: 6 | PK65: 1 | PL65: 1 | PM65: 1 | PN65: 3 | PO65: 2 | PP65: 1 | PQ65: 1 | PR65: 1 | PS65: 5 | PT65: 3 | PU65: 1 | PV65: 1 | PW65: 1 | PX65: 6 | PY65: 2 | PZ65: 1 | QA65: 1 | QB65: 1 | QC65: 5 | QD65: 1 | QE65: 1 | QF65: 1 | QG65: 1 | QH65: 2 | QI65: 4 | QJ65: 1 | QK65: 1 | QL65: 6 | QM65: 16 | QN65: 1 | QO65: 1 | QP65: 18 | QQ65: 8 | QR65: 1 | QS65: 1 | QT65: 10 | QU65: 15 | QV65: 1 | QW65: 1 | QX65: 17 | QY65: 4 | QZ65: 1 | RA65: 1 | RB65: 1 | RC65: 7 | RD65: 10 | RE65: 1 | RF65: 1 | RG65: 12 | RH65: 7 | RI65: 1 | RJ65: 1 | RK65: 1 | RL65: 10 | RM65: 9 | RN65: 1 | RO65: 1 | RP65: 1 | RQ65: 12 | RR65: 965

Sheet All Entries
A1: CATEGORY | B1: Name | C1: Club Full | D1: Individual/Team | E1: Discipline | F1: Age Class | G1: Sex | H1: Grade Class | I1: Result | J1: Corrected Result | K1: Total Entries in Category2 | L1: Club entries in Category | M1: Club Size Entries
A2: 01011 S Tul Junior 14-17 F/M A D02 | B2: CAMPINS RICO | C2: Aberdeenshire Blackbelt Club | D2: =VLOOKUP(athlete_entries[[#This Row],[CATEGORY]],Categories!$A$1:$F$106,2,FALSE) -> Individual | E2: =VLOOKUP(athlete_entries[[#This Row],[CATEGORY]],Categories!$A$1:$F$106,3,FALSE) -> Patterns | F2: =VLOOKUP(athlete_entries[[#This Row],[CATEGORY]],Categories!$A$1:$F$106,4,FALSE) -> Junior | G2: =VLOOKUP(athlete_entries[[#This Row],[CATEGORY]],Categories!$A$1:$F$106,5,FALSE) -> Mixed | H2: =VLOOKUP(athlete_entries[[#This Row],[CATEGORY]],Categories!$A$1:$F$106,6,FALSE) -> A D01-D06 | I2: {=_xlfn.IFNA(INDEX(Results__5[#All],MATCH(athlete_entries[[#This Row],[CATEGORY]]&athlete_entries[[#This Row],[Name]],Results__5[[#All],[Category]]&Results__5[[#All],[Name]],0),MATCH(athlete_entries[[#Headers],[Result]],Results__5[#Headers],0)),"0. None")} -> 0. None | J2: =IF(AND(athlete_entries[[#This Row],[Result]]="2. Silver",K2=2),"0. None",IF(AND(athlete_entries[[#This Row],[Result]]="3. Bronze",K2=3),"0. None",athlete_entries[[#This Row],[Result]])) -> 0. None | K2: =INDEX(Categories_and_entries__2[[#All],[Category]:[Entries]],MATCH(athlete_entries[[#This Row],[CATEGORY]],Categories_and_entries__2[[#All],[Category]],0),MATCH("Entries",Categories_and_entries__2[[#Headers],[Category]:[Entries]],0)) -> 6 | L2: =COUNTIFS(athlete_entries[CATEGORY],athlete_entries[[#This Row],[CATEGORY]],athlete_entries[Club Full],athlete_entries[[#This Row],[Club Full]]) -> 1 | M2: =INDEX(Participation_Count_Clubs__24[#All],MATCH(athlete_entries[[#This Row],[Club Full]],Participation_Count_Clubs__24[[#All],[Club Full]],0),MATCH("Club Size Entries",Participation_Count_Clubs__24[#Headers],0)) -> XS
A3: 05058 S Sparring Junior 14-17 M A/B G04-D03 -75 kg | B3: CAMPINS RICO | C3: Aberdeenshire Blackbelt Club | D3: =VLOOKUP(athlete_entries[[#This Row],[CATEGORY]],Categories!$A$1:$F$106,2,FALSE) -> Individual | E3: =VLOOKUP(athlete_entries[[#This Row],[CATEGORY]],Categories!$A$1:$F$106,3,FALSE) -> Sparring | F3: =VLOOKUP(athlete_entries[[#This Row],[CATEGORY]],Categories!$A$1:$F$106,4,FALSE) -> Junior | G3: =VLOOKUP(athlete_entries[[#This Row],[CATEGORY]],Categories!$A$1:$F$106,5,FALSE) -> Male | H3: =VLOOKUP(athlete_entries[[#This Row],[CATEGORY]],Categories!$A$1:$F$106,6,FALSE) -> A+B G04-D06 | I3: {=_xlfn.IFNA(INDEX(Results__5[#All],MATCH(athlete_entries[[#This Row],[CATEGORY]]&athlete_entries[[#This Row],[Name]],Results__5[[#All],[Category]]&Results__5[[#All],[Name]],0),MATCH(athlete_entries[[#Headers],[Result]],Results__5[#Headers],0)),"0. None")} -> 2. Silver | J3: =IF(AND(athlete_entries[[#This Row],[Result]]="2. Silver",K3=2),"0. None",IF(AND(athlete_entries[[#This Row],[Result]]="3. Bronze",K3=3),"0. None",athlete_entries[[#This Row],[Result]])) -> 2. Silver | K3: =INDEX(Categories_and_entries__2[[#All],[Category]:[Entries]],MATCH(athlete_entries[[#This Row],[CATEGORY]],Categories_and_entries__2[[#All],[Category]],0),MATCH("Entries",Categories_and_entries__2[[#Headers],[Category]:[Entries]],0)) -> 5 | L3: =COUNTIFS(athlete_entries[CATEGORY],athlete_entries[[#This Row],[CATEGORY]],athlete_entries[Club Full],athlete_entries[[#This Row],[Club Full]]) -> 1 | M3: =INDEX(Participation_Count_Clubs__24[#All],MATCH(athlete_entries[[#This Row],[Club Full]],Participation_Count_Clubs__24[[#All],[Club Full]],0),MATCH("Club Size Entries",Participation_Count_Clubs__24[#Headers],0)) -> XS
A4: 06001 Overall Sparring Junior 14-17 M A+B G04-D03 | B4: CAMPINS RICO | C4: Aberdeenshire Blackbelt Club | D4: =VLOOKUP(athlete_entries[[#This Row],[CATEGORY]],Categories!$A$1:$F$106,2,FALSE) -> Individual | E4: =VLOOKUP(athlete_entries[[#This Row],[CATEGORY]],Categories!$A$1:$F$106,3,FALSE) -> Sparring | F4: =VLOOKUP(athlete_entries[[#This Row],[CATEGORY]],Categories!$A$1:$F$106,4,FALSE) -> Junior | G4: =VLOOKUP(athlete_entries[[#This Row],[CATEGORY]],Categories!$A$1:$F$106,5,FALSE) -> Male | H4: =VLOOKUP(athlete_entries[[#This Row],[CATEGORY]],Categories!$A$1:$F$106,6,FALSE) -> A+B G04-D06 | I4: {=_xlfn.IFNA(INDEX(Results__5[#All],MATCH(athlete_entries[[#This Row],[CATEGORY]]&athlete_entries[[#This Row],[Name]],Results__5[[#All],[Category]]&Results__5[[#All],[Name]],0),MATCH(athlete_entries[[#Headers],[Result]],Results__5[#Headers],0)),"0. None")} -> 0. None | J4: =IF(AND(athlete_entries[[#This Row],[Result]]="2. Silver",K4=2),"0. None",IF(AND(athlete_entries[[#This Row],[Result]]="3. Bronze",K4=3),"0. None",athlete_entries[[#This Row],[Result]])) -> 0. None | K4: =INDEX(Categories_and_entries__2[[#All],[Category]:[Entries]],MATCH(athlete_entries[[#This Row],[CATEGORY]],Categories_and_entries__2[[#All],[Category]],0),MATCH("Entries",Categories_and_entries__2[[#Headers],[Category]:[Entries]],0)) -> 18 | L4: =COUNTIFS(athlete_entries[CATEGORY],athlete_entries[[#This Row],[CATEGORY]],athlete_entries[Club Full],athlete_entries[[#This Row],[Club Full]]) -> 1 | M4: =INDEX(Participation_Count_Clubs__24[#All],MATCH(athlete_entries[[#This Row],[Club Full]],Participation_Count_Clubs__24[[#All],[Club Full]],0),MATCH("Club Size Entries",Participation_Count_Clubs__24[#Headers],0)) -> XS
A5: 07002 S Power Breaking Junior 14-17 M A/B G04-D03 | B5: CAMPINS RICO | C5: Aberdeenshire Blackbelt Club | D5: =VLOOKUP(athlete_entries[[#This Row],[CATEGORY]],Categories!$A$1:$F$106,2,FALSE) -> Individual | E5: =VLOOKUP(athlete_entries[[#This Row],[CATEGORY]],Categories!$A$1:$F$106,3,FALSE) -> Power | F5: =VLOOKUP(athlete_entries[[#This Row],[CATEGORY]],Categories!$A$1:$F$106,4,FALSE) -> Junior | G5: =VLOOKUP(athlete_entries[[#This Row],[CATEGORY]],Categories!$A$1:$F$106,5,FALSE) -> Male | H5: =VLOOKUP(athlete_entries[[#This Row],[CATEGORY]],Categories!$A$1:$F$106,6,FALSE) -> A+B G04-D06 | I5: {=_xlfn.IFNA(INDEX(Results__5[#All],MATCH(athlete_entries[[#This Row],[CATEGORY]]&athlete_entries[[#This Row],[Name]],Results__5[[#All],[Category]]&Results__5[[#All],[Name]],0),MATCH(athlete_entries[[#Headers],[Result]],Results__5[#Headers],0)),"0. None")} -> 0. None | J5: =IF(AND(athlete_entries[[#This Row],[Result]]="2. Silver",K5=2),"0. None",IF(AND(athlete_entries[[#This Row],[Result]]="3. Bronze",K5=3),"0. None",athlete_entries[[#This Row],[Result]])) -> 0. None | K5: =INDEX(Categories_and_entries__2[[#All],[Category]:[Entries]],MATCH(athlete_entries[[#This Row],[CATEGORY]],Categories_and_entries__2[[#All],[Category]],0),MATCH("Entries",Categories_and_entries__2[[#Headers],[Category]:[Entries]],0)) -> 12 | L5: =COUNTIFS(athlete_entries[CATEGORY],athlete_entries[[#This Row],[CATEGORY]],athlete_entries[Club Full],athlete_entries[[#This Row],[Club Full]]) -> 1 | M5: =INDEX(Participation_Count_Clubs__24[#All],MATCH(athlete_entries[[#This Row],[Club Full]],Participation_Count_Clubs__24[[#All],[Club Full]],0),MATCH("Club Size Entries",Participation_Count_Clubs__24[#Headers],0)) -> XS
A6: 01025 Tul Senior-Veteran 18+ F A D01 | B6: McCarthy Malaika | C6: BOOZ ITF Taekwon-Do | D6: =VLOOKUP(athlete_entries[[#This Row],[CATEGORY]],Categories!$A$1:$F$106,2,FALSE) -> Individual | E6: =VLOOKUP(athlete_entries[[#This Row],[CATEGORY]],Categories!$A$1:$F$106,3,FALSE) -> Patterns | F6: =VLOOKUP(athlete_entries[[#This Row],[CATEGORY]],Categories!$A$1:$F$106,4,FALSE) -> Senior | G6: =VLOOKUP(athlete_entries[[#This Row],[CATEGORY]],Categories!$A$1:$F$106,5,FALSE) -> Female | H6: =VLOOKUP(athlete_entries[[#This Row],[CATEGORY]],Categories!$A$1:$F$106,6,FALSE) -> A D01-D06 | I6: {=_xlfn.IFNA(INDEX(Results__5[#All],MATCH(athlete_entries[[#This Row],[CATEGORY]]&athlete_entries[[#This Row],[Name]],Results__5[[#All],[Category]]&Results__5[[#All],[Name]],0),MATCH(athlete_entries[[#Headers],[Result]],Results__5[#Headers],0)),"0. None")} -> 0. None | J6: =IF(AND(athlete_entries[[#This Row],[Result]]="2. Silver",K6=2),"0. None",IF(AND(athlete_entries[[#This Row],[Result]]="3. Bronze",K6=3),"0. None",athlete_entries[[#This Row],[Result]])) -> 0. None | K6: =INDEX(Categories_and_entries__2[[#All],[Category]:[Entries]],MATCH(athlete_entries[[#This Row],[CATEGORY]],Categories_and_entries__2[[#All],[Category]],0),MATCH("Entries",Categories_and_entries__2[[#Headers],[Category]:[Entries]],0)) -> 10 | L6: =COUNTIFS(athlete_entries[CATEGORY],athlete_entries[[#This Row],[CATEGORY]],athlete_entries[Club Full],athlete_entries[[#This Row],[Club Full]]) -> 1 | M6: =INDEX(Participation_Count_Clubs__24[#All],MATCH(athlete_entries[[#This Row],[Club Full]],Participation_Count_Clubs__24[[#All],[Club Full]],0),MATCH("Club Size Entries",Participation_Count_Clubs__24[#Headers],0)) -> XS
A7: 01004 Tul Youth 6-13 F C G10-G08 | B7: Brown Madison | C7: Braveheart Martial Arts | D7: =VLOOKUP(athlete_entries[[#This Row],[CATEGORY]],Categories!$A$1:$F$106,2,FALSE) -> Individual | E7: =VLOOKUP(athlete_entries[[#This Row],[CATEGORY]],Categories!$A$1:$F$106,3,FALSE) -> Patterns | F7: =VLOOKUP(athlete_entries[[#This Row],[CATEGORY]],Categories!$A$1:$F$106,4,FALSE) -> Youth | G7: =VLOOKUP(athlete_entries[[#This Row],[CATEGORY]],Categories!$A$1:$F$106,5,FALSE) -> Female | H7: =VLOOKUP(athlete_entries[[#This Row],[CATEGORY]],Categories!$A$1:$F$106,6,FALSE) -> C G10-G05 | I7: {=_xlfn.IFNA(INDEX(Results__5[#All],MATCH(athlete_entries[[#This Row],[CATEGORY]]&athlete_entries[[#This Row],[Name]],Results__5[[#All],[Category]]&Results__5[[#All],[Name]],0),MATCH(athlete_entries[[#Headers],[Result]],Results__5[#Headers],0)),"0. None")} -> 0. None | J7: =IF(AND(athlete_entries[[#This Row],[Result]]="2. Silver",K7=2),"0. None",IF(AND(athlete_entries[[#This Row],[Result]]="3. Bronze",K7=3),"0. None",athlete_entries[[#This Row],[Result]])) -> 0. None | K7: =INDEX(Categories_and_entries__2[[#All],[Category]:[Entries]],MATCH(athlete_entries[[#This Row],[CATEGORY]],Categories_and_entries__2[[#All],[Category]],0),MATCH("Entries",Categories_and_entries__2[[#Headers],[Category]:[Entries]],0)) -> 22 | L7: =COUNTIFS(athlete_entries[CATEGORY],athlete_entries[[#This Row],[CATEGORY]],athlete_entries[Club Full],athlete_entries[[#This Row],[Club Full]]) -> 1 | M7: =INDEX(Participation_Count_Clubs__24[#All],MATCH(athlete_entries[[#This Row],[Club Full]],Participation_Count_Clubs__24[[#All],[Club Full]],0),MATCH("Club Size Entries",Participation_Count_Clubs__24[#Headers],0)) -> M
A8: 01007b Tul Youth 6-13 M B G04-G03 | B8: Rahim Lawa | C8: Braveheart Martial Arts | D8: =VLOOKUP(athlete_entries[[#This Row],[CATEGORY]],Categories!$A$1:$F$106,2,FALSE) -> Individual | E8: =VLOOKUP(athlete_entries[[#This Row],[CATEGORY]],Categories!$A$1:$F$106,3,FALSE) -> Patterns | F8: =VLOOKUP(athlete_entries[[#This Row],[CATEGORY]],Categories!$A$1:$F$106,4,FALSE) -> Youth | G8: =VLOOKUP(athlete_entries[[#This Row],[CATEGORY]],Categories!$A$1:$F$106,5,FALSE) -> Male | H8: =VLOOKUP(athlete_entries[[#This Row],[CATEGORY]],Categories!$A$1:$F$106,6,FALSE) -> B G04-G01 | I8: {=_xlfn.IFNA(INDEX(Results__5[#All],MATCH(athlete_entries[[#This Row],[CATEGORY]]&athlete_entries[[#This Row],[Name]],Results__5[[#All],[Category]]&Results__5[[#All],[Name]],0),MATCH(athlete_entries[[#Headers],[Result]],Results__5[#Headers],0)),"0. None")} -> 0. None | J8: =IF(AND(athlete_entries[[#This Row],[Result]]="2. Silver",K8=2),"0. None",IF(AND(athlete_entries[[#This Row],[Result]]="3. Bronze",K8=3),"0. None",athlete_entries[[#This Row],[Result]])) -> 0. None | K8: =INDEX(Categories_and_entries__2[[#All],[Category]:[Entries]],MATCH(athlete_entries[[#This Row],[CATEGORY]],Categories_and_entries__2[[#All],[Category]],0),MATCH("Entries",Categories_and_entries__2[[#Headers],[Category]:[Entries]],0)) -> 19 | L8: =COUNTIFS(athlete_entries[CATEGORY],athlete_entries[[#This Row],[CATEGORY]],athlete_entries[Club Full],athlete_entries[[#This Row],[Club Full]]) -> 2 | M8: =INDEX(Participation_Count_Clubs__24[#All],MATCH(athlete_entries[[#This Row],[Club Full]],Participation_Count_Clubs__24[[#All],[Club Full]],0),MATCH("Club Size Entries",Participation_Count_Clubs__24[#Headers],0)) -> M
A9: 01007b Tul Youth 6-13 M B G04-G03 | B9: Rahim Nali | C9: Braveheart Martial Arts | D9: =VLOOKUP(athlete_entries[[#This Row],[CATEGORY]],Categories!$A$1:$F$106,2,FALSE) -> Individual | E9: =VLOOKUP(athlete_entries[[#This Row],[CATEGORY]],Categories!$A$1:$F$106,3,FALSE) -> Patterns | F9: =VLOOKUP(athlete_entries[[#This Row],[CATEGORY]],Categories!$A$1:$F$106,4,FALSE) -> Youth | G9: =VLOOKUP(athlete_entries[[#This Row],[CATEGORY]],Categories!$A$1:$F$106,5,FALSE) -> Male | H9: =VLOOKUP(athlete_entries[[#This Row],[CATEGORY]],Categories!$A$1:$F$106,6,FALSE) -> B G04-G01 | I9: {=_xlfn.IFNA(INDEX(Results__5[#All],MATCH(athlete_entries[[#This Row],[CATEGORY]]&athlete_entries[[#This Row],[Name]],Results__5[[#All],[Category]]&Results__5[[#All],[Name]],0),MATCH(athlete_entries[[#Headers],[Result]],Results__5[#Headers],0)),"0. None")} -> 0. None | J9: =IF(AND(athlete_entries[[#This Row],[Result]]="2. Silver",K9=2),"0. None",IF(AND(athlete_entries[[#This Row],[Result]]="3. Bronze",K9=3),"0. None",athlete_entries[[#This Row],[Result]])) -> 0. None | K9: =INDEX(Categories_and_entries__2[[#All],[Category]:[Entries]],MATCH(athlete_entries[[#This Row],[CATEGORY]],Categories_and_entries__2[[#All],[Category]],0),MATCH("Entries",Categories_and_entries__2[[#Headers],[Category]:[Entries]],0)) -> 19 | L9: =COUNTIFS(athlete_entries[CATEGORY],athlete_entries[[#This Row],[CATEGORY]],athlete_entries[Club Full],athlete_entries[[#This Row],[Club Full]]) -> 2 | M9: =INDEX(Participation_Count_Clubs__24[#All],MATCH(athlete_entries[[#This Row],[Club Full]],Participation_Count_Clubs__24[[#All],[Club Full]],0),MATCH("Club Size Entries",Participation_Count_Clubs__24[#Headers],0)) -> M
A10: 01024 Tul Senior-Veteran 18+ F A D02 | B10: Brown Megan | C10: Braveheart Martial Arts | D10: =VLOOKUP(athlete_entries[[#This Row],[CATEGORY]],Categories!$A$1:$F$106,2,FALSE) -> Individual | E10: =VLOOKUP(athlete_entries[[#This Row],[CATEGORY]],Categories!$A$1:$F$106,3,FALSE) -> Patterns | F10: =VLOOKUP(athlete_entries[[#This Row],[CATEGORY]],Categories!$A$1:$F$106,4,FALSE) -> Senior | G10: =VLOOKUP(athlete_entries[[#This Row],[CATEGORY]],Categories!$A$1:$F$106,5,FALSE) -> Female | H10: =VLOOKUP(athlete_entries[[#This Row],[CATEGORY]],Categories!$A$1:$F$106,6,FALSE) -> A D01-D06 | I10: {=_xlfn.IFNA(INDEX(Results__5[#All],MATCH(athlete_entries[[#This Row],[CATEGORY]]&athlete_entries[[#This Row],[Name]],Results__5[[#All],[Category]]&Results__5[[#All],[Name]],0),MATCH(athlete_entries[[#Headers],[Result]],Results__5[#Headers],0)),"0. None")} -> 3. Bronze | J10: =IF(AND(athlete_entries[[#This Row],[Result]]="2. Silver",K10=2),"0. None",IF(AND(athlete_entries[[#This Row],[Result]]="3. Bronze",K10=3),"0. None",athlete_entries[[#This Row],[Result]])) -> 3. Bronze | K10: =INDEX(Categories_and_entries__2[[#All],[Category]:[Entries]],MATCH(athlete_entries[[#This Row],[CATEGORY]],Categories_and_entries__2[[#All],[Category]],0),MATCH("Entries",Categories_and_entries__2[[#Headers],[Category]:[Entries]],0)) -> 9 | L10: =COUNTIFS(athlete_entries[CATEGORY],athlete_entries[[#This Row],[CATEGORY]],athlete_entries[Club Full],athlete_entries[[#This Row],[Club Full]]) -> 1 | M10: =INDEX(Participation_Count_Clubs__24[#All],MATCH(athlete_entries[[#This Row],[Club Full]],Participation_Count_Clubs__24[[#All],[Club Full]],0),MATCH("Club Size Entries",Participation_Count_Clubs__24[#Headers],0)) -> M
A11: 01031 Tul Senior-Veteran 18+ M A D02 | B11: OHare Iain | C11: Braveheart Martial Arts | D11: =VLOOKUP(athlete_entries[[#This Row],[CATEGORY]],Categories!$A$1:$F$106,2,FALSE) -> Individual | E11: =VLOOKUP(athlete_entries[[#This Row],[CATEGORY]],Categories!$A$1:$F$106,3,FALSE) -> Patterns | F11: =VLOOKUP(athlete_entries[[#This Row],[CATEGORY]],Categories!$A$1:$F$106,4,FALSE) -> Senior | G11: =VLOOKUP(athlete_entries[[#This Row],[CATEGORY]],Categories!$A$1:$F$106,5,FALSE) -> Male | H11: =VLOOKUP(athlete_entries[[#This Row],[CATEGORY]],Categories!$A$1:$F$106,6,FALSE) -> A D01-D06 | I11: {=_xlfn.IFNA(INDEX(Results__5[#All],MATCH(athlete_entries[[#This Row],[CATEGORY]]&athlete_entries[[#This Row],[Name]],Results__5[[#All],[Category]]&Results__5[[#All],[Name]],0),MATCH(athlete_entries[[#Headers],[Result]],Results__5[#Headers],0)),"0. None")} -> 0. None | J11: =IF(AND(athlete_entries[[#This Row],[Result]]="2. Silver",K11=2),"0. None",IF(AND(athlete_entries[[#This Row],[Result]]="3. Bronze",K11=3),"0. None",athlete_entries[[#This Row],[Result]])) -> 0. None | K11: =INDEX(Categories_and_entries__2[[#All],[Category]:[Entries]],MATCH(athlete_entries[[#This Row],[CATEGORY]],Categories_and_entries__2[[#All],[Category]],0),MATCH("Entries",Categories_and_entries__2[[#Headers],[Category]:[Entries]],0)) -> 10 | L11: =COUNTIFS(athlete_entries[CATEGORY],athlete_entries[[#This Row],[CATEGORY]],athlete_entries[Club Full],athlete_entries[[#This Row],[Club Full]]) -> 1 | M11: =INDEX(Participation_Count_Clubs__24[#All],MATCH(athlete_entries[[#This Row],[Club Full]],Participation_Count_Clubs__24[[#All],[Club Full]],0),MATCH("Club Size Entries",Participation_Count_Clubs__24[#Headers],0)) -> M
A12: 05012 Sparring Youth 6-13 F C G10-G05 -130 cm | B12: Brown Madison | C12: Braveheart Martial Arts | D12: =VLOOKUP(athlete_entries[[#This Row],[CATEGORY]],Categories!$A$1:$F$106,2,FALSE) -> Individual | E12: =VLOOKUP(athlete_entries[[#This Row],[CATEGORY]],Categories!$A$1:$F$106,3,FALSE) -> Sparring | F12: =VLOOKUP(athlete_entries[[#This Row],[CATEGORY]],Categories!$A$1:$F$106,4,FALSE) -> Youth | G12: =VLOOKUP(athlete_entries[[#This Row],[CATEGORY]],Categories!$A$1:$F$106,5,FALSE) -> Female | H12: =VLOOKUP(athlete_entries[[#This Row],[CATEGORY]],Categories!$A$1:$F$106,6,FALSE) -> C G10-G05 | I12: {=_xlfn.IFNA(INDEX(Results__5[#All],MATCH(athlete_entries[[#This Row],[CATEGORY]]&athlete_entries[[#This Row],[Name]],Results__5[[#All],[Category]]&Results__5[[#All],[Name]],0),MATCH(athlete_entries[[#Headers],[Result]],Results__5[#Headers],0)),"0. None")} -> 3. Bronze | J12: =IF(AND(athlete_entries[[#This Row],[Result]]="2. Silver",K12=2),"0. None",IF(AND(athlete_entries[[#This Row],[Result]]="3. Bronze",K12=3),"0. None",athlete_entries[[#This Row],[Result]])) -> 3. Bronze | K12: =INDEX(Categories_and_entries__2[[#All],[Category]:[Entries]],MATCH(athlete_entries[[#This Row],[CATEGORY]],Categories_and_entries__2[[#All],[Category]],0),MATCH("Entries",Categories_and_entries__2[[#Headers],[Category]:[Entries]],0)) -> 11 | L12: =COUNTIFS(athlete_entries[CATEGORY],athlete_entries[[#This Row],[CATEGORY]],athlete_entries[Club Full],athlete_entries[[#This Row],[Club Full]]) -> 1 | M12: =INDEX(Participation_Count_Clubs__24[#All],MATCH(athlete_entries[[#This Row],[Club Full]],Participation_Count_Clubs__24[[#All],[Club Full]],0),MATCH("Club Size Entries",Participation_Count_Clubs__24[#Headers],0)) -> M
A13: 05020 S Sparring Youth 6-13 M A/B G04-D03 -150 cm | B13: Rahim Lawa | C13: Braveheart Martial Arts | D13: =VLOOKUP(athlete_entries[[#This Row],[CATEGORY]],Categories!$A$1:$F$106,2,FALSE) -> Individual | E13: =VLOOKUP(athlete_entries[[#This Row],[CATEGORY]],Categories!$A$1:$F$106,3,FALSE) -> Sparring | F13: =VLOOKUP(athlete_entries[[#This Row],[CATEGORY]],Categories!$A$1:$F$106,4,FALSE) -> Youth | G13: =VLOOKUP(athlete_entries[[#This Row],[CATEGORY]],Categories!$A$1:$F$106,5,FALSE) -> Male | H13: =VLOOKUP(athlete_entries[[#This Row],[CATEGORY]],Categories!$A$1:$F$106,6,FALSE) -> A+B G04-D06 | I13: {=_xlfn.IFNA(INDEX(Results__5[#All],MATCH(athlete_entries[[#This Row],[CATEGORY]]&athlete_entries[[#This Row],[Name]],Results__5[[#All],[Category]]&Results__5[[#All],[Name]],0),MATCH(athlete_entries[[#Headers],[Result]],Results__5[#Headers],0)),"0. None")} -> 0. None | J13: =IF(AND(athlete_entries[[#This Row],[Result]]="2. Silver",K13=2),"0. None",IF(AND(athlete_entries[[#This Row],[Result]]="3. Bronze",K13=3),"0. None",athlete_entries[[#This Row],[Result]])) -> 0. None | K13: =INDEX(Categories_and_entries__2[[#All],[Category]:[Entries]],MATCH(athlete_entries[[#This Row],[CATEGORY]],Categories_and_entries__2[[#All],[Category]],0),MATCH("Entries",Categories_and_entries__2[[#Headers],[Category]:[Entries]],0)) -> 12 | L13: =COUNTIFS(athlete_entries[CATEGORY],athlete_entries[[#This Row],[CATEGORY]],athlete_entries[Club Full],athlete_entries[[#This Row],[Club Full]]) -> 1 | M13: =INDEX(Participation_Count_Clubs__24[#All],MATCH(athlete_entries[[#This Row],[Club Full]],Participation_Count_Clubs__24[[#All],[Club Full]],0),MATCH("Club Size Entries",Participation_Count_Clubs__24[#Headers],0)) -> M
... A966: 05105 Sparring Senior 18+ M C G10-G05 -78 kg | B966: Talty Conor | C966: West Clare & Quin | D966: =VLOOKUP(athlete_entries[[#This Row],[CATEGORY]],Categories!$A$1:$F$106,2,FALSE) -> Individual | E966: =VLOOKUP(athlete_entries[[#This Row],[CATEGORY]],Categories!$A$1:$F$106,3,FALSE) -> Sparring | F966: =VLOOKUP(athlete_entries[[#This Row],[CATEGORY]],Categories!$A$1:$F$106,4,FALSE) -> Senior | G966: =VLOOKUP(athlete_entries[[#This Row],[CATEGORY]],Categories!$A$1:$F$106,5,FALSE) -> Male | H966: =VLOOKUP(athlete_entries[[#This Row],[CATEGORY]],Categories!$A$1:$F$106,6,FALSE) -> C G10-G05 | I966: {=_xlfn.IFNA(INDEX(Results__5[#All],MATCH(athlete_entries[[#This Row],[CATEGORY]]&athlete_entries[[#This Row],[Name]],Results__5[[#All],[Category]]&Results__5[[#All],[Name]],0),MATCH(athlete_entries[[#Headers],[Result]],Results__5[#Headers],0)),"0. None")} -> 0. None | J966: =IF(AND(athlete_entries[[#This Row],[Result]]="2. Silver",K966=2),"0. None",IF(AND(athlete_entries[[#This Row],[Result]]="3. Bronze",K966=3),"0. None",athlete_entries[[#This Row],[Result]])) -> 0. None | K966: =INDEX(Categories_and_entries__2[[#All],[Category]:[Entries]],MATCH(athlete_entries[[#This Row],[CATEGORY]],Categories_and_entries__2[[#All],[Category]],0),MATCH("Entries",Categories_and_entries__2[[#Headers],[Category]:[Entries]],0)) -> 6 | L966: =COUNTIFS(athlete_entries[CATEGORY],athlete_entries[[#This Row],[CATEGORY]],athlete_entries[Club Full],athlete_entries[[#This Row],[Club Full]]) -> 1 | M966: =INDEX(Participation_Count_Clubs__24[#All],MATCH(athlete_entries[[#This Row],[Club Full]],Participation_Count_Clubs__24[[#All],[Club Full]],0),MATCH("Club Size Entries",Participation_Count_Clubs__24[#Headers],0)) -> L

Sheet Results_Entries_Category_Club
A1: Individual/Team | B1: All
A2: Discipline | B2: All
A3: Age Class | B3: All
A4: Sex | B4: All
A5: Grade Class | B5: All
A6: Club Size Entries | B6: All
A8: Telling van Result | B8: Kolomlabels
B9: 01001 Tul Youth 6-13 F A D01 | C9: 01001 Tul Youth 6-13 F A D01 | D9: 01002 Tul Youth 6-13 F B G04-G01 | E9: 01002 Tul Youth 6-13 F B G04-G01 | F9: 01002 Tul Youth 6-13 F B G04-G01 | G9: 01002 Tul Youth 6-13 F B G04-G01 | H9: 01003a Tul Youth 6-13 F C G06-G05 | I9: 01003a Tul Youth 6-13 F C G06-G05 | J9: 01003a Tul Youth 6-13 F C G06-G05 | K9: 01003a Tul Youth 6-13 F C G06-G05 | L9: 01003b Tul Youth 6-13 F C G07 | M9: 01003b Tul Youth 6-13 F C G07 | N9: 01003b Tul Youth 6-13 F C G07 | O9: 01003b Tul Youth 6-13 F C G07 | P9: 01004 Tul Youth 6-13 F C G10-G08 | Q9: 01004 Tul Youth 6-13 F C G10-G08 | R9: 01004 Tul Youth 6-13 F C G10-G08 | S9: 01004 Tul Youth 6-13 F C G10-G08 | T9: 01006 Tul Youth 6-13 M A D01 | U9: 01006 Tul Youth 6-13 M A D01 | V9: 01006 Tul Youth 6-13 M A D01 | W9: 01006 Tul Youth 6-13 M A D01 | X9: 01007a Tul Youth 6-13 M B G02-G01 | Y9: 01007a Tul Youth 6-13 M B G02-G01 | Z9: 01007a Tul Youth 6-13 M B G02-G01 | AA9: 01007a Tul Youth 6-13 M B G02-G01 | AB9: 01007b Tul Youth 6-13 M B G04-G03 | AC9: 01007b Tul Youth 6-13 M B G04-G03 | AD9: 01007b Tul Youth 6-13 M B G04-G03 | AE9: 01007b Tul Youth 6-13 M B G04-G03 | AF9: 01008a Tul Youth 6-13 M C G06-G05 | AG9: 01008a Tul Youth 6-13 M C G06-G05 | AH9: 01008a Tul Youth 6-13 M C G06-G05 | AI9: 01008a Tul Youth 6-13 M C G06-G05 | AJ9: 01008b Tul Youth 6-13 M C G07 | AK9: 01008b Tul Youth 6-13 M C G07 | AL9: 01008b Tul Youth 6-13 M C G07 | AM9: 01008b Tul Youth 6-13 M C G07 | AN9: 01009 Tul Youth 6-13 M C G10-G08 | AO9: 01009 Tul Youth 6-13 M C G10-G08 | AP9: 01009 Tul Youth 6-13 M C G10-G08 | AQ9: 01009 Tul Youth 6-13 M C G10-G08 | AR9: 01011 S Tul Junior 14-17 F/M A D02 | AS9: 01011 S Tul Junior 14-17 F/M A D02 | AT9: 01011 S Tul Junior 14-17 F/M A D02 | AU9: 01011 S Tul Junior 14-17 F/M A D02 | AV9: 01012 Tul Junior 14-17 F A D01 | AW9: 01012 Tul Junior 14-17 F A D01 | AX9: 01012 Tul Junior 14-17 F A D01 | AY9: 01012 Tul Junior 14-17 F A D01 | AZ9: 01013 Tul Junior 14-17 F B G04-G01 | BA9: 01013 Tul Junior 14-17 F B G04-G01 | BB9: 01013 Tul Junior 14-17 F B G04-G01 | BC9: 01013 Tul Junior 14-17 F B G04-G01 | BD9: 01014 Tul Junior 14-17 F C G07-G05 | BE9: 01014 Tul Junior 14-17 F C G07-G05 | BF9: 01014 Tul Junior 14-17 F C G07-G05 | BG9: 01014 Tul Junior 14-17 F C G07-G05 | BH9: 01018 Tul Junior 14-17 M A D01 | BI9: 01018 Tul Junior 14-17 M A D01 | BJ9: 01018 Tul Junior 14-17 M A D01 | BK9: 01018 Tul Junior 14-17 M A D01 | BL9: 01019 Tul Junior 14-17 M B G04-G01 | BM9: 01019 Tul Junior 14-17 M B G04-G01 | BN9: 01019 Tul Junior 14-17 M B G04-G01 | BO9: 01019 Tul Junior 14-17 M B G04-G01 | BP9: 01020 Tul Junior 14-17 M C G07-G05 | BQ9: 01020 Tul Junior 14-17 M C G07-G05 | BR9: 01020 Tul Junior 14-17 M C G07-G05 | BS9: 01020 Tul Junior 14-17 M C G07-G05 | BT9: 01021 Tul Junior 14-17 M C G10-G08 | BU9: 01021 Tul Junior 14-17 M C G10-G08 | BV9: 01022 Tul Senior-Veteran 18+ F A D04-D06 | BW9: 01022 Tul Senior-Veteran 18+ F A D04-D06 | BX9: 01022 Tul Senior-Veteran 18+ F A D04-D06 | BY9: 01022 Tul Senior-Veteran 18+ F A D04-D06 | BZ9: 01023 Tul Senior-Veteran 18+ F A D03 | CA9: 01023 Tul Senior-Veteran 18+ F A D03 | CB9: 01023 Tul Senior-Veteran 18+ F A D03 | CC9: 01024 Tul Senior-Veteran 18+ F A D02 | CD9: 01024 Tul Senior-Veteran 18+ F A D02 | CE9: 01024 Tul Senior-Veteran 18+ F A D02 | CF9: 01024 Tul Senior-Veteran 18+ F A D02 | CG9: 01025 Tul Senior-Veteran 18+ F A D01 | CH9: 01025 Tul Senior-Veteran 18+ F A D01 | CI9: 01025 Tul Senior-Veteran 18+ F A D01 | CJ9: 01025 Tul Senior-Veteran 18+ F A D01 | CK9: 01026 Tul Senior-Veteran 18+ F B G04-G01 | CL9: 01026 Tul Senior-Veteran 18+ F B G04-G01 | CM9: 01026 Tul Senior-Veteran 18+ F B G04-G01 | CN9: 01026 Tul Senior-Veteran 18+ F B G04-G01 | CO9: 01027 Tul Senior-Veteran 18+ F C G07-G05 | CP9: 01027 Tul Senior-Veteran 18+ F C G07-G05 | CQ9: 01027 Tul Senior-Veteran 18+ F C G07-G05 | CR9: 01027 Tul Senior-Veteran 18+ F C G07-G05 | CS9: 01028 Tul Senior-Veteran 18+ F C G10-G08 | CT9: 01028 Tul Senior-Veteran 18+ F C G10-G08 | CU9: 01028 Tul Senior-Veteran 18+ F C G10-G08 | CV9: 01029 Tul Senior-Veteran 18+ M A D04-D06 | CW9: 01029 Tul Senior-Veteran 18+ M A D04-D06 | CX9: 01029 Tul Senior-Veteran 18+ M A D04-D06 | CY9: 01029 Tul Senior-Veteran 18+ M A D04-D06 | CZ9: 01030 Tul Senior-Veteran 18+ M A D03 | DA9: 01030 Tul Senior-Veteran 18+ M A D03 | DB9: 01030 Tul Senior-Veteran 18+ M A D03 | DC9: 01030 Tul Senior-Veteran 18+ M A D03 | DD9: 01031 Tul Senior-Veteran 18+ M A D02 | DE9: 01031 Tul Senior-Veteran 18+ M A D02 | DF9: 01031 Tul Senior-Veteran 18+ M A D02 | DG9: 01031 Tul Senior-Veteran 18+ M A D02 | DH9: 01032 Tul Senior-Veteran 18+ M A D01 | DI9: 01032 Tul Senior-Veteran 18+ M A D01 | DJ9: 01032 Tul Senior-Veteran 18+ M A D01 | DK9: 01032 Tul Senior-Veteran 18+ M A D01 | DL9: 01033 Tul Senior-Veteran 18+ M B G04-G01 | DM9: 01033 Tul Senior-Veteran 18+ M B G04-G01 | DN9: 01033 Tul Senior-Veteran 18+ M B G04-G01 | DO9: 01033 Tul Senior-Veteran 18+ M B G04-G01 | DP9: 01034 Tul Senior-Veteran 18+ M C G07-G05 | DQ9: 01034 Tul Senior-Veteran 18+ M C G07-G05 | DR9: 01034 Tul Senior-Veteran 18+ M C G07-G05 | DS9: 01034 Tul Senior-Veteran 18+ M C G07-G05 | DT9: 01035 Tul Senior-Veteran 18+ M C G10-G08 | DU9: 01035 Tul Senior-Veteran 18+ M C G10-G08 | DV9: 01035 Tul Senior-Veteran 18+ M C G10-G08 | DW9: 01035 Tul Senior-Veteran 18+ M C G10-G08 | DX9: 02000 Team Tul Junior-Senior-Veteran 14+ F+M A+B G04-D06 | DY9: 02000 Team Tul Junior-Senior-Veteran 14+ F+M A+B G04-D06 | DZ9: 02000 Team Tul Junior-Senior-Veteran 14+ F+M A+B G04-D06 | EA9: 02000 Team Tul Junior-Senior-Veteran 14+ F+M A+B G04-D06 | EB9: 03000 Pre-Arranged Junior-Senior-Veteran 14+ F+M A+B G04-D06 | EC9: 03000 Pre-Arranged Junior-Senior-Veteran 14+ F+M A+B G04-D06 | ED9: 03000 Pre-Arranged Junior-Senior-Veteran 14+ F+M A+B G04-D06 | EE9: 04000 Chon-Ji Challenge Youth 6-13 F+M C G10-G05 | EF9: 04000 Chon-Ji Challenge Youth 6-13 F+M C G10-G05 | EG9: 04000 Chon-Ji Challenge Youth 6-13 F+M C G10-G05 | EH9: 04001 Chon-Ji Challenge Junior-Senior 14+ F+M C G10-G05 | EI9: 04001 Chon-Ji Challenge Junior-Senior 14+ F+M C G10-G05 | EJ9: 04001 Chon-Ji Challenge Junior-Senior 14+ F+M C G10-G05 | EK9: 05002 S Sparring Youth 6-13 F A/B G04-D03 -150 cm | EL9: 05002 S Sparring Youth 6-13 F A/B G04-D03 -150 cm | EM9: 05002 S Sparring Youth 6-13 F A/B G04-D03 -150 cm | EN9: 05002 S Sparring Youth 6-13 F A/B G04-D03 -150 cm | EO9: 05003 S Sparring Youth 6-13 F A/B G04-D03 -160 cm | EP9: 05003 S Sparring Youth 6-13 F A/B G04-D03 -160 cm | EQ9: 05003 S Sparring Youth 6-13 F A/B G04-D03 -160 cm | ER9: 05003 S Sparring Youth 6-13 F A/B G04-D03 -160 cm | ES9: 05004 Sparring Youth 6-13 F A D01-D03 -170 cm | ET9: 05004 Sparring Youth 6-13 F A D01-D03 -170 cm | EU9: 05004 Sparring Youth 6-13 F A D01-D03 -170 cm | EV9: 05004 Sparring Youth 6-13 F A D01-D03 -170 cm | EW9: 05006 Sparring Youth 6-13 F B G04-G01 -130 cm | EX9: 05006 Sparring Youth 6-13 F B G04-G01 -130 cm | EY9: 05007 S Sparring Youth 6-13 F A/B G04-D03 -140 cm | EZ9: 05007 S Sparring Youth 6-13 F A/B G04-D03 -140 cm | FA9: 05007 S Sparring Youth 6-13 F A/B G04-D03 -140 cm | FB9: 05007 S Sparring Youth 6-13 F A/B G04-D03 -140 cm | FC9: 05010 Sparring Youth 6-13 F B G04-G01 -170 cm | FD9: 05010 Sparring Youth 6-13 F B G04-G01 -170 cm | FE9: 05010 Sparring Youth 6-13 F B G04-G01 -170 cm | FF9: 05010 Sparring Youth 6-13 F B G04-G01 -170 cm | FG9: 05012 Sparring Youth 6-13 F C G10-G05 -130 cm | FH9: 05012 Sparring Youth 6-13 F C G10-G05 -130 cm | FI9: 05012 Sparring Youth 6-13 F C G10-G05 -130 cm | FJ9: 05012 Sparring Youth 6-13 F C G10-G05 -130 cm | FK9: 05013 Sparring Youth 6-13 F C G10-G05 -140 cm | FL9: 05013 Sparring Youth 6-13 F C G10-G05 -140 cm | FM9: 05013 Sparring Youth 6-13 F C G10-G05 -140 cm | FN9: 05013 Sparring Youth 6-13 F C G10-G05 -140 cm | FO9: 05014 Sparring Youth 6-13 F C G10-G05 -150 cm | FP9: 05014 Sparring Youth 6-13 F C G10-G05 -150 cm | FQ9: 05014 Sparring Youth 6-13 F C G10-G05 -150 cm | FR9: 05014 Sparring Youth 6-13 F C G10-G05 -150 cm | FS9: 05015 Sparring Youth 6-13 F C G10-G05 -160 cm | FT9: 05015 Sparring Youth 6-13 F C G10-G05 -160 cm | FU9: 05015 Sparring Youth 6-13 F C G10-G05 -160 cm | FV9: 05015 Sparring Youth 6-13 F C G10-G05 -160 cm | FW9: 05020 S Sparring Youth 6-13 M A/B G04-D03 -150 cm | FX9: 05020 S Sparring Youth 6-13 M A/B G04-D03 -150 cm | FY9: 05020 S Sparring Youth 6-13 M A/B G04-D03 -150 cm | FZ9: 05020 S Sparring Youth 6-13 M A/B G04-D03 -150 cm | GA9: 05021 S Sparring Youth 6-13 M A/B G04-D03 -160 cm | GB9: 05021 S Sparring Youth 6-13 M A/B G04-D03 -160 cm | GC9: 05021 S Sparring Youth 6-13 M A/B G04-D03 -160 cm | GD9: 05021 S Sparring Youth 6-13 M A/B G04-D03 -160 cm | GE9: 05022 S Sparring Youth 6-13 M A/B G04-D03 -170 cm | GF9: 05022 S Sparring Youth 6-13 M A/B G04-D03 -170 cm | GG9: 05022 S Sparring Youth 6-13 M A/B G04-D03 -170 cm | GH9: 05022 S Sparring Youth 6-13 M A/B G04-D03 -170 cm | GI9: 05023 S Sparring Youth 6-13 M A/B G04-D03 +170 cm | GJ9: 05024 Sparring Youth 6-13 M B G04-G01 -130 cm | GK9: 05024 Sparring Youth 6-13 M B G04-G01 -130 cm | GL9: 05024 Sparring Youth 6-13 M B G04-G01 -130 cm | GM9: 05024 Sparring Youth 6-13 M B G04-G01 -130 cm | GN9: 05025 Sparring Youth 6-13 M B G04-G01 -140 cm | GO9: 05025 Sparring Youth 6-13 M B G04-G01 -140 cm | GP9: 05025 Sparring Youth 6-13 M B G04-G01 -140 cm | GQ9: 05025 Sparring Youth 6-13 M B G04-G01 -140 cm | GR9: 05030 Sparring Youth 6-13 M C G10-G05 -130 cm | GS9: 05030 Sparring Youth 6-13 M C G10-G05 -130 cm | GT9: 05030 Sparring Youth 6-13 M C G10-G05 -130 cm | GU9: 05030 Sparring Youth 6-13 M C G10-G05 -130 cm | GV9: 05031 Sparring Youth 6-13 M C G10-G05 -140 cm | GW9: 05031 Sparring Youth 6-13 M C G10-G05 -140 cm | GX9: 05031 Sparring Youth 6-13 M C G10-G05 -140 cm | GY9: 05031 Sparring Youth 6-13 M C G10-G05 -140 cm | GZ9: 05032 Sparring Youth 6-13 M C G10-G05 -150 cm | HA9: 05032 Sparring Youth 6-13 M C G10-G05 -150 cm | HB9: 05032 Sparring Youth 6-13 M C G10-G05 -150 cm | HC9: 05032 Sparring Youth 6-13 M C G10-G05 -150 cm | HD9: 05033 Sparring Youth 6-13 M C G10-G05 -160 cm | HE9: 05033 Sparring Youth 6-13 M C G10-G05 -160 cm | HF9: 05033 Sparring Youth 6-13 M C G10-G05 -160 cm | HG9: 05033 Sparring Youth 6-13 M C G10-G05 -160 cm | HH9: 05034 Sparring Youth 6-13 M C G10-G05 -170 cm | HI9: 05034 Sparring Youth 6-13 M C G10-G05 -170 cm | HJ9: 05034 Sparring Youth 6-13 M C G10-G05 -170 cm | HK9: 05034 Sparring Youth 6-13 M C G10-G05 -170 cm | HL9: 05035 Sparring Youth 6-13 M C G10-G05 +170 cm | HM9: 05035 Sparring Youth 6-13 M C G10-G05 +170 cm | HN9: 05035 Sparring Youth 6-13 M C G10-G05 +170 cm | HO9: 05035 Sparring Youth 6-13 M C G10-G05 +170 cm | HP9: 05036 S Sparring Junior 14-17 F A/B G04-D03 -45 kg | HQ9: 05036 S Sparring Junior 14-17 F A/B G04-D03 -45 kg | HR9: 05036 S Sparring Junior 14-17 F A/B G04-D03 -45 kg | HS9: 05036 S Sparring Junior 14-17 F A/B G04-D03 -45 kg | HT9: 05037 S Sparring Junior 14-17 F A/B G04-D03 -50 kg | HU9: 05037 S Sparring Junior 14-17 F A/B G04-D03 -50 kg | HV9: 05037 S Sparring Junior 14-17 F A/B G04-D03 -50 kg | HW9: 05037 S Sparring Junior 14-17 F A/B G04-D03 -50 kg | HX9: 05038 S Sparring Junior 14-17 F A/B G04-D03 -55 kg | HY9: 05038 S Sparring Junior 14-17 F A/B G04-D03 -55 kg | HZ9: 05038 S Sparring Junior 14-17 F A/B G04-D03 -55 kg | IA9: 05038 S Sparring Junior 14-17 F A/B G04-D03 -55 kg | IB9: 05039 S Sparring Junior 14-17 F A/B G04-D03 - 60 kg | IC9: 05039 S Sparring Junior 14-17 F A/B G04-D03 - 60 kg | ID9: 05039 S Sparring Junior 14-17 F A/B G04-D03 - 60 kg | IE9: 05039 S Sparring Junior 14-17 F A/B G04-D03 - 60 kg | IF9: 05040 Sparring Junior 14-17 F A/B G04-D03 -65 kg | IG9: 05040 Sparring Junior 14-17 F A/B G04-D03 -65 kg | IH9: 05040 Sparring Junior 14-17 F A/B G04-D03 -65 kg | II9: 05040 Sparring Junior 14-17 F A/B G04-D03 -65 kg | IJ9: 05041 S Sparring Junior 14-17 F A/B G04-D03 +65 kg | IK9: 05041 S Sparring Junior 14-17 F A/B G04-D03 +65 kg | IL9: 05041 S Sparring Junior 14-17 F A/B G04-D03 +65 kg | IM9: 05041 S Sparring Junior 14-17 F A/B G04-D03 +65 kg | IN9: 05048 S Sparring Junior 14-17 F C G10-G05 -50 kg | IO9: 05048 S Sparring Junior 14-17 F C G10-G05 -50 kg | IP9: 05050 Sparring Junior 14-17 F C G10-G05 -55 kg | IQ9: 05050 Sparring Junior 14-17 F C G10-G05 -55 kg | IR9: 05052 S Sparring Junior 14-17 F C G10-G05 +60 kg | IS9: 05052 S Sparring Junior 14-17 F C G10-G05 +60 kg | IT9: 05052 S Sparring Junior 14-17 F C G10-G05 +60 kg | IU9: 05052 S Sparring Junior 14-17 F C G10-G05 +60 kg | IV9: 05054 S Sparring Junior 14-17 M A/B G04-D03 - 50 kg | IW9: 05054 S Sparring Junior 14-17 M A/B G04-D03 - 50 kg | IX9: 05054 S Sparring Junior 14-17 M A/B G04-D03 - 50 kg | IY9: 05054 S Sparring Junior 14-17 M A/B G04-D03 - 50 kg | IZ9: 05055 Sparring Junior 14-17 M A D01-D03 -56 kg | JA9: 05055 Sparring Junior 14-17 M A D01-D03 -56 kg | JB9: 05055 Sparring Junior 14-17 M A D01-D03 -56 kg | JC9: 05055 Sparring Junior 14-17 M A D01-D03 -56 kg | JD9: 05056 Sparring Junior 14-17 M A D01-D03 -62 kg | JE9: 05056 Sparring Junior 14-17 M A D01-D03 -62 kg | JF9: 05056 Sparring Junior 14-17 M A D01-D03 -62 kg | JG9: 05056 Sparring Junior 14-17 M A D01-D03 -62 kg | JH9: 05057 S Sparring Junior 14-17 M A/B G04-D03 -68 kg | JI9: 05057 S Sparring Junior 14-17 M A/B G04-D03 -68 kg | JJ9: 05057 S Sparring Junior 14-17 M A/B G04-D03 -68 kg | JK9: 05058 S Sparring Junior 14-17 M A/B G04-D03 -75 kg | JL9: 05058 S Sparring Junior 14-17 M A/B G04-D03 -75 kg | JM9: 05058 S Sparring Junior 14-17 M A/B G04-D03 -75 kg | JN9: 05058 S Sparring Junior 14-17 M A/B G04-D03 -75 kg | JO9: 05059 Sparring Junior 14-17 M A D01-D03 +75 kg | JP9: 05059 Sparring Junior 14-17 M A D01-D03 +75 kg | JQ9: 05059 Sparring Junior 14-17 M A D01-D03 +75 kg | JR9: 05059 Sparring Junior 14-17 M A D01-D03 +75 kg | JS9: 05061 Sparring Junior 14-17 M B G04-G01 -56 kg | JT9: 05061 Sparring Junior 14-17 M B G04-G01 -56 kg | JU9: 05061 Sparring Junior 14-17 M B G04-G01 -56 kg | JV9: 05062 Sparring Junior 14-17 M B G04-G01 -62 kg | JW9: 05062 Sparring Junior 14-17 M B G04-G01 -62 kg | JX9: 05062 Sparring Junior 14-17 M B G04-G01 -62 kg | JY9: 05065 Sparring Junior 14-17 M B G04-G01 +75 kg | JZ9: 05065 Sparring Junior 14-17 M B G04-G01 +75 kg | KA9: 05065 Sparring Junior 14-17 M B G04-G01 +75 kg | KB9: 05065 Sparring Junior 14-17 M B G04-G01 +75 kg | KC9: 05067 S Sparring Junior 14-17 M C G10-G05 -62 kg | KD9: 05067 S Sparring Junior 14-17 M C G10-G05 -62 kg | KE9: 05067 S Sparring Junior 14-17 M C G10-G05 -62 kg | KF9: 05067 S Sparring Junior 14-17 M C G10-G05 -62 kg | KG9: 05069 Sparring Junior 14-17 M C G10-G05 -68 kg | KH9: 05069 Sparring Junior 14-17 M C G10-G05 -68 kg | KI9: 05069 Sparring Junior 14-17 M C G10-G05 -68 kg | KJ9: 05071 Sparring Junior 14-17 M C G10-G05 +75 kg | KK9: 05071 Sparring Junior 14-17 M C G10-G05 +75 kg | KL9: 05072 S Sparring Senior 18+ F A/B G04-D06 -56 kg | KM9: 05072 S Sparring Senior 18+ F A/B G04-D06 -56 kg | KN9: 05072 S Sparring Senior 18+ F A/B G04-D06 -56 kg | KO9: 05072 S Sparring Senior 18+ F A/B G04-D06 -56 kg | KP9: 05074 Sparring Senior 18+ F A D01-D06 -62 kg | KQ9: 05074 Sparring Senior 18+ F A D01-D06 -62 kg | KR9: 05074 Sparring Senior 18+ F A D01-D06 -62 kg | KS9: 05074 Sparring Senior 18+ F A D01-D06 -62 kg | KT9: 05075 S Sparring Senior 18+ F A D01-D06 -75 kg | KU9: 05077 S Sparring Senior 18+ F A/B G04-D06 +75kg | KV9: 05077 S Sparring Senior 18+ F A/B G04-D06 +75kg | KW9: 05077 S Sparring Senior 18+ F A/B G04-D06 +75kg | KX9: 05077 S Sparring Senior 18+ F A/B G04-D06 +75kg | KY9: 05085 S Sparring Senior 18+ F C G10-G05 -62 kg | KZ9: 05085 S Sparring Senior 18+ F C G10-G05 -62 kg | LA9: 05090 S Sparring Senior 18+ M A/B G04-D06 -57 kg | LB9: 05090 S Sparring Senior 18+ M A/B G04-D06 -57 kg | LC9: 05090 S Sparring Senior 18+ M A/B G04-D06 -57 kg | LD9: 05091 S Sparring Senior 18+ M A/B G04-D06 -63kg | LE9: 05091 S Sparring Senior 18+ M A/B G04-D06 -63kg | LF9: 05091 S Sparring Senior 18+ M A/B G04-D06 -63kg | LG9: 05091 S Sparring Senior 18+ M A/B G04-D06 -63kg | LH9: 05092 Sparring Senior 18+ M A D01-D06 -70 kg | LI9: 05092 Sparring Senior 18+ M A D01-D06 -70 kg | LJ9: 05092 Sparring Senior 18+ M A D01-D06 -70 kg | LK9: 05092 Sparring Senior 18+ M A D01-D06 -70 kg | LL9: 05093 S Sparring Senior 18+ M A/B G04-D06 -78 kg | LM9: 05093 S Sparring Senior 18+ M A/B G04-D06 -78 kg | LN9: 05093 S Sparring Senior 18+ M A/B G04-D06 -78 kg | LO9: 05093 S Sparring Senior 18+ M A/B G04-D06 -78 kg | LP9: 05094 S Sparring Senior 18+ M A/B G04-D06 -85 kg | LQ9: 05094 S Sparring Senior 18+ M A/B G04-D06 -85 kg | LR9: 05094 S Sparring Senior 18+ M A/B G04-D06 -85 kg | LS9: 05094 S Sparring Senior 18+ M A/B G04-D06 -85 kg | LT9: 05095 S Sparring Senior 18+ M A/B G04-D06 +85 kg | LU9: 05095 S Sparring Senior 18+ M A/B G04-D06 +85 kg | LV9: 05095 S Sparring Senior 18+ M A/B G04-D06 +85 kg | LW9: 05095 S Sparring Senior 18+ M A/B G04-D06 +85 kg | LX9: 05098 Sparring Senior 18+ M B G04-G01 -70 kg | LY9: 05098 Sparring Senior 18+ M B G04-G01 -70 kg | LZ9: 05098 Sparring Senior 18+ M B G04-G01 -70 kg | MA9: 05104 Sparring Senior 18+ M C G10-G05 -70 kg | MB9: 05104 Sparring Senior 18+ M C G10-G05 -70 kg | MC9: 05104 Sparring Senior 18+ M C G10-G05 -70 kg | MD9: 05104 Sparring Senior 18+ M C G10-G05 -70 kg | ME9: 05105 Sparring Senior 18+ M C G10-G05 -78 kg | MF9: 05105 Sparring Senior 18+ M C G10-G05 -78 kg | MG9: 05105 Sparring Senior 18+ M C G10-G05 -78 kg | MH9: 05105 Sparring Senior 18+ M C G10-G05 -78 kg | MI9: 05106 Sparring Senior 18+ M C G10-G05 -85 kg | MJ9: 05106 Sparring Senior 18+ M C G10-G05 -85 kg | MK9: 05106 Sparring Senior 18+ M C G10-G05 -85 kg | ML9: 05106 Sparring Senior 18+ M C G10-G05 -85 kg | MM9: 05107 Sparring Senior 18+ M C G10-G05 +85 kg | MN9: 05112 S Sparring Veteran 35+ M A D01-D06 +50 kg | MO9: 05112 S Sparring Veteran 35+ M A D01-D06 +50 kg | MP9: 06000 Overall Sparring Junior 14-17 F A+B G04-D03 | MQ9: 06000 Overall Sparring Junior 14-17 F A+B G04-D03 | MR9: 06000 Overall Sparring Junior 14-17 F A+B G04-D03 | MS9: 06001 Overall Sparring Junior 14-17 M A+B G04-D03 | MT9: 06001 Overall Sparring Junior 14-17 M A+B G04-D03 | MU9: 06001 Overall Sparring Junior 14-17 M A+B G04-D03 | MV9: 06002 Overall Sparring Senior-Veteran 18+ F A+B G04-D06 | MW9: 06002 Overall Sparring Senior-Veteran 18+ F A+B G04-D06 | MX9: 06002 Overall Sparring Senior-Veteran 18+ F A+B G04-D06 | MY9: 06003 Overall Sparring Senior-Veteran 18+ M A+B G04-D06 | MZ9: 06003 Overall Sparring Senior-Veteran 18+ M A+B G04-D06 | NA9: 06003 Overall Sparring Senior-Veteran 18+ M A+B G04-D06 | NB9: 07000 S Power Breaking Junior 14-17 F A/B G04-D03 | NC9: 07000 S Power Breaking Junior 14-17 F A/B G04-D03 | ND9: 07000 S Power Breaking Junior 14-17 F A/B G04-D03 | NE9: 07000 S Power Breaking Junior 14-17 F A/B G04-D03 | NF9: 07002 S Power Breaking Junior 14-17 M A/B G04-D03 | NG9: 07002 S Power Breaking Junior 14-17 M A/B G04-D03 | NH9: 07002 S Power Breaking Junior 14-17 M A/B G04-D03 | NI9: 07004 S Power Breaking Senior 18+ F A/B G04-D06 | NJ9: 07004 S Power Breaking Senior 18+ F A/B G04-D06 | NK9: 07004 S Power Breaking Senior 18+ F A/B G04-D06 | NL9: 07004 S Power Breaking Senior 18+ F A/B G04-D06 | NM9: 07006 S Power Breaking Senior 18+ M A/B G04-D06 | NN9: 07006 S Power Breaking Senior 18+ M A/B G04-D06 | NO9: 07006 S Power Breaking Senior 18+ M A/B G04-D06 | NP9: 07006 S Power Breaking Senior 18+ M A/B G04-D06 | NQ9: Eindtotaal
A10: Rijlabels | B10: 1. Gold | C10: 2. Silver | D10: 0. None | E10: 1. Gold | F10: 2. Silver | G10: 3. Bronze | H10: 0. None | I10: 1. Gold | J10: 2. Silver | K10: 3. Bronze | L10: 0. None | M10: 1. Gold | N10: 2. Silver | O10: 3. Bronze | P10: 0. None | Q10: 1. Gold | R10: 2. Silver | S10: 3. Bronze | T10: 0. None | U10: 1. Gold | V10: 2. Silver | W10: 3. Bronze | X10: 0. None | Y10: 1. Gold | Z10: 2. Silver | AA10: 3. Bronze | AB10: 0. None | AC10: 1. Gold | AD10: 2. Silver | AE10: 3. Bronze | AF10: 0. None | AG10: 1. Gold | AH10: 2. Silver | AI10: 3. Bronze | AJ10: 0. None | AK10: 1. Gold | AL10: 2. Silver | AM10: 3. Bronze | AN10: 0. None | AO10: 1. Gold | AP10: 2. Silver | AQ10: 3. Bronze | AR10: 0. None | AS10: 1. Gold | AT10: 2. Silver | AU10: 3. Bronze | AV10: 0. None | AW10: 1. Gold | AX10: 2. Silver | AY10: 3. Bronze | AZ10: 0. None | BA10: 1. Gold | BB10: 2. Silver | BC10: 3. Bronze | BD10: 0. None | BE10: 1. Gold | BF10: 2. Silver | BG10: 3. Bronze | BH10: 0. None | BI10: 1. Gold | BJ10: 2. Silver | BK10: 3. Bronze | BL10: 0. None | BM10: 1. Gold | BN10: 2. Silver | BO10: 3. Bronze | BP10: 0. None | BQ10: 1. Gold | BR10: 2. Silver | BS10: 3. Bronze | BT10: 1. Gold | BU10: 2. Silver | BV10: 0. None | BW10: 1. Gold | BX10: 2. Silver | BY10: 3. Bronze | BZ10: 1. Gold | CA10: 2. Silver | CB10: 3. Bronze | CC10: 0. None | CD10: 1. Gold | CE10: 2. Silver | CF10: 3. Bronze | CG10: 0. None | CH10: 1. Gold | CI10: 2. Silver | CJ10: 3. Bronze | CK10: 0. None | CL10: 1. Gold | CM10: 2. Silver | CN10: 3. Bronze | CO10: 0. None | CP10: 1. Gold | CQ10: 2. Silver | CR10: 3. Bronze | CS10: 1. Gold | CT10: 2. Silver | CU10: 3. Bronze | CV10: 0. None | CW10: 1. Gold | CX10: 2. Silver | CY10: 3. Bronze | CZ10: 0. None | DA10: 1. Gold | DB10: 2. Silver | DC10: 3. Bronze | DD10: 0. None | DE10: 1. Gold | DF10: 2. Silver | DG10: 3. Bronze | DH10: 0. None | DI10: 1. Gold | DJ10: 2. Silver | DK10: 3. Bronze | DL10: 0. None | DM10: 1. Gold | DN10: 2. Silver | DO10: 3. Bronze | DP10: 0. None | DQ10: 1. Gold | DR10: 2. Silver | DS10: 3. Bronze | DT10: 0. None | DU10: 1. Gold | DV10: 2. Silver | DW10: 3. Bronze | DX10: 0. None | DY10: 1. Gold | DZ10: 2. Silver | EA10: 3. Bronze | EB10: 0. None | EC10: 1. Gold | ED10: 3. Bronze | EE10: 0. None | EF10: 1. Gold | EG10: 2. Silver | EH10: 0. None | EI10: 1. Gold | EJ10: 2. Silver | EK10: 0. None | EL10: 1. Gold | EM10: 2. Silver | EN10: 3. Bronze | EO10: 0. None | EP10: 1. Gold | EQ10: 2. Silver | ER10: 3. Bronze | ES10: 0. None | ET10: 1. Gold | EU10: 2. Silver | EV10: 3. Bronze | EW10: 1. Gold | EX10: 2. Silver | EY10: 0. None | EZ10: 1. Gold | FA10: 2. Silver | FB10: 3. Bronze | FC10: 0. None | FD10: 1. Gold | FE10: 2. Silver | FF10: 3. Bronze | FG10: 0. None | FH10: 1. Gold | FI10: 2. Silver | FJ10: 3. Bronze | FK10: 0. None | FL10: 1. Gold | FM10: 2. Silver | FN10: 3. Bronze | FO10: 0. None | FP10: 1. Gold | FQ10: 2. Silver | FR10: 3. Bronze | FS10: 0. None | FT10: 1. Gold | FU10: 2. Silver | FV10: 3. Bronze | FW10: 0. None | FX10: 1. Gold | FY10: 2. Silver | FZ10: 3. Bronze | GA10: 0. None | GB10: 1. Gold | GC10: 2. Silver | GD10: 3. Bronze | GE10: 0. None | GF10: 1. Gold | GG10: 2. Silver | GH10: 3. Bronze | GI10: 0. None | GJ10: 0. None | GK10: 1. Gold | GL10: 2. Silver | GM10: 3. Bronze | GN10: 0. None | GO10: 1. Gold | GP10: 2. Silver | GQ10: 3. Bronze | GR10: 0. None | GS10: 1. Gold | GT10: 2. Silver | GU10: 3. Bronze | GV10: 0. None | GW10: 1. Gold | GX10: 2. Silver | GY10: 3. Bronze | GZ10: 0. None | HA10: 1. Gold | HB10: 2. Silver | HC10: 3. Bronze | HD10: 0. None | HE10: 1. Gold | HF10: 2. Silver | HG10: 3. Bronze | HH10: 0. None | HI10: 1. Gold | HJ10: 2. Silver | HK10: 3. Bronze | HL10: 0. None | HM10: 1. Gold | HN10: 2. Silver | HO10: 3. Bronze | HP10: 0. None | HQ10: 1. Gold | HR10: 2. Silver | HS10: 3. Bronze | HT10: 0. None | HU10: 1. Gold | HV10: 2. Silver | HW10: 3. Bronze | HX10: 0. None | HY10: 1. Gold | HZ10: 2. Silver | IA10: 3. Bronze | IB10: 0. None | IC10: 1. Gold | ID10: 2. Silver | IE10: 3. Bronze | IF10: 0. None | IG10: 1. Gold | IH10: 2. Silver | II10: 3. Bronze | IJ10: 0. None | IK10: 1. Gold | IL10: 2. Silver | IM10: 3. Bronze | IN10: 1. Gold | IO10: 2. Silver | IP10: 1. Gold | IQ10: 2. Silver | IR10: 0. None | IS10: 1. Gold | IT10: 2. Silver | IU10: 3. Bronze | IV10: 0. None | IW10: 1. Gold | IX10: 2. Silver | IY10: 3. Bronze | IZ10: 0. None | JA10: 1. Gold | JB10: 2. Silver | JC10: 3. Bronze | JD10: 0. None | JE10: 1. Gold | JF10: 2. Silver | JG10: 3. Bronze | JH10: 0. None | JI10: 1. Gold | JJ10: 2. Silver | JK10: 0. None | JL10: 1. Gold | JM10: 2. Silver | JN10: 3. Bronze | JO10: 0. None | JP10: 1. Gold | JQ10: 2. Silver | JR10: 3. Bronze | JS10: 1. Gold | JT10: 2. Silver | JU10: 3. Bronze | JV10: 0. None | JW10: 1. Gold | JX10: 3. Bronze | JY10: 0. None | JZ10: 1. Gold | KA10: 2. Silver | KB10: 3. Bronze | KC10: 0. None | KD10: 1. Gold | KE10: 2. Silver | KF10: 3. Bronze | KG10: 1. Gold | KH10: 2. Silver | KI10: 3. Bronze | KJ10: 1. Gold | KK10: 2. Silver | KL10: 0. None | KM10: 1. Gold | KN10: 2. Silver | KO10: 3. Bronze | KP10: 0. None | KQ10: 1. Gold | KR10: 2. Silver | KS10: 3. Bronze | KT10: 0. None | KU10: 0. None | KV10: 1. Gold | KW10: 2. Silver | KX10: 3. Bronze | KY10: 1. Gold | KZ10: 2. Silver | LA10: 1. Gold | LB10: 2. Silver | LC10: 3. Bronze | LD10: 0. None | LE10: 1. Gold | LF10: 2. Silver | LG10: 3. Bronze | LH10: 0. None | LI10: 1. Gold | LJ10: 2. Silver | LK10: 3. Bronze | LL10: 0. None | LM10: 1. Gold | LN10: 2. Silver | LO10: 3. Bronze | LP10: 0. None | LQ10: 1. Gold | LR10: 2. Silver | LS10: 3. Bronze | LT10: 0. None | LU10: 1. Gold | LV10: 2. Silver | LW10: 3. Bronze | LX10: 1. Gold | LY10: 2. Silver | LZ10: 3. Bronze | MA10: 0. None | MB10: 1. Gold | MC10: 2. Silver | MD10: 3. Bronze | ME10: 0. None | MF10: 1. Gold | MG10: 2. Silver | MH10: 3. Bronze | MI10: 0. None | MJ10: 1. Gold | MK10: 2. Silver | ML10: 3. Bronze | MM10: 0. None | MN10: 1. Gold | MO10: 2. Silver | MP10: 0. None | MQ10: 1. Gold | MR10: 2. Silver | MS10: 0. None | MT10: 1. Gold | MU10: 2. Silver | MV10: 0. None | MW10: 1. Gold | MX10: 2. Silver | MY10: 0. None | MZ10: 1. Gold | NA10: 2. Silver | NB10: 0. None | NC10: 1. Gold | ND10: 2. Silver | NE10: 3. Bronze | NF10: 0. None | NG10: 1. Gold | NH10: 3. Bronze | NI10: 0. None | NJ10: 1. Gold | NK10: 2. Silver | NL10: 3. Bronze | NM10: 0. None | NN10: 1. Gold | NO10: 2. Silver | NP10: 3. Bronze
A11: Aberdeenshire Blackbelt Club | AR11: 1 | JM11: 1 | MS11: 1 | NF11: 1 | NQ11: 4
A12: BOOZ ITF Taekwon-Do | CG12: 1 | NQ12: 1
A13: Braveheart Martial Arts | P13: 1 | AB13: 2 | CF13: 1 | DD13: 1 | FJ13: 1 | FW13: 1 | GE13: 1 | KP13: 1 | LN13: 1 | NA13: 1 | NQ13: 11
A14: Chong Do Kwan | D14: 1 | H14: 1 | K14: 1 | P14: 2 | AF14: 1 | AN14: 1 | EE14: 6 | EK14: 1 | FI14: 1 | FO14: 1 | FP14: 1 | FS14: 1 | GT14: 1 | HF14: 1 | NQ14: 20
A15: Christiania NTN Taekwon-Do Norway | CB15: 1 | CZ15: 1 | DP15: 1 | EH15: 1 | KU15: 1 | LH15: 1 | LO15: 1 | MI15: 1 | MV15: 1 | MY15: 2 | NI15: 1 | NQ15: 12
A16: Difesa Sports | L16: 1 | AJ16: 1 | AZ16: 1 | BH16: 1 | BV16: 1 | DV16: 1 | EE16: 3 | FO16: 1 | GR16: 1 | II16: 1 | JD16: 1 | KQ16: 1 | MK16: 1 | NK16: 1 | NQ16: 16
A17: England Taekwon-Do Association | AS17: 1 | BP17: 1 | BZ17: 1 | CZ17: 1 | DN17: 1 | DP17: 2 | HW17: 1 | KJ17: 1 | KN17: 1 | LH17: 1 | LP17: 1 | MD17: 1 | MG17: 1 | MV17: 1 | MY17: 1 | NQ17: 16
A18: Frolunda TKD | BH18: 1 | JP18: 1 | MS18: 1 | NQ18: 3
A19: Ge-Baek | BA19: 1 | NE19: 1 | NM19: 1 | NQ19: 3
A20: GMS Martial arts | T20: 1 | BH20: 4 | GI20: 1 | IV20: 1 | IZ20: 2 | JB20: 1 | NF20: 3 | NQ20: 13
A21: HWA RANG SAN PEDRO ALCANTARA | AB21: 1 | AN21: 1 | FW21: 1 | GR21: 1 | NQ21: 4
A22: Hyong Celje | AV22: 2 | HV22: 1 | HZ22: 1 | IC22: 1 | IH22: 1 | IK22: 1 | MP22: 2 | MQ22: 1 | NQ22: 10
A23: I-Kick Martial Arts | D23: 1 | H23: 1 | L23: 1 | AF23: 2 | AI23: 1 | BH23: 1 | BR23: 1 | CP23: 1 | DA23: 1 | EE23: 5 | EH23: 1 | EJ23: 1 | EK23: 1 | FS23: 1 | FV23: 1 | GZ23: 2 | HD23: 1 | JQ23: 1 | KH23: 1 | KY23: 1 | LI23: 1 | MY23: 1 | NQ23: 28
A24: IMPACT | X24: 1 | CG24: 2 | GA24: 1 | KP24: 1 | KT24: 1 | MV24: 2 | NI24: 2 | NQ24: 10
A25: ITF Fusion | AX25: 1 | CV25: 1 | CY25: 1 | HR25: 1 | LE25: 1 | LH25: 1 | MO25: 1 | NQ25: 7
A26: ITF JAPAN - KANSAI | CE26: 1 | NQ26: 1
A27: ITF Paris | CC27: 1 | CG27: 1 | DD27: 1 | DJ27: 1 | KL27: 1 | LL27: 1 | LP27: 1 | NQ27: 7
A28: Jungshin Kwan | H28: 1 | L28: 1 | P28: 1 | AF28: 2 | AH28: 1 | AJ28: 1 | CR28: 1 | CT28: 1 | DP28: 1 | DU28: 1 | EE28: 7 | EH28: 4 | FK28: 1 | FO28: 1 | GR28: 1 | GZ28: 2 | HD28: 2 | ME28: 1 | MI28: 1 | NQ28: 31
A29: Just For Kicks | BX29: 1 | NQ29: 1
A30: Kassem Gym | EL30: 1 | EM30: 1 | EN30: 1 | EX30: 1 | EZ30: 1 | FA30: 1 | FE30: 1 | FG30: 1 | FN30: 1 | FO30: 1 | GC30: 1 | GM30: 1 | GU30: 1 | GX30: 1 | GZ30: 1 | HD30: 2 | IB30: 1 | IJ30: 1 | IL30: 1 | IM30: 1 | IN30: 1 | IS30: 1 | IT30: 1 | IZ30: 1 | JD30: 1 | JH30: 1 | KP30: 1 | KU30: 1 | LK30: 1 | LU30: 1 | NQ30: 31
A31: Koguryo | D31: 3 | AB31: 1 | AV31: 1 | CA31: 1 | DB31: 1 | DX31: 1 | EK31: 1 | EQ31: 1 | EU31: 1 | EY31: 2 | GN31: 1 | HQ31: 1 | HY31: 1 | KL31: 1 | KM31: 1 | KR31: 1 | KT31: 1 | KV31: 1 | LD31: 1 | LH31: 1 | LT31: 1 | MR31: 1 | MV31: 2 | MW31: 1 | NQ31: 28
A32: MARRIS GYM | D32: 1 | H32: 1 | AB32: 1 | AJ32: 1 | FC32: 1 | FK32: 1 | GL32: 1 | GR32: 1 | NQ32: 8
A33: Ohdokwan | AB33: 1 | AF33: 1 | AV33: 1 | BB33: 1 | BH33: 1 | BL33: 1 | BM33: 1 | CN33: 1 | CS33: 1 | CU33: 1 | DL33: 1 | DT33: 1 | EE33: 1 | EH33: 3 | HX33: 1 | IB33: 1 | JV33: 1 | JX33: 1 | JY33: 1 | KC33: 1 | KE33: 1 | LT33: 1 | ML33: 1 | NC33: 1 | NF33: 1 | NM33: 3 | NO33: 1 | NP33: 1 | NQ33: 32
A34: PUMA England | E34: 1 | Q34: 1 | X34: 1 | AO34: 1 | AR34: 1 | AV34: 2 | AY34: 1 | BH34: 2 | BW34: 1 | CX34: 1 | DD34: 1 | EC34: 1 | EE34: 2 | EK34: 1 | FO34: 1 | GS34: 1 | HP34: 1 | HS34: 1 | HX34: 1 | JN34: 1 | JR34: 1 | LH34: 1 | MS34: 1 | MT34: 1 | NG34: 1 | NQ34: 28
A35: RasBudo ITF Taekwon-do rf | EK35: 1 | JH35: 1 | NQ35: 2
A36: SLOVENIA TEAM | GE36: 1 | HP36: 1 | JA36: 1 | LA36: 1 | NQ36: 4
A37: Soo Bak-Gi | D37: 1 | P37: 1 | AB37: 1 | AJ37: 2 | AL37: 1 | BL37: 1 | BO37: 1 | BQ37: 1 | CC37: 1 | EE37: 4 | FO37: 1 | FW37: 1 | GV37: 2 | JG37: 1 | JU37: 1 | KG37: 1 | LL37: 1 | MH37: 1 | NI37: 1 | NQ37: 24
A38: South queensferry TKD | CH38: 1 | CZ38: 1 | DE38: 1 | LF38: 1 | LP38: 1 | MY38: 1 | NQ38: 6
A39: Sportschool Tim Kool | B39: 1 | D39: 5 | H39: 3 | L39: 2 | P39: 9 | X39: 3 | AB39: 1 | AC39: 1 | AF39: 4 | AN39: 2 | AV39: 1 | AW39: 1 | BH39: 2 | BL39: 1 | BS39: 1 | BU39: 1 | CD39: 1 | CG39: 1 | CI39: 1 | CO39: 2 | CQ39: 1 | DC39: 1 | DF39: 1 | DL39: 1 | DP39: 1 | DY39: 1 | EA39: 1 | EB39: 1 | EE39: 14 | EH39: 6 | EK39: 1 | EP39: 1 | EV39: 1 | FB39: 1 | FG39: 4 | FK39: 3 | FO39: 2 | FS39: 1 | FY39: 1 | GA39: 2 | GP39: 1 | GQ39: 1 | GR39: 2 | GZ39: 3 | HT39: 1 | ID39: 1 | IZ39: 1 | JD39: 1 | JH39: 1 | JK39: 1 | JO39: 2 | JZ39: 1 | KA39: 1 | KF39: 1 | KI39: 1 | KS39: 1 | KU39: 1 | KZ39: 1 | LG39: 1 | LM39: 1 | LP39: 1 | LR39: 1 | LV39: 1 | MP39: 1 | MS39: 4 | MV39: 1 | MY39: 3 | MZ39: 1 | NM39: 1 | NQ39: 126
A40: Sportschule Monheim | CG40: 1 | CL40: 1 | DH40: 1 | DL40: 1 | DO40: 1 | KO40: 1 | KP40: 1 | LD40: 1 | LL40: 1 | LY40: 1 | MX40: 1 | NQ40: 11
A41: sportschuledamato | G41: 1 | L41: 2 | M41: 1 | N41: 1 | AF41: 1 | AN41: 1 | AV41: 2 | DD41: 1 | DR41: 1 | EE41: 5 | EG41: 1 | EH41: 1 | EK41: 1 | FH41: 1 | FK41: 1 | FO41: 1 | FQ41: 1 | GW41: 1 | GZ41: 1 | HU41: 1 | IB41: 1 | LH41: 1 | MA41: 1 | MP41: 1 | NB41: 1 | ND41: 1 | NQ41: 32
A42: T.A.Nimjae | D42: 2 | H42: 1 | L42: 1 | P42: 1 | R42: 1 | W42: 1 | AJ42: 1 | DW42: 1 | EE42: 5 | EH42: 1 | FC42: 2 | FG42: 1 | FK42: 3 | GB42: 1 | GV42: 1 | MB42: 1 | NQ42: 24
A43: Taekwon-Do Academy Graziella Idili | D43: 1 | J43: 1 | P43: 1 | AJ43: 1 | AN43: 1 | AP43: 1 | AU43: 1 | BC43: 1 | BH43: 1 | BJ43: 1 | BN43: 1 | DZ43: 1 | EE43: 3 | EK43: 1 | ES43: 1 | FG43: 1 | FO43: 1 | GR43: 1 | GV43: 1 | JD43: 1 | JH43: 1 | JI43: 1 | MU43: 1 | NQ43: 25
A44: Taekwon-do Den Hoorn | H44: 3 | P44: 2 | S44: 1 | AF44: 3 | AN44: 1 | DP44: 1 | EE44: 12 | EH44: 1 | FG44: 1 | FK44: 1 | FM44: 1 | FO44: 1 | FR44: 1 | FS44: 1 | GR44: 2 | GV44: 3 | MF44: 1 | NQ44: 36
A45: Taekwon-Do Excel | X45: 2 | GN45: 1 | GO45: 1 | NQ45: 4
A46: Taekwon-Do IN NAE DO KWAN | D46: 1 | F46: 1 | H46: 2 | AE46: 1 | AF46: 2 | BH46: 1 | DI46: 1 | DS46: 1 | EE46: 4 | EH46: 1 | ER46: 1 | FD46: 1 | FO46: 2 | GE46: 1 | GY46: 1 | HC46: 1 | JC46: 1 | JD46: 1 | LH46: 1 | LP46: 1 | MC46: 1 | MS46: 1 | MY46: 1 | NQ46: 29
A47: Taekwon-Do ITF Nimes | CV47: 1 | CW47: 1 | NM47: 1 | NQ47: 3
A48: Taekwondo Martial Arts Center Delft | DP48: 2 | EE48: 3 | EH48: 1 | FK48: 1 | FO48: 2 | FS48: 1 | GR48: 1 | HA48: 1 | HJ48: 1 | HL48: 1 | HP48: 1 | IQ48: 1 | KD48: 1 | NB48: 1 | NQ48: 18
A49: Taekwondo Middelburg | L49: 1 | O49: 1 | X49: 1 | AA49: 1 | AF49: 1 | AG49: 1 | AN49: 1 | BL49: 1 | EE49: 5 | FK49: 1 | FS49: 1 | GV49: 3 | JH49: 1 | JK49: 1 | LH49: 1 | MS49: 1 | MY49: 1 | NQ49: 23
A50: taekwon-do norden | CC50: 1 | KT50: 1 | NQ50: 2
A51: Taekwon-Do School Martowirono | AB51: 2 | AZ51: 2 | BL51: 3 | DK51: 1 | DL51: 1 | GD51: 1 | HX51: 1 | JT51: 1 | JV51: 1 | JW51: 1 | LB51: 1 | LP51: 1 | NB51: 2 | NF51: 3 | NM51: 1 | NQ51: 22
A52: Taekwon-Do So San | U52: 1 | AD52: 1 | AV52: 1 | FW52: 3 | IE52: 1 | NQ52: 7
A53: Taekwon-Do Team Vrijsen | H53: 2 | P53: 1 | AB53: 2 | AJ53: 2 | AN53: 1 | BF53: 1 | BG53: 1 | CM53: 1 | FK53: 1 | FO53: 1 | FT53: 1 | FZ53: 1 | GI53: 1 | HB53: 1 | HI53: 1 | HM53: 1 | IG53: 1 | IO53: 1 | IU53: 1 | IV53: 1 | JS53: 1 | KW53: 1 | LL53: 1 | LZ53: 1 | NF53: 1 | NI53: 1 | NL53: 1 | NM53: 1 | NQ53: 31
A54: Taekwon-Do Vereniging Hwa Rangdo - Zeewolde | D54: 2 | V54: 1 | X54: 2 | AJ54: 1 | AN54: 1 | BH54: 2 | BL54: 2 | CJ54: 1 | DL54: 1 | EE54: 2 | EO54: 1 | GE54: 1 | GZ54: 1 | JH54: 1 | MS54: 1 | NF54: 1 | NQ54: 21
A55: Taekwondo vereniging Taekyon Houten | AF55: 1 | AN55: 4 | AQ55: 1 | GR55: 1 | GV55: 2 | GZ55: 1 | HE55: 1 | HG55: 1 | NQ55: 12
A56: taekwondo-beuk | X56: 1 | AR56: 1 | AV56: 1 | BH56: 1 | CC56: 2 | CV56: 2 | DD56: 2 | GE56: 1 | IA56: 1 | IF56: 1 | JD56: 1 | JH56: 1 | KX56: 1 | LW56: 1 | MS56: 1 | MY56: 1 | NI56: 1 | NM56: 1 | NN56: 1 | NQ56: 22
A57: Taekyon Berghem | D57: 1 | X57: 1 | DD57: 1 | DH57: 1 | FF57: 1 | GG57: 1 | LC57: 1 | NQ57: 7
A58: Tan Gun Sports e.V. | ET58: 1 | EW58: 1 | FW58: 1 | FX58: 1 | GK58: 1 | JL58: 1 | LQ58: 1 | NQ58: 7
A59: Tanny Academy of Martial Arts | Y59: 1 | BV59: 1 | CK59: 1 | GJ59: 1 | KU59: 1 | NI59: 1 | NJ59: 1 | NQ59: 7
A60: Tapilatu Sportcenter | C60: 1 | D60: 1 | L60: 1 | X60: 1 | AB60: 1 | AN60: 3 | BH60: 2 | BL60: 1 | DT60: 1 | EE60: 4 | ES60: 1 | FC60: 1 | FS60: 1 | FW60: 1 | GN60: 1 | GR60: 1 | GZ60: 1 | HO60: 1 | IW60: 1 | IY60: 1 | KB60: 1 | MM60: 1 | NH60: 1 | NQ60: 29
A61: Team Carvalho Sports / TS Amsterdam | D61: 1 | H61: 2 | X61: 1 | AB61: 2 | AM61: 1 | AN61: 2 | AZ61: 1 | BE61: 1 | BH61: 2 | ED61: 1 | EE61: 5 | EH61: 1 | EK61: 1 | FK61: 1 | FO61: 1 | GA61: 3 | GF61: 1 | GZ61: 2 | HH61: 1 | HK61: 1 | HN61: 1 | HT61: 1 | IP61: 1 | IZ61: 1 | JD61: 1 | JH61: 1 | LD61: 1 | ME61: 1 | MJ61: 1 | MN61: 1 | MS61: 2 | NQ61: 43
A62: TKD SPIRIT ASSOCIATION | AT62: 1 | EB62: 1 | NQ62: 2
A63: TOTAL TKD | T63: 2 | BY63: 1 | GH63: 1 | GI63: 1 | KP63: 1 | LL63: 1 | LT63: 1 | MY63: 2 | NQ63: 10
A64: Trondheim Taekwon-Do Klubb | BI64: 1 | CG64: 1 | JE64: 1 | KT64: 1 | MS64: 1 | MV64: 1 | NQ64: 6
A65: True Warrior | BH65: 1 | DG65: 1 | JJ65: 1 | LJ65: 1 | LS65: 1 | MS65: 1 | MY65: 2 | NQ65: 8
A66: University of Limerick Tae Kwon-Do | LH66: 1 | NQ66: 1
A67: Værnes NTN Taekwon-Do klubb | BK67: 1 | CC67: 1 | JF67: 1 | MS67: 1 | NQ67: 4
A68: Vision TKD | AF68: 1 | EE68: 1 | GZ68: 1 | NQ68: 3
A69: West Clare & Quin | H69: 1 | I69: 1 | Z69: 1 | AB69: 1 | AK69: 1 | BD69: 1 | BH69: 1 | BT69: 1 | DM69: 1 | DP69: 1 | DQ69: 1 | EE69: 2 | EF69: 1 | EH69: 3 | EI69: 1 | FL69: 1 | FU69: 1 | FW69: 1 | GA69: 1 | GV69: 1 | IR69: 1 | IX69: 1 | KK69: 1 | LX69: 1 | MA69: 1 | ME69: 1 | NQ69: 29
A70: Eindtotaal | B70: 1 | C70: 1 | D70: 21 | E70: 1 | F70: 1 | G70: 1 | H70: 18 | I70: 1 | J70: 1 | K70: 1 | L70: 10 | M70: 1 | N70: 1 | O70: 1 | P70: 19 | Q70: 1 | R70: 1 | S70: 1 | T70: 3 | U70: 1 | V70: 1 | W70: 1 | X70: 14 | Y70: 1 | Z70: 1 | AA70: 1 | AB70: 16 | AC70: 1 | AD70: 1 | AE70: 1 | AF70: 19 | AG70: 1 | AH70: 1 | AI70: 1 | AJ70: 10 | AK70: 1 | AL70: 1 | AM70: 1 | AN70: 19 | AO70: 1 | AP70: 1 | AQ70: 1 | AR70: 3 | AS70: 1 | AT70: 1 | AU70: 1 | AV70: 11 | AW70: 1 | AX70: 1 | AY70: 1 | AZ70: 4 | BA70: 1 | BB70: 1 | BC70: 1 | BD70: 1 | BE70: 1 | BF70: 1 | BG70: 1 | BH70: 23 | BI70: 1 | BJ70: 1 | BK70: 1 | BL70: 10 | BM70: 1 | BN70: 1 | BO70: 1 | BP70: 1 | BQ70: 1 | BR70: 1 | BS70: 1 | BT70: 1 | BU70: 1 | BV70: 2 | BW70: 1 | BX70: 1 | BY70: 1 | BZ70: 1 | CA70: 1 | CB70: 1 | CC70: 6 | CD70: 1 | CE70: 1 | CF70: 1 | CG70: 7 | CH70: 1 | CI70: 1 | CJ70: 1 | CK70: 1 | CL70: 1 | CM70: 1 | CN70: 1 | CO70: 2 | CP70: 1 | CQ70: 1 | CR70: 1 | CS70: 1 | CT70: 1 | CU70: 1 | CV70: 4 | CW70: 1 | CX70: 1 | CY70: 1 | CZ70: 3 | DA70: 1 | DB70: 1 | DC70: 1 | DD70: 7 | DE70: 1 | DF70: 1 | DG70: 1 | DH70: 2 | DI70: 1 | DJ70: 1 | DK70: 1 | DL70: 5 | DM70: 1 | DN70: 1 | DO70: 1 | DP70: 9 | DQ70: 1 | DR70: 1 | DS70: 1 | DT70: 2 | DU70: 1 | DV70: 1 | DW70: 1 | DX70: 1 | DY70: 1 | DZ70: 1 | EA70: 1 | EB70: 2 | EC70: 1 | ED70: 1 | EE70: 93 | EF70: 1 | EG70: 1 | EH70: 24 | EI70: 1 | EJ70: 1 | EK70: 9 | EL70: 1 | EM70: 1 | EN70: 1 | EO70: 1 | EP70: 1 | EQ70: 1 | ER70: 1 | ES70: 2 | ET70: 1 | EU70: 1 | EV70: 1 | EW70: 1 | EX70: 1 | EY70: 2 | EZ70: 1 | FA70: 1 | FB70: 1 | FC70: 4 | FD70: 1 | FE70: 1 | FF70: 1 | FG70: 8 | FH70: 1 | FI70: 1 | FJ70: 1 | FK70: 14 | FL70: 1 | FM70: 1 | FN70: 1 | FO70: 17 | FP70: 1 | FQ70: 1 | FR70: 1 | FS70: 7 | FT70: 1 | FU70: 1 | FV70: 1 | FW70: 9 | FX70: 1 | FY70: 1 | FZ70: 1 | GA70: 7 | GB70: 1 | GC70: 1 | GD70: 1 | GE70: 5 | GF70: 1 | GG70: 1 | GH70: 1 | GI70: 3 | GJ70: 1 | GK70: 1 | GL70: 1 | GM70: 1 | GN70: 3 | GO70: 1 | GP70: 1 | GQ70: 1 | GR70: 12 | GS70: 1 | GT70: 1 | GU70: 1 | GV70: 13 | GW70: 1 | GX70: 1 | GY70: 1 | GZ70: 15 | HA70: 1 | HB70: 1 | HC70: 1 | HD70: 5 | HE70: 1 | HF70: 1 | HG70: 1 | HH70: 1 | HI70: 1 | HJ70: 1 | HK70: 1 | HL70: 1 | HM70: 1 | HN70: 1 | HO70: 1 | HP70: 3 | HQ70: 1 | HR70: 1 | HS70: 1 | HT70: 2 | HU70: 1 | HV70: 1 | HW70: 1 | HX70: 3 | HY70: 1 | HZ70: 1 | IA70: 1 | IB70: 3 | IC70: 1 | ID70: 1 | IE70: 1 | IF70: 1 | IG70: 1 | IH70: 1 | II70: 1 | IJ70: 1 | IK70: 1 | IL70: 1 | IM70: 1 | IN70: 1 | IO70: 1 | IP70: 1 | IQ70: 1 | IR70: 1 | IS70: 1 | IT70: 1 | IU70: 1 | IV70: 2 | IW70: 1 | IX70: 1 | IY70: 1 | IZ70: 5 | JA70: 1 | JB70: 1 | JC70: 1 | JD70: 7 | JE70: 1 | JF70: 1 | JG70: 1 | JH70: 8 | JI70: 1 | JJ70: 1 | JK70: 2 | JL70: 1 | JM70: 1 | JN70: 1 | JO70: 2 | JP70: 1 | JQ70: 1 | JR70: 1 | JS70: 1 | JT70: 1 | JU70: 1 | JV70: 2 | JW70: 1 | JX70: 1 | JY70: 1 | JZ70: 1 | KA70: 1 | KB70: 1 | KC70: 1 | KD70: 1 | KE70: 1 | KF70: 1 | KG70: 1 | KH70: 1 | KI70: 1 | KJ70: 1 | KK70: 1 | KL70: 2 | KM70: 1 | KN70: 1 | KO70: 1 | KP70: 5 | KQ70: 1 | KR70: 1 | KS70: 1 | KT70: 4 | KU70: 4 | KV70: 1 | KW70: 1 | KX70: 1 | KY70: 1 | KZ70: 1 | LA70: 1 | LB70: 1 | LC70: 1 | LD70: 3 | LE70: 1 | LF70: 1 | LG70: 1 | LH70: 9 | LI70: 1 | LJ70: 1 | LK70: 1 | LL70: 5 | LM70: 1 | LN70: 1 | LO70: 1 | LP70: 6 | LQ70: 1 | LR70: 1 | LS70: 1 | LT70: 3 | LU70: 1 | LV70: 1 | LW70: 1 | LX70: 1 | LY70: 1 | LZ70: 1 | MA70: 2 | MB70: 1 | MC70: 1 | MD70: 1 | ME70: 3 | MF70: 1 | MG70: 1 | MH70: 1 | MI70: 2 | MJ70: 1 | MK70: 1 | ML70: 1 | MM70: 1 | MN70: 1 | MO70: 1 | MP70: 4 | MQ70: 1 | MR70: 1 | MS70: 16 | MT70: 1 | MU70: 1 | MV70: 8 | MW70: 1 | MX70: 1 | MY70: 15 | MZ70: 1 | NA70: 1 | NB70: 4 | NC70: 1 | ND70: 1 | NE70: 1 | NF70: 10 | NG70: 1 | NH70: 1 | NI70: 7 | NJ70: 1 | NK70: 1 | NL70: 1 | NM70: 9 | NN70: 1 | NO70: 1 | NP70: 1 | NQ70: 965

Sheet Results
A1: Category | B1: Name | C1: Club Full | D1: Club Short | E1: Result
A2: 01001 Tul Youth 6-13 F A D01 | B2: v/d_Wijngaart Kiki | C2: Sportschool Tim Kool | D2: SSTK | E2: 1. Gold
A3: 01001 Tul Youth 6-13 F A D01 | B3: Bekkering Anna | C3: Tapilatu Sportcenter | D3: ST | E3: 2. Silver
A4: 01002 Tul Youth 6-13 F B G04-G01 | B4: Richardson Amelia | C4: PUMA England | D4: PUMA England | E4: 1. Gold
A5: 01002 Tul Youth 6-13 F B G04-G01 | B5: Bouymejjan Khalila | C5: sportschuledamato | D5: sportschuledamato | E5: 3. Bronze
A6: 01002 Tul Youth 6-13 F B G04-G01 | B6: Faasen Fleur | C6: Taekwon-Do IN NAE DO KWAN | D6: Taekwon-Do IN NAE DO KWAN | E6: 2. Silver
A7: 01003a Tul Youth 6-13 F C G06-G05 | B7: Algoo Naomi | C7: Chong Do Kwan | D7: CDK | E7: 3. Bronze
A8: 01003a Tul Youth 6-13 F C G06-G05 | B8: Aneq Ibtihaal | C8: Taekwon-Do Academy Graziella Idili | D8: TA G. Idili | E8: 2. Silver
A9: 01003a Tul Youth 6-13 F C G06-G05 | B9: Hehir Tiegan | C9: West Clare & Quin | D9: WCQ | E9: 1. Gold
A10: 01003b Tul Youth 6-13 F C G07 | B10: Alshwikh_Alabd Laren | C10: sportschuledamato | D10: sportschuledamato | E10: 2. Silver
A11: 01003b Tul Youth 6-13 F C G07 | B11: Alshwikh_Alabd Yasmen | C11: sportschuledamato | D11: sportschuledamato | E11: 1. Gold
A12: 01003b Tul Youth 6-13 F C G07 | B12: Machielsen Alicia | C12: Taekwondo Middelburg | D12: TKD Mburg | E12: 3. Bronze
... A202: 05055 Sparring Junior 14-17 M A D01-D03 -56 kg | B202: Davison Todd | C202: GMS Martial arts | D202: GMSMA | E202: 2. Silver
A203: 05055 Sparring Junior 14-17 M A D01-D03 -56 kg | B203: ZAGORANSKI Å½IGA | C203: SLOVENIA TEAM | D203: 0 | E203: 1. Gold
A204: 05055 Sparring Junior 14-17 M A D01-D03 -56 kg | B204: Hekkers Simon | C204: Taekwon-Do IN NAE DO KWAN | D204: Taekwon-Do IN NAE DO KWAN | E204: 3. Bronze
A205: 05056 Sparring Junior 14-17 M A D01-D03 -62 kg | B205: Lans Job | C205: Soo Bak-Gi | D205: SB-G | E205: 3. Bronze
A206: 05056 Sparring Junior 14-17 M A D01-D03 -62 kg | B206: Eilertsen Jack | C206: Trondheim Taekwon-Do Klubb | D206: Trondheim TKD | E206: 1. Gold
A207: 05056 Sparring Junior 14-17 M A D01-D03 -62 kg | B207: Steinkjer Ingebrigt | C207: Værnes NTN Taekwon-Do klubb | D207: VÃ¦rnes TkD | E207: 2. Silver
A208: 05057 S Sparring Junior 14-17 M A/B G04-D03 -68 kg | B208: van_de_Veerdonk Chris | C208: Taekwon-Do Academy Graziella Idili | D208: TA G. Idili | E208: 1. Gold
A209: 05057 S Sparring Junior 14-17 M A/B G04-D03 -68 kg | B209: Veer_van_der Sven | C209: Taekwon-Do Vereniging Hwa Rangdo - Zeewolde | D209: TV Hwa Rangdo | E209: 3. Bronze
A210: 05057 S Sparring Junior 14-17 M A/B G04-D03 -68 kg | B210: Morrell Archie | C210: True Warrior | D210: TW TKD | E210: 2. Silver
A211: 05058 S Sparring Junior 14-17 M A/B G04-D03 -75 kg | B211: CAMPINS RICO | C211: Aberdeenshire Blackbelt Club | D211: ABC | E211: 2. Silver
A212: 05058 S Sparring Junior 14-17 M A/B G04-D03 -75 kg | B212: Cacia Mikael | C212: PUMA England | D212: PUMA England | E212: 3. Bronze
A213: 05058 S Sparring Junior 14-17 M A/B G04-D03 -75 kg | B213: Ahmed rmadan | C213: Tan Gun Sports e.V. | D213: Tan Gun | E213: 1. Gold
A214: 05059 Sparring Junior 14-17 M A D01-D03 +75 kg | B214: Helamb Adam | C214: Frolunda TKD | D214: FROTKD | E214: 1. Gold
A215: 05059 Sparring Junior 14-17 M A D01-D03 +75 kg | B215: Walker Jack | C215: I-Kick Martial Arts | D215: IKMA | E215: 2. Silver
... A221: 05062 Sparring Junior 14-17 M B G04-G01 -62 kg | B221: Kroes Ramon | C221: Taekwon-Do School Martowirono | D221: TKD School Martowirono | E221: 1. Gold
A222: 05062 Sparring Junior 14-17 M B G04-G01 -62 kg | B222: Have_ten Jort | C222: TKD School Martowirono | E222: 2. Silver
A223: 05065 Sparring Junior 14-17 M B G04-G01 +75 kg | B223: vd_Bos Kevin | C223: Sportschool Tim Kool | D223: SSTK | E223: 2. Silver
A224: 05065 Sparring Junior 14-17 M B G04-G01 +75 kg | B224: Visser Bas | C224: Sportschool Tim Kool | D224: SSTK | E224: 1. Gold
A225: 05065 Sparring Junior 14-17 M B G04-G01 +75 kg | B225: van_der_Heide Ruben | C225: Tapilatu Sportcenter | D225: ST | E225: 3. Bronze
A226: 05067 S Sparring Junior 14-17 M C G10-G05 -62 kg | B226: Akkoyun Alperen | C226: Ohdokwan | D226: ODK | E226: 2. Silver
A227: 05067 S Sparring Junior 14-17 M C G10-G05 -62 kg | B227: Schreuder Tobias | C227: Sportschool Tim Kool | D227: SSTK | E227: 3. Bronze
A228: 05067 S Sparring Junior 14-17 M C G10-G05 -62 kg | B228: Ahmed Salah | C228: Taekwondo Martial Arts Center Delft | D228: TKD MAC Delft | E228: 1. Gold
A229: 05069 Sparring Junior 14-17 M C G10-G05 -68 kg | B229: King Darragh | C229: I-Kick Martial Arts | D229: IKMA | E229: 2. Silver
A230: 05069 Sparring Junior 14-17 M C G10-G05 -68 kg | B230: Meulen Teun | C230: Soo Bak-Gi | D230: SB-G | E230: 1. Gold
A231: 05069 Sparring Junior 14-17 M C G10-G05 -68 kg | B231: Boer Railey | C231: Sportschool Tim Kool | D231: SSTK | E231: 3. Bronze
A232: 05071 Sparring Junior 14-17 M C G10-G05 +75 kg | B232: Aubrey Daniel | C232: Enngland Taekwon-Do Association | D232: ETA | E232: 1. Gold
A233: 05071 Sparring Junior 14-17 M C G10-G05 +75 kg | B233: McNulty Aaron | C233: West Clare & Quin | D233: WCQ | E233: 2. Silver
A234: 05072 S Sparring Senior 18+ F A/B G04-D06 -56 kg | B234: Brider Isabel | C234: Enngland Taekwon-Do Association | D234: ETA | E234: 2. Silver
... A247: 05085 S Sparring Senior 18+ F C G10-G05 -62 kg | B247: Zwep Yvonne | C247: Sportschool Tim Kool | D247: SSTK | E247: 2. Silver
A248: 05090 S Sparring Senior 18+ M A/B G04-D06 -57 kg | B248: PRELOÅ½NIK ALEN | C248: SLOVENIA TEAM | D248: 0 | E248: 1. Gold
A249: 05090 S Sparring Senior 18+ M A/B G04-D06 -57 kg | B249: Jacobs Djen | C249: Taekwon-Do School Martowirono | D249: TKD School Martowirono | E249: 2. Silver
A250: 05090 S Sparring Senior 18+ M A/B G04-D06 -57 kg | B250: Martens Daiko | C250: Taekyon Berghem | D250: Taekyon | E250: 3. Bronze
A251: 05091 S Sparring Senior 18+ M A/B G04-D06 -63kg | B251: Williams Reuben | C251: ITF Fusion | D251: ITF Fusion | E251: 1. Gold
A252: 05091 S Sparring Senior 18+ M A/B G04-D06 -63kg | B252: McRoberts Michael | C252: South queensferry TKD | D252: SQTKD | E252: 2. Silver
A253: 05091 S Sparring Senior 18+ M A/B G04-D06 -63kg | B253: Oranje Cody | C253: Sportschool Tim Kool | D253: SSTK | E253: 3. Bronze
A254: 05092 Sparring Senior 18+ M A D01-D06 -70 kg | B254: Penman Ross | C254: I-Kick Martial Arts | D254: IKMA | E254: 1. Gold
A255: 05092 Sparring Senior 18+ M A D01-D06 -70 kg | B255: Toth Nandor | C255: Kassem Gym | D255: Kassem Gym | E255: 3. Bronze
A256: 05092 Sparring Senior 18+ M A D01-D06 -70 kg | B256: Blocksedge Gilbert | C256: True Warrior | D256: TW TKD | E256: 2. Silver
A257: 05093 S Sparring Senior 18+ M A/B G04-D06 -78 kg | B257: OHare Iain | C257: Braveheart Martial Arts | D257: Braveheart Martial Arts | E257: 2. Silver
A258: 05093 S Sparring Senior 18+ M A/B G04-D06 -78 kg | B258: Vik Arne_Martin | C258: Christiania NTN Taekwon-Do Norway | D258: CTKD | E258: 3. Bronze
A259: 05093 S Sparring Senior 18+ M A/B G04-D06 -78 kg | B259: Hessing Mitchell | C259: Sportschool Tim Kool | D259: SSTK | E259: 1. Gold
A260: 05094 S Sparring Senior 18+ M A/B G04-D06 -85 kg | B260: den_Hollander Roy | C260: Sportschool Tim Kool | D260: SSTK | E260: 2. Silver
... A298: 07006 S Power Breaking Senior 18+ M A/B G04-D06 | B298: van_straaten martin | C298: taekwondo-beuk | D298: tkd-beuk | E298: 1. Gold

Sheet Categories
A1: Category | B1: Individual/Team | C1: Discipline | D1: Age Class | E1: Sexe | F1: Grade Class
A2: 01001 Tul Youth 6-13 F A D01 | B2: =IF(ISNUMBER(SEARCH("Team",A2))=TRUE,"Team",IF(ISNUMBER(SEARCH("Pre-Arranged",A2))=TRUE,"Team","Individual")) -> Individual | C2: =IF(ISNUMBER(SEARCH("Tul",A2))=TRUE,"Patterns",IF(ISNUMBER(SEARCH("Sparring",A2))=TRUE,"Sparring",IF(ISNUMBER(SEARCH("Pre-Arranged",A2))=TRUE,"Pre-Arranged",IF(ISNUMBER(SEARCH("Power",A2))=TRUE,"Power",IF(ISNUMBER(SEARCH("Chon-Ji",A2))=TRUE,"Patterns"))))) -> Patterns | D2: =IF(ISNUMBER(SEARCH("6-13",A2))=TRUE,"Youth",IF(ISNUMBER(SEARCH("14-17",A2))=TRUE,"Junior",IF(ISNUMBER(SEARCH("18+",A2))=TRUE,"Senior",IF(ISNUMBER(SEARCH("35+",A2))=TRUE,"Veteran",IF(ISNUMBER(SEARCH("14+",A2))=TRUE,"Junior-Senior-Veteran"))))) -> Youth | E2: =IF(ISNUMBER(SEARCH(" F ",A2))=TRUE,"Female",IF(ISNUMBER(SEARCH(" M ",A2))=TRUE,"Male",IF(OR(ISNUMBER(SEARCH("F/M",A2))=TRUE,ISNUMBER(SEARCH("F+M",A2))=TRUE),"Mixed"))) -> Female | F2: =IF(ISNUMBER(SEARCH("A D",A2))=TRUE,"A D01-D06",IF(ISNUMBER(SEARCH(" B G",A2))=TRUE,"B G04-G01",IF(ISNUMBER(SEARCH("C G",A2))=TRUE,"C G10-G05",IF(OR(ISNUMBER(SEARCH("A+B",A2))=TRUE,ISNUMBER(SEARCH("A/B",A2))=TRUE),"A+B G04-D06")))) -> A D01-D06
A3: 01002 Tul Youth 6-13 F B G04-G01 | B3: =IF(ISNUMBER(SEARCH("Team",A3))=TRUE,"Team",IF(ISNUMBER(SEARCH("Pre-Arranged",A3))=TRUE,"Team","Individual")) -> Individual | C3: =IF(ISNUMBER(SEARCH("Tul",A3))=TRUE,"Patterns",IF(ISNUMBER(SEARCH("Sparring",A3))=TRUE,"Sparring",IF(ISNUMBER(SEARCH("Pre-Arranged",A3))=TRUE,"Pre-Arranged",IF(ISNUMBER(SEARCH("Power",A3))=TRUE,"Power",IF(ISNUMBER(SEARCH("Chon-Ji",A3))=TRUE,"Patterns"))))) -> Patterns | D3: =IF(ISNUMBER(SEARCH("6-13",A3))=TRUE,"Youth",IF(ISNUMBER(SEARCH("14-17",A3))=TRUE,"Junior",IF(ISNUMBER(SEARCH("18+",A3))=TRUE,"Senior",IF(ISNUMBER(SEARCH("35+",A3))=TRUE,"Veteran",IF(ISNUMBER(SEARCH("14+",A3))=TRUE,"Junior-Senior-Veteran"))))) -> Youth | E3: =IF(ISNUMBER(SEARCH(" F ",A3))=TRUE,"Female",IF(ISNUMBER(SEARCH(" M ",A3))=TRUE,"Male",IF(OR(ISNUMBER(SEARCH("F/M",A3))=TRUE,ISNUMBER(SEARCH("F+M",A3))=TRUE),"Mixed"))) -> Female | F3: =IF(ISNUMBER(SEARCH("A D",A3))=TRUE,"A D01-D06",IF(ISNUMBER(SEARCH(" B G",A3))=TRUE,"B G04-G01",IF(ISNUMBER(SEARCH("C G",A3))=TRUE,"C G10-G05",IF(OR(ISNUMBER(SEARCH("A+B",A3))=TRUE,ISNUMBER(SEARCH("A/B",A3))=TRUE),"A+B G04-D06")))) -> B G04-G01
A4: 01003a Tul Youth 6-13 F C G06-G05 | B4: =IF(ISNUMBER(SEARCH("Team",A4))=TRUE,"Team",IF(ISNUMBER(SEARCH("Pre-Arranged",A4))=TRUE,"Team","Individual")) -> Individual | C4: =IF(ISNUMBER(SEARCH("Tul",A4))=TRUE,"Patterns",IF(ISNUMBER(SEARCH("Sparring",A4))=TRUE,"Sparring",IF(ISNUMBER(SEARCH("Pre-Arranged",A4))=TRUE,"Pre-Arranged",IF(ISNUMBER(SEARCH("Power",A4))=TRUE,"Power",IF(ISNUMBER(SEARCH("Chon-Ji",A4))=TRUE,"Patterns"))))) -> Patterns | D4: =IF(ISNUMBER(SEARCH("6-13",A4))=TRUE,"Youth",IF(ISNUMBER(SEARCH("14-17",A4))=TRUE,"Junior",IF(ISNUMBER(SEARCH("18+",A4))=TRUE,"Senior",IF(ISNUMBER(SEARCH("35+",A4))=TRUE,"Veteran",IF(ISNUMBER(SEARCH("14+",A4))=TRUE,"Junior-Senior-Veteran"))))) -> Youth | E4: =IF(ISNUMBER(SEARCH(" F ",A4))=TRUE,"Female",IF(ISNUMBER(SEARCH(" M ",A4))=TRUE,"Male",IF(OR(ISNUMBER(SEARCH("F/M",A4))=TRUE,ISNUMBER(SEARCH("F+M",A4))=TRUE),"Mixed"))) -> Female | F4: =IF(ISNUMBER(SEARCH("A D",A4))=TRUE,"A D01-D06",IF(ISNUMBER(SEARCH(" B G",A4))=TRUE,"B G04-G01",IF(ISNUMBER(SEARCH("C G",A4))=TRUE,"C G10-G05",IF(OR(ISNUMBER(SEARCH("A+B",A4))=TRUE,ISNUMBER(SEARCH("A/B",A4))=TRUE),"A+B G04-D06")))) -> C G10-G05
A5: 01003b Tul Youth 6-13 F C G07 | B5: =IF(ISNUMBER(SEARCH("Team",A5))=TRUE,"Team",IF(ISNUMBER(SEARCH("Pre-Arranged",A5))=TRUE,"Team","Individual")) -> Individual | C5: =IF(ISNUMBER(SEARCH("Tul",A5))=TRUE,"Patterns",IF(ISNUMBER(SEARCH("Sparring",A5))=TRUE,"Sparring",IF(ISNUMBER(SEARCH("Pre-Arranged",A5))=TRUE,"Pre-Arranged",IF(ISNUMBER(SEARCH("Power",A5))=TRUE,"Power",IF(ISNUMBER(SEARCH("Chon-Ji",A5))=TRUE,"Patterns"))))) -> Patterns | D5: =IF(ISNUMBER(SEARCH("6-13",A5))=TRUE,"Youth",IF(ISNUMBER(SEARCH("14-17",A5))=TRUE,"Junior",IF(ISNUMBER(SEARCH("18+",A5))=TRUE,"Senior",IF(ISNUMBER(SEARCH("35+",A5))=TRUE,"Veteran",IF(ISNUMBER(SEARCH("14+",A5))=TRUE,"Junior-Senior-Veteran"))))) -> Youth | E5: =IF(ISNUMBER(SEARCH(" F ",A5))=TRUE,"Female",IF(ISNUMBER(SEARCH(" M ",A5))=TRUE,"Male",IF(OR(ISNUMBER(SEARCH("F/M",A5))=TRUE,ISNUMBER(SEARCH("F+M",A5))=TRUE),"Mixed"))) -> Female | F5: =IF(ISNUMBER(SEARCH("A D",A5))=TRUE,"A D01-D06",IF(ISNUMBER(SEARCH(" B G",A5))=TRUE,"B G04-G01",IF(ISNUMBER(SEARCH("C G",A5))=TRUE,"C G10-G05",IF(OR(ISNUMBER(SEARCH("A+B",A5))=TRUE,ISNUMBER(SEARCH("A/B",A5))=TRUE),"A+B G04-D06")))) -> C G10-G05
A6: 01004 Tul Youth 6-13 F C G10-G08 | B6: =IF(ISNUMBER(SEARCH("Team",A6))=TRUE,"Team",IF(ISNUMBER(SEARCH("Pre-Arranged",A6))=TRUE,"Team","Individual")) -> Individual | C6: =IF(ISNUMBER(SEARCH("Tul",A6))=TRUE,"Patterns",IF(ISNUMBER(SEARCH("Sparring",A6))=TRUE,"Sparring",IF(ISNUMBER(SEARCH("Pre-Arranged",A6))=TRUE,"Pre-Arranged",IF(ISNUMBER(SEARCH("Power",A6))=TRUE,"Power",IF(ISNUMBER(SEARCH("Chon-Ji",A6))=TRUE,"Patterns"))))) -> Patterns | D6: =IF(ISNUMBER(SEARCH("6-13",A6))=TRUE,"Youth",IF(ISNUMBER(SEARCH("14-17",A6))=TRUE,"Junior",IF(ISNUMBER(SEARCH("18+",A6))=TRUE,"Senior",IF(ISNUMBER(SEARCH("35+",A6))=TRUE,"Veteran",IF(ISNUMBER(SEARCH("14+",A6))=TRUE,"Junior-Senior-Veteran"))))) -> Youth | E6: =IF(ISNUMBER(SEARCH(" F ",A6))=TRUE,"Female",IF(ISNUMBER(SEARCH(" M ",A6))=TRUE,"Male",IF(OR(ISNUMBER(SEARCH("F/M",A6))=TRUE,ISNUMBER(SEARCH("F+M",A6))=TRUE),"Mixed"))) -> Female | F6: =IF(ISNUMBER(SEARCH("A D",A6))=TRUE,"A D01-D06",IF(ISNUMBER(SEARCH(" B G",A6))=TRUE,"B G04-G01",IF(ISNUMBER(SEARCH("C G",A6))=TRUE,"C G10-G05",IF(OR(ISNUMBER(SEARCH("A+B",A6))=TRUE,ISNUMBER(SEARCH("A/B",A6))=TRUE),"A+B G04-D06")))) -> C G10-G05
A7: 01006 Tul Youth 6-13 M A D01 | B7: =IF(ISNUMBER(SEARCH("Team",A7))=TRUE,"Team",IF(ISNUMBER(SEARCH("Pre-Arranged",A7))=TRUE,"Team","Individual")) -> Individual | C7: =IF(ISNUMBER(SEARCH("Tul",A7))=TRUE,"Patterns",IF(ISNUMBER(SEARCH("Sparring",A7))=TRUE,"Sparring",IF(ISNUMBER(SEARCH("Pre-Arranged",A7))=TRUE,"Pre-Arranged",IF(ISNUMBER(SEARCH("Power",A7))=TRUE,"Power",IF(ISNUMBER(SEARCH("Chon-Ji",A7))=TRUE,"Patterns"))))) -> Patterns | D7: =IF(ISNUMBER(SEARCH("6-13",A7))=TRUE,"Youth",IF(ISNUMBER(SEARCH("14-17",A7))=TRUE,"Junior",IF(ISNUMBER(SEARCH("18+",A7))=TRUE,"Senior",IF(ISNUMBER(SEARCH("35+",A7))=TRUE,"Veteran",IF(ISNUMBER(SEARCH("14+",A7))=TRUE,"Junior-Senior-Veteran"))))) -> Youth | E7: =IF(ISNUMBER(SEARCH(" F ",A7))=TRUE,"Female",IF(ISNUMBER(SEARCH(" M ",A7))=TRUE,"Male",IF(OR(ISNUMBER(SEARCH("F/M",A7))=TRUE,ISNUMBER(SEARCH("F+M",A7))=TRUE),"Mixed"))) -> Male | F7: =IF(ISNUMBER(SEARCH("A D",A7))=TRUE,"A D01-D06",IF(ISNUMBER(SEARCH(" B G",A7))=TRUE,"B G04-G01",IF(ISNUMBER(SEARCH("C G",A7))=TRUE,"C G10-G05",IF(OR(ISNUMBER(SEARCH("A+B",A7))=TRUE,ISNUMBER(SEARCH("A/B",A7))=TRUE),"A+B G04-D06")))) -> A D01-D06
A8: 01007a Tul Youth 6-13 M B G02-G01 | B8: =IF(ISNUMBER(SEARCH("Team",A8))=TRUE,"Team",IF(ISNUMBER(SEARCH("Pre-Arranged",A8))=TRUE,"Team","Individual")) -> Individual | C8: =IF(ISNUMBER(SEARCH("Tul",A8))=TRUE,"Patterns",IF(ISNUMBER(SEARCH("Sparring",A8))=TRUE,"Sparring",IF(ISNUMBER(SEARCH("Pre-Arranged",A8))=TRUE,"Pre-Arranged",IF(ISNUMBER(SEARCH("Power",A8))=TRUE,"Power",IF(ISNUMBER(SEARCH("Chon-Ji",A8))=TRUE,"Patterns"))))) -> Patterns | D8: =IF(ISNUMBER(SEARCH("6-13",A8))=TRUE,"Youth",IF(ISNUMBER(SEARCH("14-17",A8))=TRUE,"Junior",IF(ISNUMBER(SEARCH("18+",A8))=TRUE,"Senior",IF(ISNUMBER(SEARCH("35+",A8))=TRUE,"Veteran",IF(ISNUMBER(SEARCH("14+",A8))=TRUE,"Junior-Senior-Veteran"))))) -> Youth | E8: =IF(ISNUMBER(SEARCH(" F ",A8))=TRUE,"Female",IF(ISNUMBER(SEARCH(" M ",A8))=TRUE,"Male",IF(OR(ISNUMBER(SEARCH("F/M",A8))=TRUE,ISNUMBER(SEARCH("F+M",A8))=TRUE),"Mixed"))) -> Male | F8: =IF(ISNUMBER(SEARCH("A D",A8))=TRUE,"A D01-D06",IF(ISNUMBER(SEARCH(" B G",A8))=TRUE,"B G04-G01",IF(ISNUMBER(SEARCH("C G",A8))=TRUE,"C G10-G05",IF(OR(ISNUMBER(SEARCH("A+B",A8))=TRUE,ISNUMBER(SEARCH("A/B",A8))=TRUE),"A+B G04-D06")))) -> B G04-G01
A9: 01007b Tul Youth 6-13 M B G04-G03 | B9: =IF(ISNUMBER(SEARCH("Team",A9))=TRUE,"Team",IF(ISNUMBER(SEARCH("Pre-Arranged",A9))=TRUE,"Team","Individual")) -> Individual | C9: =IF(ISNUMBER(SEARCH("Tul",A9))=TRUE,"Patterns",IF(ISNUMBER(SEARCH("Sparring",A9))=TRUE,"Sparring",IF(ISNUMBER(SEARCH("Pre-Arranged",A9))=TRUE,"Pre-Arranged",IF(ISNUMBER(SEARCH("Power",A9))=TRUE,"Power",IF(ISNUMBER(SEARCH("Chon-Ji",A9))=TRUE,"Patterns"))))) -> Patterns | D9: =IF(ISNUMBER(SEARCH("6-13",A9))=TRUE,"Youth",IF(ISNUMBER(SEARCH("14-17",A9))=TRUE,"Junior",IF(ISNUMBER(SEARCH("18+",A9))=TRUE,"Senior",IF(ISNUMBER(SEARCH("35+",A9))=TRUE,"Veteran",IF(ISNUMBER(SEARCH("14+",A9))=TRUE,"Junior-Senior-Veteran"))))) -> Youth | E9: =IF(ISNUMBER(SEARCH(" F ",A9))=TRUE,"Female",IF(ISNUMBER(SEARCH(" M ",A9))=TRUE,"Male",IF(OR(ISNUMBER(SEARCH("F/M",A9))=TRUE,ISNUMBER(SEARCH("F+M",A9))=TRUE),"Mixed"))) -> Male | F9: =IF(ISNUMBER(SEARCH("A D",A9))=TRUE,"A D01-D06",IF(ISNUMBER(SEARCH(" B G",A9))=TRUE,"B G04-G01",IF(ISNUMBER(SEARCH("C G",A9))=TRUE,"C G10-G05",IF(OR(ISNUMBER(SEARCH("A+B",A9))=TRUE,ISNUMBER(SEARCH("A/B",A9))=TRUE),"A+B G04-D06")))) -> B G04-G01
A10: 01008a Tul Youth 6-13 M C G06-G05 | B10: =IF(ISNUMBER(SEARCH("Team",A10))=TRUE,"Team",IF(ISNUMBER(SEARCH("Pre-Arranged",A10))=TRUE,"Team","Individual")) -> Individual | C10: =IF(ISNUMBER(SEARCH("Tul",A10))=TRUE,"Patterns",IF(ISNUMBER(SEARCH("Sparring",A10))=TRUE,"Sparring",IF(ISNUMBER(SEARCH("Pre-Arranged",A10))=TRUE,"Pre-Arranged",IF(ISNUMBER(SEARCH("Power",A10))=TRUE,"Power",IF(ISNUMBER(SEARCH("Chon-Ji",A10))=TRUE,"Patterns"))))) -> Patterns | D10: =IF(ISNUMBER(SEARCH("6-13",A10))=TRUE,"Youth",IF(ISNUMBER(SEARCH("14-17",A10))=TRUE,"Junior",IF(ISNUMBER(SEARCH("18+",A10))=TRUE,"Senior",IF(ISNUMBER(SEARCH("35+",A10))=TRUE,"Veteran",IF(ISNUMBER(SEARCH("14+",A10))=TRUE,"Junior-Senior-Veteran"))))) -> Youth | E10: =IF(ISNUMBER(SEARCH(" F ",A10))=TRUE,"Female",IF(ISNUMBER(SEARCH(" M ",A10))=TRUE,"Male",IF(OR(ISNUMBER(SEARCH("F/M",A10))=TRUE,ISNUMBER(SEARCH("F+M",A10))=TRUE),"Mixed"))) -> Male | F10: =IF(ISNUMBER(SEARCH("A D",A10))=TRUE,"A D01-D06",IF(ISNUMBER(SEARCH(" B G",A10))=TRUE,"B G04-G01",IF(ISNUMBER(SEARCH("C G",A10))=TRUE,"C G10-G05",IF(OR(ISNUMBER(SEARCH("A+B",A10))=TRUE,ISNUMBER(SEARCH("A/B",A10))=TRUE),"A+B G04-D06")))) -> C G10-G05
A11: 01008b Tul Youth 6-13 M C G07 | B11: =IF(ISNUMBER(SEARCH("Team",A11))=TRUE,"Team",IF(ISNUMBER(SEARCH("Pre-Arranged",A11))=TRUE,"Team","Individual")) -> Individual | C11: =IF(ISNUMBER(SEARCH("Tul",A11))=TRUE,"Patterns",IF(ISNUMBER(SEARCH("Sparring",A11))=TRUE,"Sparring",IF(ISNUMBER(SEARCH("Pre-Arranged",A11))=TRUE,"Pre-Arranged",IF(ISNUMBER(SEARCH("Power",A11))=TRUE,"Power",IF(ISNUMBER(SEARCH("Chon-Ji",A11))=TRUE,"Patterns"))))) -> Patterns | D11: =IF(ISNUMBER(SEARCH("6-13",A11))=TRUE,"Youth",IF(ISNUMBER(SEARCH("14-17",A11))=TRUE,"Junior",IF(ISNUMBER(SEARCH("18+",A11))=TRUE,"Senior",IF(ISNUMBER(SEARCH("35+",A11))=TRUE,"Veteran",IF(ISNUMBER(SEARCH("14+",A11))=TRUE,"Junior-Senior-Veteran"))))) -> Youth | E11: =IF(ISNUMBER(SEARCH(" F ",A11))=TRUE,"Female",IF(ISNUMBER(SEARCH(" M ",A11))=TRUE,"Male",IF(OR(ISNUMBER(SEARCH("F/M",A11))=TRUE,ISNUMBER(SEARCH("F+M",A11))=TRUE),"Mixed"))) -> Male | F11: =IF(ISNUMBER(SEARCH("A D",A11))=TRUE,"A D01-D06",IF(ISNUMBER(SEARCH(" B G",A11))=TRUE,"B G04-G01",IF(ISNUMBER(SEARCH("C G",A11))=TRUE,"C G10-G05",IF(OR(ISNUMBER(SEARCH("A+B",A11))=TRUE,ISNUMBER(SEARCH("A/B",A11))=TRUE),"A+B G04-D06")))) -> C G10-G05
A12: 01009 Tul Youth 6-13 M C G10-G08 | B12: =IF(ISNUMBER(SEARCH("Team",A12))=TRUE,"Team",IF(ISNUMBER(SEARCH("Pre-Arranged",A12))=TRUE,"Team","Individual")) -> Individual | C12: =IF(ISNUMBER(SEARCH("Tul",A12))=TRUE,"Patterns",IF(ISNUMBER(SEARCH("Sparring",A12))=TRUE,"Sparring",IF(ISNUMBER(SEARCH("Pre-Arranged",A12))=TRUE,"Pre-Arranged",IF(ISNUMBER(SEARCH("Power",A12))=TRUE,"Power",IF(ISNUMBER(SEARCH("Chon-Ji",A12))=TRUE,"Patterns"))))) -> Patterns | D12: =IF(ISNUMBER(SEARCH("6-13",A12))=TRUE,"Youth",IF(ISNUMBER(SEARCH("14-17",A12))=TRUE,"Junior",IF(ISNUMBER(SEARCH("18+",A12))=TRUE,"Senior",IF(ISNUMBER(SEARCH("35+",A12))=TRUE,"Veteran",IF(ISNUMBER(SEARCH("14+",A12))=TRUE,"Junior-Senior-Veteran"))))) -> Youth | E12: =IF(ISNUMBER(SEARCH(" F ",A12))=TRUE,"Female",IF(ISNUMBER(SEARCH(" M ",A12))=TRUE,"Male",IF(OR(ISNUMBER(SEARCH("F/M",A12))=TRUE,ISNUMBER(SEARCH("F+M",A12))=TRUE),"Mixed"))) -> Male | F12: =IF(ISNUMBER(SEARCH("A D",A12))=TRUE,"A D01-D06",IF(ISNUMBER(SEARCH(" B G",A12))=TRUE,"B G04-G01",IF(ISNUMBER(SEARCH("C G",A12))=TRUE,"C G10-G05",IF(OR(ISNUMBER(SEARCH("A+B",A12))=TRUE,ISNUMBER(SEARCH("A/B",A12))=TRUE),"A+B G04-D06")))) -> C G10-G05
A13: 01011 S Tul Junior 14-17 F/M A D02 | B13: =IF(ISNUMBER(SEARCH("Team",A13))=TRUE,"Team",IF(ISNUMBER(SEARCH("Pre-Arranged",A13))=TRUE,"Team","Individual")) -> Individual | C13: =IF(ISNUMBER(SEARCH("Tul",A13))=TRUE,"Patterns",IF(ISNUMBER(SEARCH("Sparring",A13))=TRUE,"Sparring",IF(ISNUMBER(SEARCH("Pre-Arranged",A13))=TRUE,"Pre-Arranged",IF(ISNUMBER(SEARCH("Power",A13))=TRUE,"Power",IF(ISNUMBER(SEARCH("Chon-Ji",A13))=TRUE,"Patterns"))))) -> Patterns | D13: =IF(ISNUMBER(SEARCH("6-13",A13))=TRUE,"Youth",IF(ISNUMBER(SEARCH("14-17",A13))=TRUE,"Junior",IF(ISNUMBER(SEARCH("18+",A13))=TRUE,"Senior",IF(ISNUMBER(SEARCH("35+",A13))=TRUE,"Veteran",IF(ISNUMBER(SEARCH("14+",A13))=TRUE,"Junior-Senior-Veteran"))))) -> Junior | E13: =IF(ISNUMBER(SEARCH(" F ",A13))=TRUE,"Female",IF(ISNUMBER(SEARCH(" M ",A13))=TRUE,"Male",IF(OR(ISNUMBER(SEARCH("F/M",A13))=TRUE,ISNUMBER(SEARCH("F+M",A13))=TRUE),"Mixed"))) -> Mixed | F13: =IF(ISNUMBER(SEARCH("A D",A13))=TRUE,"A D01-D06",IF(ISNUMBER(SEARCH(" B G",A13))=TRUE,"B G04-G01",IF(ISNUMBER(SEARCH("C G",A13))=TRUE,"C G10-G05",IF(OR(ISNUMBER(SEARCH("A+B",A13))=TRUE,ISNUMBER(SEARCH("A/B",A13))=TRUE),"A+B G04-D06")))) -> A D01-D06
... A106: 07006 S Power Breaking Senior 18+ M A/B G04-D06 | B106: =IF(ISNUMBER(SEARCH("Team",A106))=TRUE,"Team",IF(ISNUMBER(SEARCH("Pre-Arranged",A106))=TRUE,"Team","Individual")) -> Individual | C106: =IF(ISNUMBER(SEARCH("Tul",A106))=TRUE,"Patterns",IF(ISNUMBER(SEARCH("Sparring",A106))=TRUE,"Sparring",IF(ISNUMBER(SEARCH("Pre-Arranged",A106))=TRUE,"Pre-Arranged",IF(ISNUMBER(SEARCH("Power",A106))=TRUE,"Power",IF(ISNUMBER(SEARCH("Chon-Ji",A106))=TRUE,"Patterns"))))) -> Power | D106: =IF(ISNUMBER(SEARCH("6-13",A106))=TRUE,"Youth",IF(ISNUMBER(SEARCH("14-17",A106))=TRUE,"Junior",IF(ISNUMBER(SEARCH("18+",A106))=TRUE,"Senior",IF(ISNUMBER(SEARCH("35+",A106))=TRUE,"Veteran",IF(ISNUMBER(SEARCH("14+",A106))=TRUE,"Junior-Senior-Veteran"))))) -> Senior | E106: =IF(ISNUMBER(SEARCH(" F ",A106))=TRUE,"Female",IF(ISNUMBER(SEARCH(" M ",A106))=TRUE,"Male",IF(OR(ISNUMBER(SEARCH("F/M",A106))=TRUE,ISNUMBER(SEARCH("F+M",A106))=TRUE),"Mixed"))) -> Male | F106: =IF(ISNUMBER(SEARCH("A D",A106))=TRUE,"A D01-D06",IF(ISNUMBER(SEARCH(" B G",A106))=TRUE,"B G04-G01",IF(ISNUMBER(SEARCH("C G",A106))=TRUE,"C G10-G05",IF(OR(ISNUMBER(SEARCH("A+B",A106))=TRUE,ISNUMBER(SEARCH("A/B",A106))=TRUE),"A+B G04-D06")))) -> A+B G04-D06

Sheet Participation Count per Club
A1: Club Full | B1: Club Short | C1: Male | D1: Female | E1: Total Entries | F1: Total Athletes
A2: Sportschool Tim Kool | B2: SSTK | C2: 49 | D2: 94 | E2: 143 | F2: 70
A3: Kassem Gym | B3: Kassem Gym | C3: 19 | D3: 12 | E3: 31 | F3: 31
A4: Team Carvalho Sports / TS Amsterdam | B4: TSA/TCS | C4: 10 | D4: 33 | E4: 43 | F4: 22
A5: Ohdokwan | B5: ODK | C5: 8 | D5: 24 | E5: 32 | F5: 20
A6: Taekwon-Do Team Vrijsen | B6: TKD Team Vrijsen | C6: 15 | D6: 16 | E6: 31 | F6: 18
A7: Koguryo | B7: Koguryo | C7: 21 | D7: 10 | E7: 31 | F7: 16
A8: Taekwon-Do Academy Graziella Idili | B8: TA G. Idili | C8: 8 | D8: 17 | E8: 25 | F8: 15
A9: PUMA England | B9: PUMA England | C9: 11 | D9: 19 | E9: 30 | F9: 13
A10: Soo Bak-Gi | B10: SB-G | C10: 5 | D10: 19 | E10: 24 | F10: 13
A11: Taekwon-Do Vereniging Hwa Rangdo - Zeewolde | B11: TV Hwa Rangdo | C11: 4 | D11: 17 | E11: 21 | F11: 13
A12: Taekwon-do Den Hoorn | B12: TK Den hoorn | C12: 12 | D12: 24 | E12: 36 | F12: 13
A13: Taekwondo Martial Arts Center Delft | B13: TKD MAC Delft | C13: 7 | D13: 11 | E13: 18 | F13: 13
... A51: Christiania NTN Taekwon-Do Norway | B51: CTKD | C51: 4 | D51: 8 | E51: 12 | F51: 4
A52: SLOVENIA TEAM | B52: 0 | C52: 1 | D52: 4 | E52: 5 | F52: 4
A53: SLOVENIA TEAM | B53: 0 | C53: 1 | D53: 4 | E53: 5 | F53: 4
A54: IMPACT | B54: TT | C54: 8 | D54: 2 | E54: 10 | F54: 3
A55: South queensferry TKD | B55: SQTKD | C55: 1 | D55: 7 | E55: 8 | F55: 3
A56: True Warrior | B56: TW TKD | C56: 0 | D56: 9 | E56: 9 | F56: 3
A57: Tanny Academy of Martial Arts | B57: TAMA | C57: 5 | D57: 2 | E57: 7 | F57: 3
A58: Tanny Academy of Martial Arts | B58: TAMA | C58: 5 | D58: 2 | E58: 7 | F58: 3
A59: Tanny Academy of Martial Arts | B59: TAMA | C59: 5 | D59: 2 | E59: 7 | F59: 3
A60: Ge-Baek | B60: GBK | C60: 2 | D60: 1 | E60: 3 | F60: 2
A61: Ge-Baek | B61: GBK | C61: 2 | D61: 1 | E61: 3 | F61: 2
A62: Ge-Baek | B62: GBK | C62: 2 | D62: 1 | E62: 3 | F62: 2
A63: HWA RANG SAN PEDRO ALCANTARA | B63: HR S.PEDRO ALCANTANRA | C63: 0 | D63: 4 | E63: 4 | F63: 2
A64: HWA RANG SAN PEDRO ALCANTARA | B64: HR S.PEDRO ALCANTANRA | C64: 0 | D64: 4 | E64: 4 | F64: 2
A65: HWA RANG SAN PEDRO ALCANTARA | B65: HR S.PEDRO ALCANTANRA | C65: 0 | D65: 4 | E65: 4 | F65: 2
... A96: Just For Kicks | B96: JFK | C96: 1 | D96: 1 | E96: 2 | F96: 1

Sheet Quartile Entries
A1: Club Full | B1: Club Short | C1: Female | D1: Male | E1: Total Entries | F1: Club Size Entries | H1: Quartiles | I1: Quartile Inc.
A2: Aberdeenshire Blackbelt Club | B2: ABC | C2: 0 | D2: 4 | E2: 4 | F2: =IF(AND(Participation_Count_Clubs__24[[#This Row],[Total Entries]]>=$I$2,Participation_Count_Clubs__24[[#This Row],[Total Entries]]<$I$3),"XS",IF(AND(Participation_Count_Clubs__24[[#This Row],[Total Entries]]>=$I$3,Participation_Count_Clubs__24[[#This Row],[Total Entries]]<$I$4),"S",IF(AND(Participation_Count_Clubs__24[[#This Row],[Total Entries]]>=$I$4,Participation_Count_Clubs__24[[#This Row],[Total Entries]]<$I$5),"M",IF(AND(Participation_Count_Clubs__24[[#This Row],[Total Entries]]>=$I$5,Participation_Count_Clubs__24[[#This Row],[Total Entries]]<=$I$6),"L")))) -> XS | H2: Min. Value | I2: =_xlfn.QUARTILE.INC($E$2:$E$60,0) -> 1
A3: BOOZ ITF Taekwon-Do | B3: BOOZ | C3: 1 | D3: 0 | E3: 1 | F3: =IF(AND(Participation_Count_Clubs__24[[#This Row],[Total Entries]]>=$I$2,Participation_Count_Clubs__24[[#This Row],[Total Entries]]<$I$3),"XS",IF(AND(Participation_Count_Clubs__24[[#This Row],[Total Entries]]>=$I$3,Participation_Count_Clubs__24[[#This Row],[Total Entries]]<$I$4),"S",IF(AND(Participation_Count_Clubs__24[[#This Row],[Total Entries]]>=$I$4,Participation_Count_Clubs__24[[#This Row],[Total Entries]]<$I$5),"M",IF(AND(Participation_Count_Clubs__24[[#This Row],[Total Entries]]>=$I$5,Participation_Count_Clubs__24[[#This Row],[Total Entries]]<=$I$6),"L")))) -> XS | H3: Q1 25th percentile | I3: =_xlfn.QUARTILE.INC($E$2:$E$60,1) -> 4.5
A4: Braveheart Martial Arts | B4: Braveheart Martial Arts | C4: 4 | D4: 8 | E4: 12 | F4: =IF(AND(Participation_Count_Clubs__24[[#This Row],[Total Entries]]>=$I$2,Participation_Count_Clubs__24[[#This Row],[Total Entries]]<$I$3),"XS",IF(AND(Participation_Count_Clubs__24[[#This Row],[Total Entries]]>=$I$3,Participation_Count_Clubs__24[[#This Row],[Total Entries]]<$I$4),"S",IF(AND(Participation_Count_Clubs__24[[#This Row],[Total Entries]]>=$I$4,Participation_Count_Clubs__24[[#This Row],[Total Entries]]<$I$5),"M",IF(AND(Participation_Count_Clubs__24[[#This Row],[Total Entries]]>=$I$5,Participation_Count_Clubs__24[[#This Row],[Total Entries]]<=$I$6),"L")))) -> M | H4: Q2 50th percentile | I4: =_xlfn.QUARTILE.INC($E$2:$E$60,2) -> 12
A5: Chong Do Kwan | B5: CDK | C5: 10 | D5: 10 | E5: 20 | F5: =IF(AND(Participation_Count_Clubs__24[[#This Row],[Total Entries]]>=$I$2,Participation_Count_Clubs__24[[#This Row],[Total Entries]]<$I$3),"XS",IF(AND(Participation_Count_Clubs__24[[#This Row],[Total Entries]]>=$I$3,Participation_Count_Clubs__24[[#This Row],[Total Entries]]<$I$4),"S",IF(AND(Participation_Count_Clubs__24[[#This Row],[Total Entries]]>=$I$4,Participation_Count_Clubs__24[[#This Row],[Total Entries]]<$I$5),"M",IF(AND(Participation_Count_Clubs__24[[#This Row],[Total Entries]]>=$I$5,Participation_Count_Clubs__24[[#This Row],[Total Entries]]<=$I$6),"L")))) -> M | H5: Q3 75th percentile | I5: =_xlfn.QUARTILE.INC($E$2:$E$60,3) -> 24.5
A6: Christiania NTN Taekwon-Do Norway | B6: CTKD | C6: 4 | D6: 8 | E6: 12 | F6: =IF(AND(Participation_Count_Clubs__24[[#This Row],[Total Entries]]>=$I$2,Participation_Count_Clubs__24[[#This Row],[Total Entries]]<$I$3),"XS",IF(AND(Participation_Count_Clubs__24[[#This Row],[Total Entries]]>=$I$3,Participation_Count_Clubs__24[[#This Row],[Total Entries]]<$I$4),"S",IF(AND(Participation_Count_Clubs__24[[#This Row],[Total Entries]]>=$I$4,Participation_Count_Clubs__24[[#This Row],[Total Entries]]<$I$5),"M",IF(AND(Participation_Count_Clubs__24[[#This Row],[Total Entries]]>=$I$5,Participation_Count_Clubs__24[[#This Row],[Total Entries]]<=$I$6),"L")))) -> M | H6: Max Value | I6: =_xlfn.QUARTILE.INC($E$2:$E$60,4) -> 143
A7: Difesa Sports | B7: Difesa Sports | C7: 7 | D7: 9 | E7: 16 | F7: =IF(AND(Participation_Count_Clubs__24[[#This Row],[Total Entries]]>=$I$2,Participation_Count_Clubs__24[[#This Row],[Total Entries]]<$I$3),"XS",IF(AND(Participation_Count_Clubs__24[[#This Row],[Total Entries]]>=$I$3,Participation_Count_Clubs__24[[#This Row],[Total Entries]]<$I$4),"S",IF(AND(Participation_Count_Clubs__24[[#This Row],[Total Entries]]>=$I$4,Participation_Count_Clubs__24[[#This Row],[Total Entries]]<$I$5),"M",IF(AND(Participation_Count_Clubs__24[[#This Row],[Total Entries]]>=$I$5,Participation_Count_Clubs__24[[#This Row],[Total Entries]]<=$I$6),"L")))) -> M
A8: England Taekwon-Do Association | B8: ETA | C8: 4 | D8: 13 | E8: 17 | F8: =IF(AND(Participation_Count_Clubs__24[[#This Row],[Total Entries]]>=$I$2,Participation_Count_Clubs__24[[#This Row],[Total Entries]]<$I$3),"XS",IF(AND(Participation_Count_Clubs__24[[#This Row],[Total Entries]]>=$I$3,Participation_Count_Clubs__24[[#This Row],[Total Entries]]<$I$4),"S",IF(AND(Participation_Count_Clubs__24[[#This Row],[Total Entries]]>=$I$4,Participation_Count_Clubs__24[[#This Row],[Total Entries]]<$I$5),"M",IF(AND(Participation_Count_Clubs__24[[#This Row],[Total Entries]]>=$I$5,Participation_Count_Clubs__24[[#This Row],[Total Entries]]<=$I$6),"L")))) -> M
A9: Frolunda TKD | B9: FROTKD | C9: 0 | D9: 3 | E9: 3 | F9: =IF(AND(Participation_Count_Clubs__24[[#This Row],[Total Entries]]>=$I$2,Participation_Count_Clubs__24[[#This Row],[Total Entries]]<$I$3),"XS",IF(AND(Participation_Count_Clubs__24[[#This Row],[Total Entries]]>=$I$3,Participation_Count_Clubs__24[[#This Row],[Total Entries]]<$I$4),"S",IF(AND(Participation_Count_Clubs__24[[#This Row],[Total Entries]]>=$I$4,Participation_Count_Clubs__24[[#This Row],[Total Entries]]<$I$5),"M",IF(AND(Participation_Count_Clubs__24[[#This Row],[Total Entries]]>=$I$5,Participation_Count_Clubs__24[[#This Row],[Total Entries]]<=$I$6),"L")))) -> XS
A10: Ge-Baek | B10: GBK | C10: 2 | D10: 1 | E10: 3 | F10: =IF(AND(Participation_Count_Clubs__24[[#This Row],[Total Entries]]>=$I$2,Participation_Count_Clubs__24[[#This Row],[Total Entries]]<$I$3),"XS",IF(AND(Participation_Count_Clubs__24[[#This Row],[Total Entries]]>=$I$3,Participation_Count_Clubs__24[[#This Row],[Total Entries]]<$I$4),"S",IF(AND(Participation_Count_Clubs__24[[#This Row],[Total Entries]]>=$I$4,Participation_Count_Clubs__24[[#This Row],[Total Entries]]<$I$5),"M",IF(AND(Participation_Count_Clubs__24[[#This Row],[Total Entries]]>=$I$5,Participation_Count_Clubs__24[[#This Row],[Total Entries]]<=$I$6),"L")))) -> XS
A11: GMS Martial arts | B11: GMSMA | C11: 0 | D11: 13 | E11: 13 | F11: =IF(AND(Participation_Count_Clubs__24[[#This Row],[Total Entries]]>=$I$2,Participation_Count_Clubs__24[[#This Row],[Total Entries]]<$I$3),"XS",IF(AND(Participation_Count_Clubs__24[[#This Row],[Total Entries]]>=$I$3,Participation_Count_Clubs__24[[#This Row],[Total Entries]]<$I$4),"S",IF(AND(Participation_Count_Clubs__24[[#This Row],[Total Entries]]>=$I$4,Participation_Count_Clubs__24[[#This Row],[Total Entries]]<$I$5),"M",IF(AND(Participation_Count_Clubs__24[[#This Row],[Total Entries]]>=$I$5,Participation_Count_Clubs__24[[#This Row],[Total Entries]]<=$I$6),"L")))) -> M
A12: HWA RANG SAN PEDRO ALCANTARA | B12: HR S.PEDRO ALCANTANRA | C12: 0 | D12: 4 | E12: 4 | F12: =IF(AND(Participation_Count_Clubs__24[[#This Row],[Total Entries]]>=$I$2,Participation_Count_Clubs__24[[#This Row],[Total Entries]]<$I$3),"XS",IF(AND(Participation_Count_Clubs__24[[#This Row],[Total Entries]]>=$I$3,Participation_Count_Clubs__24[[#This Row],[Total Entries]]<$I$4),"S",IF(AND(Participation_Count_Clubs__24[[#This Row],[Total Entries]]>=$I$4,Participation_Count_Clubs__24[[#This Row],[Total Entries]]<$I$5),"M",IF(AND(Participation_Count_Clubs__24[[#This Row],[Total Entries]]>=$I$5,Participation_Count_Clubs__24[[#This Row],[Total Entries]]<=$I$6),"L")))) -> XS
A13: Hyong Celje | B13: Hyong | C13: 10 | D13: 2 | E13: 12 | F13: =IF(AND(Participation_Count_Clubs__24[[#This Row],[Total Entries]]>=$I$2,Participation_Count_Clubs__24[[#This Row],[Total Entries]]<$I$3),"XS",IF(AND(Participation_Count_Clubs__24[[#This Row],[Total Entries]]>=$I$3,Participation_Count_Clubs__24[[#This Row],[Total Entries]]<$I$4),"S",IF(AND(Participation_Count_Clubs__24[[#This Row],[Total Entries]]>=$I$4,Participation_Count_Clubs__24[[#This Row],[Total Entries]]<$I$5),"M",IF(AND(Participation_Count_Clubs__24[[#This Row],[Total Entries]]>=$I$5,Participation_Count_Clubs__24[[#This Row],[Total Entries]]<=$I$6),"L")))) -> M
A14: I-Kick Martial Arts | B14: IKMA | C14: 8 | D14: 20 | E14: 28 | F14: =IF(AND(Participation_Count_Clubs__25[[#This Row],[Total Athletes]]>=$I$2,Participation_Count_Clubs__24[[#This Row],[Total Entries]]<$I$3),"XS",IF(AND(Participation_Count_Clubs__24[[#This Row],[Total Entries]]>=$I$3,Participation_Count_Clubs__24[[#This Row],[Total Entries]]<$I$4),"S",IF(AND(Participation_Count_Clubs__24[[#This Row],[Total Entries]]>=$I$4,Participation_Count_Clubs__24[[#This Row],[Total Entries]]<$I$5),"M",IF(AND(Participation_Count_Clubs__24[[#This Row],[Total Entries]]>=$I$5,Participation_Count_Clubs__24[[#This Row],[Total Entries]]<=$I$6),"L")))) -> L
A15: IMPACT | B15: TT | C15: 8 | D15: 2 | E15: 10 | F15: =IF(AND(Participation_Count_Clubs__24[[#This Row],[Total Entries]]>=$I$2,Participation_Count_Clubs__24[[#This Row],[Total Entries]]<$I$3),"XS",IF(AND(Participation_Count_Clubs__24[[#This Row],[Total Entries]]>=$I$3,Participation_Count_Clubs__24[[#This Row],[Total Entries]]<$I$4),"S",IF(AND(Participation_Count_Clubs__24[[#This Row],[Total Entries]]>=$I$4,Participation_Count_Clubs__24[[#This Row],[Total Entries]]<$I$5),"M",IF(AND(Participation_Count_Clubs__24[[#This Row],[Total Entries]]>=$I$5,Participation_Count_Clubs__24[[#This Row],[Total Entries]]<=$I$6),"L")))) -> S
A16: ITF Fusion | B16: ITF Fusion | C16: 2 | D16: 6 | E16: 8 | F16: =IF(AND(Participation_Count_Clubs__24[[#This Row],[Total Entries]]>=$I$2,Participation_Count_Clubs__24[[#This Row],[Total Entries]]<$I$3),"XS",IF(AND(Participation_Count_Clubs__24[[#This Row],[Total Entries]]>=$I$3,Participation_Count_Clubs__24[[#This Row],[Total Entries]]<$I$4),"S",IF(AND(Participation_Count_Clubs__24[[#This Row],[Total Entries]]>=$I$4,Participation_Count_Clubs__24[[#This Row],[Total Entries]]<$I$5),"M",IF(AND(Participation_Count_Clubs__24[[#This Row],[Total Entries]]>=$I$5,Participation_Count_Clubs__24[[#This Row],[Total Entries]]<=$I$6),"L")))) -> S
A17: ITF JAPAN - KANSAI | B17: ITF JAPAN - KANSAI | C17: 1 | D17: 1 | E17: 2 | F17: =IF(AND(Participation_Count_Clubs__24[[#This Row],[Total Entries]]>=$I$2,Participation_Count_Clubs__24[[#This Row],[Total Entries]]<$I$3),"XS",IF(AND(Participation_Count_Clubs__24[[#This Row],[Total Entries]]>=$I$3,Participation_Count_Clubs__24[[#This Row],[Total Entries]]<$I$4),"S",IF(AND(Participation_Count_Clubs__24[[#This Row],[Total Entries]]>=$I$4,Participation_Count_Clubs__24[[#This Row],[Total Entries]]<$I$5),"M",IF(AND(Participation_Count_Clubs__24[[#This Row],[Total Entries]]>=$I$5,Participation_Count_Clubs__24[[#This Row],[Total Entries]]<=$I$6),"L")))) -> XS
A18: ITF Paris | B18: ITF Paris | C18: 3 | D18: 4 | E18: 7 | F18: =IF(AND(Participation_Count_Clubs__24[[#This Row],[Total Entries]]>=$I$2,Participation_Count_Clubs__24[[#This Row],[Total Entries]]<$I$3),"XS",IF(AND(Participation_Count_Clubs__24[[#This Row],[Total Entries]]>=$I$3,Participation_Count_Clubs__24[[#This Row],[Total Entries]]<$I$4),"S",IF(AND(Participation_Count_Clubs__24[[#This Row],[Total Entries]]>=$I$4,Participation_Count_Clubs__24[[#This Row],[Total Entries]]<$I$5),"M",IF(AND(Participation_Count_Clubs__24[[#This Row],[Total Entries]]>=$I$5,Participation_Count_Clubs__24[[#This Row],[Total Entries]]<=$I$6),"L")))) -> S
A19: Jungshin Kwan | B19: Jungshin Kwan | C19: 7 | D19: 24 | E19: 31 | F19: =IF(AND(Participation_Count_Clubs__24[[#This Row],[Total Entries]]>=$I$2,Participation_Count_Clubs__24[[#This Row],[Total Entries]]<$I$3),"XS",IF(AND(Participation_Count_Clubs__24[[#This Row],[Total Entries]]>=$I$3,Participation_Count_Clubs__24[[#This Row],[Total Entries]]<$I$4),"S",IF(AND(Participation_Count_Clubs__24[[#This Row],[Total Entries]]>=$I$4,Participation_Count_Clubs__24[[#This Row],[Total Entries]]<$I$5),"M",IF(AND(Participation_Count_Clubs__24[[#This Row],[Total Entries]]>=$I$5,Participation_Count_Clubs__24[[#This Row],[Total Entries]]<=$I$6),"L")))) -> L
A20: Just For Kicks | B20: JFK | C20: 1 | D20: 1 | E20: 2 | F20: =IF(AND(Participation_Count_Clubs__24[[#This Row],[Total Entries]]>=$I$2,Participation_Count_Clubs__24[[#This Row],[Total Entries]]<$I$3),"XS",IF(AND(Participation_Count_Clubs__24[[#This Row],[Total Entries]]>=$I$3,Participation_Count_Clubs__24[[#This Row],[Total Entries]]<$I$4),"S",IF(AND(Participation_Count_Clubs__24[[#This Row],[Total Entries]]>=$I$4,Participation_Count_Clubs__24[[#This Row],[Total Entries]]<$I$5),"M",IF(AND(Participation_Count_Clubs__24[[#This Row],[Total Entries]]>=$I$5,Participation_Count_Clubs__24[[#This Row],[Total Entries]]<=$I$6),"L")))) -> XS
A21: Kassem Gym | B21: Kassem Gym | C21: 19 | D21: 12 | E21: 31 | F21: =IF(AND(Participation_Count_Clubs__24[[#This Row],[Total Entries]]>=$I$2,Participation_Count_Clubs__24[[#This Row],[Total Entries]]<$I$3),"XS",IF(AND(Participation_Count_Clubs__24[[#This Row],[Total Entries]]>=$I$3,Participation_Count_Clubs__24[[#This Row],[Total Entries]]<$I$4),"S",IF(AND(Participation_Count_Clubs__24[[#This Row],[Total Entries]]>=$I$4,Participation_Count_Clubs__24[[#This Row],[Total Entries]]<$I$5),"M",IF(AND(Participation_Count_Clubs__24[[#This Row],[Total Entries]]>=$I$5,Participation_Count_Clubs__24[[#This Row],[Total Entries]]<=$I$6),"L")))) -> L
A22: Koguryo | B22: Koguryo | C22: 21 | D22: 10 | E22: 31 | F22: =IF(AND(Participation_Count_Clubs__24[[#This Row],[Total Entries]]>=$I$2,Participation_Count_Clubs__24[[#This Row],[Total Entries]]<$I$3),"XS",IF(AND(Participation_Count_Clubs__24[[#This Row],[Total Entries]]>=$I$3,Participation_Count_Clubs__24[[#This Row],[Total Entries]]<$I$4),"S",IF(AND(Participation_Count_Clubs__24[[#This Row],[Total Entries]]>=$I$4,Participation_Count_Clubs__24[[#This Row],[Total Entries]]<$I$5),"M",IF(AND(Participation_Count_Clubs__24[[#This Row],[Total Entries]]>=$I$5,Participation_Count_Clubs__24[[#This Row],[Total Entries]]<=$I$6),"L")))) -> L
A23: MARRIS GYM | B23: MG | C23: 4 | D23: 4 | E23: 8 | F23: =IF(AND(Participation_Count_Clubs__24[[#This Row],[Total Entries]]>=$I$2,Participation_Count_Clubs__24[[#This Row],[Total Entries]]<$I$3),"XS",IF(AND(Participation_Count_Clubs__24[[#This Row],[Total Entries]]>=$I$3,Participation_Count_Clubs__24[[#This Row],[Total Entries]]<$I$4),"S",IF(AND(Participation_Count_Clubs__24[[#This Row],[Total Entries]]>=$I$4,Participation_Count_Clubs__24[[#This Row],[Total Entries]]<$I$5),"M",IF(AND(Participation_Count_Clubs__24[[#This Row],[Total Entries]]>=$I$5,Participation_Count_Clubs__24[[#This Row],[Total Entries]]<=$I$6),"L")))) -> S
A24: Ohdokwan | B24: ODK | C24: 8 | D24: 24 | E24: 32 | F24: =IF(AND(Participation_Count_Clubs__24[[#This Row],[Total Entries]]>=$I$2,Participation_Count_Clubs__24[[#This Row],[Total Entries]]<$I$3),"XS",IF(AND(Participation_Count_Clubs__24[[#This Row],[Total Entries]]>=$I$3,Participation_Count_Clubs__24[[#This Row],[Total Entries]]<$I$4),"S",IF(AND(Participation_Count_Clubs__24[[#This Row],[Total Entries]]>=$I$4,Participation_Count_Clubs__24[[#This Row],[Total Entries]]<$I$5),"M",IF(AND(Participation_Count_Clubs__24[[#This Row],[Total Entries]]>=$I$5,Participation_Count_Clubs__24[[#This Row],[Total Entries]]<=$I$6),"L")))) -> L
A25: PUMA England | B25: PUMA England | C25: 11 | D25: 19 | E25: 30 | F25: =IF(AND(Participation_Count_Clubs__24[[#This Row],[Total Entries]]>=$I$2,Participation_Count_Clubs__24[[#This Row],[Total Entries]]<$I$3),"XS",IF(AND(Participation_Count_Clubs__24[[#This Row],[Total Entries]]>=$I$3,Participation_Count_Clubs__24[[#This Row],[Total Entries]]<$I$4),"S",IF(AND(Participation_Count_Clubs__24[[#This Row],[Total Entries]]>=$I$4,Participation_Count_Clubs__24[[#This Row],[Total Entries]]<$I$5),"M",IF(AND(Participation_Count_Clubs__24[[#This Row],[Total Entries]]>=$I$5,Participation_Count_Clubs__24[[#This Row],[Total Entries]]<=$I$6),"L")))) -> L
A26: RasBudo ITF Taekwon-do rf | B26: RasBudo | C26: 1 | D26: 1 | E26: 2 | F26: =IF(AND(Participation_Count_Clubs__24[[#This Row],[Total Entries]]>=$I$2,Participation_Count_Clubs__24[[#This Row],[Total Entries]]<$I$3),"XS",IF(AND(Participation_Count_Clubs__24[[#This Row],[Total Entries]]>=$I$3,Participation_Count_Clubs__24[[#This Row],[Total Entries]]<$I$4),"S",IF(AND(Participation_Count_Clubs__24[[#This Row],[Total Entries]]>=$I$4,Participation_Count_Clubs__24[[#This Row],[Total Entries]]<$I$5),"M",IF(AND(Participation_Count_Clubs__24[[#This Row],[Total Entries]]>=$I$5,Participation_Count_Clubs__24[[#This Row],[Total Entries]]<=$I$6),"L")))) -> XS
A27: SLOVENIA TEAM | B27: 0 | C27: 1 | D27: 4 | E27: 5 | F27: =IF(AND(Participation_Count_Clubs__24[[#This Row],[Total Entries]]>=$I$2,Participation_Count_Clubs__24[[#This Row],[Total Entries]]<$I$3),"XS",IF(AND(Participation_Count_Clubs__24[[#This Row],[Total Entries]]>=$I$3,Participation_Count_Clubs__24[[#This Row],[Total Entries]]<$I$4),"S",IF(AND(Participation_Count_Clubs__24[[#This Row],[Total Entries]]>=$I$4,Participation_Count_Clubs__24[[#This Row],[Total Entries]]<$I$5),"M",IF(AND(Participation_Count_Clubs__24[[#This Row],[Total Entries]]>=$I$5,Participation_Count_Clubs__24[[#This Row],[Total Entries]]<=$I$6),"L")))) -> S
A28: Soo Bak-Gi | B28: SB-G | C28: 5 | D28: 19 | E28: 24 | F28: =IF(AND(Participation_Count_Clubs__24[[#This Row],[Total Entries]]>=$I$2,Participation_Count_Clubs__24[[#This Row],[Total Entries]]<$I$3),"XS",IF(AND(Participation_Count_Clubs__24[[#This Row],[Total Entries]]>=$I$3,Participation_Count_Clubs__24[[#This Row],[Total Entries]]<$I$4),"S",IF(AND(Participation_Count_Clubs__24[[#This Row],[Total Entries]]>=$I$4,Participation_Count_Clubs__24[[#This Row],[Total Entries]]<$I$5),"M",IF(AND(Participation_Count_Clubs__24[[#This Row],[Total Entries]]>=$I$5,Participation_Count_Clubs__24[[#This Row],[Total Entries]]<=$I$6),"L")))) -> M
A29: South queensferry TKD | B29: SQTKD | C29: 1 | D29: 7 | E29: 8 | F29: =IF(AND(Participation_Count_Clubs__24[[#This Row],[Total Entries]]>=$I$2,Participation_Count_Clubs__24[[#This Row],[Total Entries]]<$I$3),"XS",IF(AND(Participation_Count_Clubs__24[[#This Row],[Total Entries]]>=$I$3,Participation_Count_Clubs__24[[#This Row],[Total Entries]]<$I$4),"S",IF(AND(Participation_Count_Clubs__24[[#This Row],[Total Entries]]>=$I$4,Participation_Count_Clubs__24[[#This Row],[Total Entries]]<$I$5),"M",IF(AND(Participation_Count_Clubs__24[[#This Row],[Total Entries]]>=$I$5,Participation_Count_Clubs__24[[#This Row],[Total Entries]]<=$I$6),"L")))) -> S
A30: Sportschool Tim Kool | B30: SSTK | C30: 49 | D30: 94 | E30: 143 | F30: =IF(AND(Participation_Count_Clubs__24[[#This Row],[Total Entries]]>=$I$2,Participation_Count_Clubs__24[[#This Row],[Total Entries]]<$I$3),"XS",IF(AND(Participation_Count_Clubs__24[[#This Row],[Total Entries]]>=$I$3,Participation_Count_Clubs__24[[#This Row],[Total Entries]]<$I$4),"S",IF(AND(Participation_Count_Clubs__24[[#This Row],[Total Entries]]>=$I$4,Participation_Count_Clubs__24[[#This Row],[Total Entries]]<$I$5),"M",IF(AND(Participation_Count_Clubs__24[[#This Row],[Total Entries]]>=$I$5,Participation_Count_Clubs__24[[#This Row],[Total Entries]]<=$I$6),"L")))) -> L
A31: Sportschule Monheim | B31: SpoMo | C31: 5 | D31: 7 | E31: 12 | F31: =IF(AND(Participation_Count_Clubs__24[[#This Row],[Total Entries]]>=$I$2,Participation_Count_Clubs__24[[#This Row],[Total Entries]]<$I$3),"XS",IF(AND(Participation_Count_Clubs__24[[#This Row],[Total Entries]]>=$I$3,Participation_Count_Clubs__24[[#This Row],[Total Entries]]<$I$4),"S",IF(AND(Participation_Count_Clubs__24[[#This Row],[Total Entries]]>=$I$4,Participation_Count_Clubs__24[[#This Row],[Total Entries]]<$I$5),"M",IF(AND(Participation_Count_Clubs__24[[#This Row],[Total Entries]]>=$I$5,Participation_Count_Clubs__24[[#This Row],[Total Entries]]<=$I$6),"L")))) -> M
A32: sportschuledamato | B32: sportschuledamato | C32: 17 | D32: 15 | E32: 32 | F32: =IF(AND(Participation_Count_Clubs__24[[#This Row],[Total Entries]]>=$I$2,Participation_Count_Clubs__24[[#This Row],[Total Entries]]<$I$3),"XS",IF(AND(Participation_Count_Clubs__24[[#This Row],[Total Entries]]>=$I$3,Participation_Count_Clubs__24[[#This Row],[Total Entries]]<$I$4),"S",IF(AND(Participation_Count_Clubs__24[[#This Row],[Total Entries]]>=$I$4,Participation_Count_Clubs__24[[#This Row],[Total Entries]]<$I$5),"M",IF(AND(Participation_Count_Clubs__24[[#This Row],[Total Entries]]>=$I$5,Participation_Count_Clubs__24[[#This Row],[Total Entries]]<=$I$6),"L")))) -> L
A33: T.A.Nimjae | B33: TA Nimjae | C33: 12 | D33: 12 | E33: 24 | F33: =IF(AND(Participation_Count_Clubs__24[[#This Row],[Total Entries]]>=$I$2,Participation_Count_Clubs__24[[#This Row],[Total Entries]]<$I$3),"XS",IF(AND(Participation_Count_Clubs__24[[#This Row],[Total Entries]]>=$I$3,Participation_Count_Clubs__24[[#This Row],[Total Entries]]<$I$4),"S",IF(AND(Participation_Count_Clubs__24[[#This Row],[Total Entries]]>=$I$4,Participation_Count_Clubs__24[[#This Row],[Total Entries]]<$I$5),"M",IF(AND(Participation_Count_Clubs__24[[#This Row],[Total Entries]]>=$I$5,Participation_Count_Clubs__24[[#This Row],[Total Entries]]<=$I$6),"L")))) -> M
A34: Taekwon-Do So San | B34: So San | C34: 2 | D34: 5 | E34: 7 | F34: =IF(AND(Participation_Count_Clubs__24[[#This Row],[Total Entries]]>=$I$2,Participation_Count_Clubs__24[[#This Row],[Total Entries]]<$I$3),"XS",IF(AND(Participation_Count_Clubs__24[[#This Row],[Total Entries]]>=$I$3,Participation_Count_Clubs__24[[#This Row],[Total Entries]]<$I$4),"S",IF(AND(Participation_Count_Clubs__24[[#This Row],[Total Entries]]>=$I$4,Participation_Count_Clubs__24[[#This Row],[Total Entries]]<$I$5),"M",IF(AND(Participation_Count_Clubs__24[[#This Row],[Total Entries]]>=$I$5,Participation_Count_Clubs__24[[#This Row],[Total Entries]]<=$I$6),"L")))) -> S
A35: Taekwon-Do Academy Graziella Idili | B35: TA G. Idili | C35: 8 | D35: 17 | E35: 25 | F35: =IF(AND(Participation_Count_Clubs__24[[#This Row],[Total Entries]]>=$I$2,Participation_Count_Clubs__24[[#This Row],[Total Entries]]<$I$3),"XS",IF(AND(Participation_Count_Clubs__24[[#This Row],[Total Entries]]>=$I$3,Participation_Count_Clubs__24[[#This Row],[Total Entries]]<$I$4),"S",IF(AND(Participation_Count_Clubs__24[[#This Row],[Total Entries]]>=$I$4,Participation_Count_Clubs__24[[#This Row],[Total Entries]]<$I$5),"M",IF(AND(Participation_Count_Clubs__24[[#This Row],[Total Entries]]>=$I$5,Participation_Count_Clubs__24[[#This Row],[Total Entries]]<=$I$6),"L")))) -> L
A36: Taekwon-do Den Hoorn | B36: TK Den hoorn | C36: 12 | D36: 24 | E36: 36 | F36: =IF(AND(Participation_Count_Clubs__24[[#This Row],[Total Entries]]>=$I$2,Participation_Count_Clubs__24[[#This Row],[Total Entries]]<$I$3),"XS",IF(AND(Participation_Count_Clubs__24[[#This Row],[Total Entries]]>=$I$3,Participation_Count_Clubs__24[[#This Row],[Total Entries]]<$I$4),"S",IF(AND(Participation_Count_Clubs__24[[#This Row],[Total Entries]]>=$I$4,Participation_Count_Clubs__24[[#This Row],[Total Entries]]<$I$5),"M",IF(AND(Participation_Count_Clubs__24[[#This Row],[Total Entries]]>=$I$5,Participation_Count_Clubs__24[[#This Row],[Total Entries]]<=$I$6),"L")))) -> L
A37: Taekwon-Do Excel | B37: TKD Excel | C37: 0 | D37: 4 | E37: 4 | F37: =IF(AND(Participation_Count_Clubs__24[[#This Row],[Total Entries]]>=$I$2,Participation_Count_Clubs__24[[#This Row],[Total Entries]]<$I$3),"XS",IF(AND(Participation_Count_Clubs__24[[#This Row],[Total Entries]]>=$I$3,Participation_Count_Clubs__24[[#This Row],[Total Entries]]<$I$4),"S",IF(AND(Participation_Count_Clubs__24[[#This Row],[Total Entries]]>=$I$4,Participation_Count_Clubs__24[[#This Row],[Total Entries]]<$I$5),"M",IF(AND(Participation_Count_Clubs__24[[#This Row],[Total Entries]]>=$I$5,Participation_Count_Clubs__24[[#This Row],[Total Entries]]<=$I$6),"L")))) -> XS
A38: Taekwon-Do IN NAE DO KWAN | B38: Taekwon-Do IN NAE DO KWAN | C38: 8 | D38: 21 | E38: 29 | F38: =IF(AND(Participation_Count_Clubs__24[[#This Row],[Total Entries]]>=$I$2,Participation_Count_Clubs__24[[#This Row],[Total Entries]]<$I$3),"XS",IF(AND(Participation_Count_Clubs__24[[#This Row],[Total Entries]]>=$I$3,Participation_Count_Clubs__24[[#This Row],[Total Entries]]<$I$4),"S",IF(AND(Participation_Count_Clubs__24[[#This Row],[Total Entries]]>=$I$4,Participation_Count_Clubs__24[[#This Row],[Total Entries]]<$I$5),"M",IF(AND(Participation_Count_Clubs__24[[#This Row],[Total Entries]]>=$I$5,Participation_Count_Clubs__24[[#This Row],[Total Entries]]<=$I$6),"L")))) -> L
A39: Taekwon-Do ITF Nimes | B39: ITF Nimes | C39: 0 | D39: 3 | E39: 3 | F39: =IF(AND(Participation_Count_Clubs__24[[#This Row],[Total Entries]]>=$I$2,Participation_Count_Clubs__24[[#This Row],[Total Entries]]<$I$3),"XS",IF(AND(Participation_Count_Clubs__24[[#This Row],[Total Entries]]>=$I$3,Participation_Count_Clubs__24[[#This Row],[Total Entries]]<$I$4),"S",IF(AND(Participation_Count_Clubs__24[[#This Row],[Total Entries]]>=$I$4,Participation_Count_Clubs__24[[#This Row],[Total Entries]]<$I$5),"M",IF(AND(Participation_Count_Clubs__24[[#This Row],[Total Entries]]>=$I$5,Participation_Count_Clubs__24[[#This Row],[Total Entries]]<=$I$6),"L")))) -> XS
... A60: West Clare & Quin | B60: WCQ | C60: 6 | D60: 23 | E60: 29 | F60: =IF(AND(Participation_Count_Clubs__24[[#This Row],[Total Entries]]>=$I$2,Participation_Count_Clubs__24[[#This Row],[Total Entries]]<$I$3),"XS",IF(AND(Participation_Count_Clubs__24[[#This Row],[Total Entries]]>=$I$3,Participation_Count_Clubs__24[[#This Row],[Total Entries]]<$I$4),"S",IF(AND(Participation_Count_Clubs__24[[#This Row],[Total Entries]]>=$I$4,Participation_Count_Clubs__24[[#This Row],[Total Entries]]<$I$5),"M",IF(AND(Participation_Count_Clubs__24[[#This Row],[Total Entries]]>=$I$5,Participation_Count_Clubs__24[[#This Row],[Total Entries]]<=$I$6),"L")))) -> L

Sheet Categories and Entries
A1: Category | B1: Entries | C1: Clubs | D1: Nations | E1: Kolom1
A2: 01001 Tul Youth 6-13 F A D01 | B2: 2 | C2: 2 | D2: 1
A3: 01002 Tul Youth 6-13 F B G04-G01 | B3: 24 | C3: 15 | D3: 3
A4: 01003a Tul Youth 6-13 F C G06-G05 | B4: 21 | C4: 12 | D4: 3
A5: 01003b Tul Youth 6-13 F C G07 | B5: 13 | C5: 8 | D5: 3
A6: 01004 Tul Youth 6-13 F C G10-G08 | B6: 22 | C6: 10 | D6: 3
A7: 01006 Tul Youth 6-13 M A D01 | B7: 6 | C7: 5 | D7: 3
A8: 01007a Tul Youth 6-13 M B G02-G01 | B8: 17 | C8: 12 | D8: 4
A9: 01007b Tul Youth 6-13 M B G04-G03 | B9: 19 | C9: 14 | D9: 5
A10: 01008a Tul Youth 6-13 M C G06-G05 | B10: 22 | C10: 11 | D10: 3
A11: 01008b Tul Youth 6-13 M C G07 | B11: 13 | C11: 10 | D11: 2
A12: 01009 Tul Youth 6-13 M C G10-G08 | B12: 22 | C12: 13 | D12: 4
A13: 01011 S Tul Junior 14-17 F/M A D02 | B13: 6 | C13: 6 | D13: 5
... A107: Team Event | B107: 34 | C107: 13 | D107: 8

Sheet Quartile Athletes
A1: Club Full | B1: Club Short | C1: Male | D1: Female | E1: Total Athletes | F1: Club Size Athletes | H1: Quartiles | I1: Quartile Inc.
A2: Vision TKD | B2: VTKD | C2: 0 | D2: 3 | E2: 1 | F2: =IF(AND(Participation_Count_Clubs__25[[#This Row],[Total Athletes]]>=$I$2,Participation_Count_Clubs__25[[#This Row],[Total Athletes]]<$I$3),"XS",IF(AND(Participation_Count_Clubs__25[[#This Row],[Total Athletes]]>=$I$3,Participation_Count_Clubs__25[[#This Row],[Total Athletes]]<$I$4),"S",IF(AND(Participation_Count_Clubs__25[[#This Row],[Total Athletes]]>=$I$4,Participation_Count_Clubs__25[[#This Row],[Total Athletes]]<$I$5),"M",IF(AND(Participation_Count_Clubs__25[[#This Row],[Total Athletes]]>=$I$5,Participation_Count_Clubs__25[[#This Row],[Total Athletes]]<=$I$6),"L")))) -> XS | H2: Min. Value | I2: =_xlfn.QUARTILE.INC($E$2:$E$60,0) -> 1
A3: University of Limerick Tae Kwon-Do | B3: UL TKD | C3: 0 | D3: 1 | E3: 1 | F3: =IF(AND(Participation_Count_Clubs__25[[#This Row],[Total Athletes]]>=$I$2,Participation_Count_Clubs__25[[#This Row],[Total Athletes]]<$I$3),"XS",IF(AND(Participation_Count_Clubs__25[[#This Row],[Total Athletes]]>=$I$3,Participation_Count_Clubs__25[[#This Row],[Total Athletes]]<$I$4),"S",IF(AND(Participation_Count_Clubs__25[[#This Row],[Total Athletes]]>=$I$4,Participation_Count_Clubs__25[[#This Row],[Total Athletes]]<$I$5),"M",IF(AND(Participation_Count_Clubs__25[[#This Row],[Total Athletes]]>=$I$5,Participation_Count_Clubs__25[[#This Row],[Total Athletes]]<=$I$6),"L")))) -> XS | H3: Q1 25th percentile | I3: =_xlfn.QUARTILE.INC($E$2:$E$60,1) -> 2
A4: ITF JAPAN - KANSAI | B4: ITF JAPAN - KANSAI | C4: 1 | D4: 1 | E4: 1 | F4: =IF(AND(Participation_Count_Clubs__25[[#This Row],[Total Athletes]]>=$I$2,Participation_Count_Clubs__25[[#This Row],[Total Athletes]]<$I$3),"XS",IF(AND(Participation_Count_Clubs__25[[#This Row],[Total Athletes]]>=$I$3,Participation_Count_Clubs__25[[#This Row],[Total Athletes]]<$I$4),"S",IF(AND(Participation_Count_Clubs__25[[#This Row],[Total Athletes]]>=$I$4,Participation_Count_Clubs__25[[#This Row],[Total Athletes]]<$I$5),"M",IF(AND(Participation_Count_Clubs__25[[#This Row],[Total Athletes]]>=$I$5,Participation_Count_Clubs__25[[#This Row],[Total Athletes]]<=$I$6),"L")))) -> XS | H4: Q2 50th percentile | I4: =_xlfn.QUARTILE.INC($E$2:$E$60,2) -> 5
A5: taekwon-do norden | B5: taekwondonorden | C5: 2 | D5: 0 | E5: 1 | F5: =IF(AND(Participation_Count_Clubs__25[[#This Row],[Total Athletes]]>=$I$2,Participation_Count_Clubs__25[[#This Row],[Total Athletes]]<$I$3),"XS",IF(AND(Participation_Count_Clubs__25[[#This Row],[Total Athletes]]>=$I$3,Participation_Count_Clubs__25[[#This Row],[Total Athletes]]<$I$4),"S",IF(AND(Participation_Count_Clubs__25[[#This Row],[Total Athletes]]>=$I$4,Participation_Count_Clubs__25[[#This Row],[Total Athletes]]<$I$5),"M",IF(AND(Participation_Count_Clubs__25[[#This Row],[Total Athletes]]>=$I$5,Participation_Count_Clubs__25[[#This Row],[Total Athletes]]<=$I$6),"L")))) -> XS | H5: Q3 75th percentile | I5: =_xlfn.QUARTILE.INC($E$2:$E$60,3) -> 11.5
A6: BOOZ ITF Taekwon-Do | B6: BOOZ | C6: 1 | D6: 0 | E6: 1 | F6: =IF(AND(Participation_Count_Clubs__25[[#This Row],[Total Athletes]]>=$I$2,Participation_Count_Clubs__25[[#This Row],[Total Athletes]]<$I$3),"XS",IF(AND(Participation_Count_Clubs__25[[#This Row],[Total Athletes]]>=$I$3,Participation_Count_Clubs__25[[#This Row],[Total Athletes]]<$I$4),"S",IF(AND(Participation_Count_Clubs__25[[#This Row],[Total Athletes]]>=$I$4,Participation_Count_Clubs__25[[#This Row],[Total Athletes]]<$I$5),"M",IF(AND(Participation_Count_Clubs__25[[#This Row],[Total Athletes]]>=$I$5,Participation_Count_Clubs__25[[#This Row],[Total Athletes]]<=$I$6),"L")))) -> XS | H6: Max Value | I6: =_xlfn.QUARTILE.INC($E$2:$E$60,4) -> 70
A7: Aberdeenshire Blackbelt Club | B7: ABC | C7: 0 | D7: 4 | E7: 1 | F7: =IF(AND(Participation_Count_Clubs__25[[#This Row],[Total Athletes]]>=$I$2,Participation_Count_Clubs__25[[#This Row],[Total Athletes]]<$I$3),"XS",IF(AND(Participation_Count_Clubs__25[[#This Row],[Total Athletes]]>=$I$3,Participation_Count_Clubs__25[[#This Row],[Total Athletes]]<$I$4),"S",IF(AND(Participation_Count_Clubs__25[[#This Row],[Total Athletes]]>=$I$4,Participation_Count_Clubs__25[[#This Row],[Total Athletes]]<$I$5),"M",IF(AND(Participation_Count_Clubs__25[[#This Row],[Total Athletes]]>=$I$5,Participation_Count_Clubs__25[[#This Row],[Total Athletes]]<=$I$6),"L")))) -> XS
A8: Frolunda TKD | B8: FROTKD | C8: 0 | D8: 3 | E8: 1 | F8: =IF(AND(Participation_Count_Clubs__25[[#This Row],[Total Athletes]]>=$I$2,Participation_Count_Clubs__25[[#This Row],[Total Athletes]]<$I$3),"XS",IF(AND(Participation_Count_Clubs__25[[#This Row],[Total Athletes]]>=$I$3,Participation_Count_Clubs__25[[#This Row],[Total Athletes]]<$I$4),"S",IF(AND(Participation_Count_Clubs__25[[#This Row],[Total Athletes]]>=$I$4,Participation_Count_Clubs__25[[#This Row],[Total Athletes]]<$I$5),"M",IF(AND(Participation_Count_Clubs__25[[#This Row],[Total Athletes]]>=$I$5,Participation_Count_Clubs__25[[#This Row],[Total Athletes]]<=$I$6),"L")))) -> XS
A9: Just For Kicks | B9: JFK | C9: 1 | D9: 1 | E9: 1 | F9: =IF(AND(Participation_Count_Clubs__25[[#This Row],[Total Athletes]]>=$I$2,Participation_Count_Clubs__25[[#This Row],[Total Athletes]]<$I$3),"XS",IF(AND(Participation_Count_Clubs__25[[#This Row],[Total Athletes]]>=$I$3,Participation_Count_Clubs__25[[#This Row],[Total Athletes]]<$I$4),"S",IF(AND(Participation_Count_Clubs__25[[#This Row],[Total Athletes]]>=$I$4,Participation_Count_Clubs__25[[#This Row],[Total Athletes]]<$I$5),"M",IF(AND(Participation_Count_Clubs__25[[#This Row],[Total Athletes]]>=$I$5,Participation_Count_Clubs__25[[#This Row],[Total Athletes]]<=$I$6),"L")))) -> XS
A10: Ge-Baek | B10: GBK | C10: 2 | D10: 1 | E10: 2 | F10: =IF(AND(Participation_Count_Clubs__25[[#This Row],[Total Athletes]]>=$I$2,Participation_Count_Clubs__25[[#This Row],[Total Athletes]]<$I$3),"XS",IF(AND(Participation_Count_Clubs__25[[#This Row],[Total Athletes]]>=$I$3,Participation_Count_Clubs__25[[#This Row],[Total Athletes]]<$I$4),"S",IF(AND(Participation_Count_Clubs__25[[#This Row],[Total Athletes]]>=$I$4,Participation_Count_Clubs__25[[#This Row],[Total Athletes]]<$I$5),"M",IF(AND(Participation_Count_Clubs__25[[#This Row],[Total Athletes]]>=$I$5,Participation_Count_Clubs__25[[#This Row],[Total Athletes]]<=$I$6),"L")))) -> S
A11: HWA RANG SAN PEDRO ALCANTARA | B11: HR S.PEDRO ALCANTANRA | C11: 0 | D11: 4 | E11: 2 | F11: =IF(AND(Participation_Count_Clubs__25[[#This Row],[Total Athletes]]>=$I$2,Participation_Count_Clubs__25[[#This Row],[Total Athletes]]<$I$3),"XS",IF(AND(Participation_Count_Clubs__25[[#This Row],[Total Athletes]]>=$I$3,Participation_Count_Clubs__25[[#This Row],[Total Athletes]]<$I$4),"S",IF(AND(Participation_Count_Clubs__25[[#This Row],[Total Athletes]]>=$I$4,Participation_Count_Clubs__25[[#This Row],[Total Athletes]]<$I$5),"M",IF(AND(Participation_Count_Clubs__25[[#This Row],[Total Athletes]]>=$I$5,Participation_Count_Clubs__25[[#This Row],[Total Athletes]]<=$I$6),"L")))) -> S
A12: RasBudo ITF Taekwon-do rf | B12: RasBudo | C12: 1 | D12: 1 | E12: 2 | F12: =IF(AND(Participation_Count_Clubs__25[[#This Row],[Total Athletes]]>=$I$2,Participation_Count_Clubs__25[[#This Row],[Total Athletes]]<$I$3),"XS",IF(AND(Participation_Count_Clubs__25[[#This Row],[Total Athletes]]>=$I$3,Participation_Count_Clubs__25[[#This Row],[Total Athletes]]<$I$4),"S",IF(AND(Participation_Count_Clubs__25[[#This Row],[Total Athletes]]>=$I$4,Participation_Count_Clubs__25[[#This Row],[Total Athletes]]<$I$5),"M",IF(AND(Participation_Count_Clubs__25[[#This Row],[Total Athletes]]>=$I$5,Participation_Count_Clubs__25[[#This Row],[Total Athletes]]<=$I$6),"L")))) -> S
A13: Taekwon-Do ITF Nimes | B13: ITF Nimes | C13: 0 | D13: 3 | E13: 2 | F13: =IF(AND(Participation_Count_Clubs__25[[#This Row],[Total Athletes]]>=$I$2,Participation_Count_Clubs__25[[#This Row],[Total Athletes]]<$I$3),"XS",IF(AND(Participation_Count_Clubs__25[[#This Row],[Total Athletes]]>=$I$3,Participation_Count_Clubs__25[[#This Row],[Total Athletes]]<$I$4),"S",IF(AND(Participation_Count_Clubs__25[[#This Row],[Total Athletes]]>=$I$4,Participation_Count_Clubs__25[[#This Row],[Total Athletes]]<$I$5),"M",IF(AND(Participation_Count_Clubs__25[[#This Row],[Total Athletes]]>=$I$5,Participation_Count_Clubs__25[[#This Row],[Total Athletes]]<=$I$6),"L")))) -> S
A14: Taekwon-Do Excel | B14: TKD Excel | C14: 0 | D14: 4 | E14: 2 | F14: =IF(AND(Participation_Count_Clubs__25[[#This Row],[Total Athletes]]>=$I$2,Participation_Count_Clubs__25[[#This Row],[Total Athletes]]<$I$3),"XS",IF(AND(Participation_Count_Clubs__25[[#This Row],[Total Athletes]]>=$I$3,Participation_Count_Clubs__25[[#This Row],[Total Athletes]]<$I$4),"S",IF(AND(Participation_Count_Clubs__25[[#This Row],[Total Athletes]]>=$I$4,Participation_Count_Clubs__25[[#This Row],[Total Athletes]]<$I$5),"M",IF(AND(Participation_Count_Clubs__25[[#This Row],[Total Athletes]]>=$I$5,Participation_Count_Clubs__25[[#This Row],[Total Athletes]]<=$I$6),"L")))) -> S
A15: TKD SPIRIT ASSOCIATION | B15: SPIRIT | C15: 0 | D15: 2 | E15: 2 | F15: =IF(AND(Participation_Count_Clubs__25[[#This Row],[Total Athletes]]>=$I$2,Participation_Count_Clubs__25[[#This Row],[Total Athletes]]<$I$3),"XS",IF(AND(Participation_Count_Clubs__25[[#This Row],[Total Athletes]]>=$I$3,Participation_Count_Clubs__25[[#This Row],[Total Athletes]]<$I$4),"S",IF(AND(Participation_Count_Clubs__25[[#This Row],[Total Athletes]]>=$I$4,Participation_Count_Clubs__25[[#This Row],[Total Athletes]]<$I$5),"M",IF(AND(Participation_Count_Clubs__25[[#This Row],[Total Athletes]]>=$I$5,Participation_Count_Clubs__25[[#This Row],[Total Athletes]]<=$I$6),"L")))) -> S
A16: Trondheim Taekwon-Do Klubb | B16: Trondheim TKD | C16: 3 | D16: 3 | E16: 2 | F16: =IF(AND(Participation_Count_Clubs__25[[#This Row],[Total Athletes]]>=$I$2,Participation_Count_Clubs__25[[#This Row],[Total Athletes]]<$I$3),"XS",IF(AND(Participation_Count_Clubs__25[[#This Row],[Total Athletes]]>=$I$3,Participation_Count_Clubs__25[[#This Row],[Total Athletes]]<$I$4),"S",IF(AND(Participation_Count_Clubs__25[[#This Row],[Total Athletes]]>=$I$4,Participation_Count_Clubs__25[[#This Row],[Total Athletes]]<$I$5),"M",IF(AND(Participation_Count_Clubs__25[[#This Row],[Total Athletes]]>=$I$5,Participation_Count_Clubs__25[[#This Row],[Total Athletes]]<=$I$6),"L")))) -> S
A17: Værnes NTN Taekwon-Do klubb | B17: Værnes TkD | C17: 1 | D17: 3 | E17: 2 | F17: =IF(AND(Participation_Count_Clubs__25[[#This Row],[Total Athletes]]>=$I$2,Participation_Count_Clubs__25[[#This Row],[Total Athletes]]<$I$3),"XS",IF(AND(Participation_Count_Clubs__25[[#This Row],[Total Athletes]]>=$I$3,Participation_Count_Clubs__25[[#This Row],[Total Athletes]]<$I$4),"S",IF(AND(Participation_Count_Clubs__25[[#This Row],[Total Athletes]]>=$I$4,Participation_Count_Clubs__25[[#This Row],[Total Athletes]]<$I$5),"M",IF(AND(Participation_Count_Clubs__25[[#This Row],[Total Athletes]]>=$I$5,Participation_Count_Clubs__25[[#This Row],[Total Athletes]]<=$I$6),"L")))) -> S
A18: IMPACT | B18: TT | C18: 8 | D18: 2 | E18: 3 | F18: =IF(AND(Participation_Count_Clubs__25[[#This Row],[Total Athletes]]>=$I$2,Participation_Count_Clubs__25[[#This Row],[Total Athletes]]<$I$3),"XS",IF(AND(Participation_Count_Clubs__25[[#This Row],[Total Athletes]]>=$I$3,Participation_Count_Clubs__25[[#This Row],[Total Athletes]]<$I$4),"S",IF(AND(Participation_Count_Clubs__25[[#This Row],[Total Athletes]]>=$I$4,Participation_Count_Clubs__25[[#This Row],[Total Athletes]]<$I$5),"M",IF(AND(Participation_Count_Clubs__25[[#This Row],[Total Athletes]]>=$I$5,Participation_Count_Clubs__25[[#This Row],[Total Athletes]]<=$I$6),"L")))) -> S
... A26: Christiania NTN Taekwon-Do Norway | B26: CTKD | C26: 4 | D26: 8 | E26: 4 | F26: =IF(AND(Participation_Count_Clubs__25[[#This Row],[Total Athletes]]>=$I$2,Participation_Count_Clubs__25[[#This Row],[Total Athletes]]<$I$3),"XS",IF(AND(Participation_Count_Clubs__25[[#This Row],[Total Athletes]]>=$I$3,Participation_Count_Clubs__25[[#This Row],[Total Athletes]]<$I$4),"S",IF(AND(Participation_Count_Clubs__25[[#This Row],[Total Athletes]]>=$I$4,Participation_Count_Clubs__25[[#This Row],[Total Athletes]]<$I$5),"M",IF(AND(Participation_Count_Clubs__25[[#This Row],[Total Athletes]]>=$I$5,Participation_Count_Clubs__25[[#This Row],[Total Athletes]]<=$I$6),"L")))) -> S
A27: SLOVENIA TEAM | B27: 0 | C27: 1 | D27: 4 | E27: 4 | F27: =IF(AND(Participation_Count_Clubs__25[[#This Row],[Total Athletes]]>=$I$2,Participation_Count_Clubs__25[[#This Row],[Total Athletes]]<$I$3),"XS",IF(AND(Participation_Count_Clubs__25[[#This Row],[Total Athletes]]>=$I$3,Participation_Count_Clubs__25[[#This Row],[Total Athletes]]<$I$4),"S",IF(AND(Participation_Count_Clubs__25[[#This Row],[Total Athletes]]>=$I$4,Participation_Count_Clubs__25[[#This Row],[Total Athletes]]<$I$5),"M",IF(AND(Participation_Count_Clubs__25[[#This Row],[Total Athletes]]>=$I$5,Participation_Count_Clubs__25[[#This Row],[Total Athletes]]<=$I$6),"L")))) -> S
A28: ITF Paris | B28: ITF Paris | C28: 3 | D28: 4 | E28: 5 | F28: =IF(AND(Participation_Count_Clubs__25[[#This Row],[Total Athletes]]>=$I$2,Participation_Count_Clubs__25[[#This Row],[Total Athletes]]<$I$3),"XS",IF(AND(Participation_Count_Clubs__25[[#This Row],[Total Athletes]]>=$I$3,Participation_Count_Clubs__25[[#This Row],[Total Athletes]]<$I$4),"S",IF(AND(Participation_Count_Clubs__25[[#This Row],[Total Athletes]]>=$I$4,Participation_Count_Clubs__25[[#This Row],[Total Athletes]]<$I$5),"M",IF(AND(Participation_Count_Clubs__25[[#This Row],[Total Athletes]]>=$I$5,Participation_Count_Clubs__25[[#This Row],[Total Athletes]]<=$I$6),"L")))) -> M
A29: GMS Martial arts | B29: GMSMA | C29: 0 | D29: 13 | E29: 5 | F29: =IF(AND(Participation_Count_Clubs__25[[#This Row],[Total Athletes]]>=$I$2,Participation_Count_Clubs__25[[#This Row],[Total Athletes]]<$I$3),"XS",IF(AND(Participation_Count_Clubs__25[[#This Row],[Total Athletes]]>=$I$3,Participation_Count_Clubs__25[[#This Row],[Total Athletes]]<$I$4),"S",IF(AND(Participation_Count_Clubs__25[[#This Row],[Total Athletes]]>=$I$4,Participation_Count_Clubs__25[[#This Row],[Total Athletes]]<$I$5),"M",IF(AND(Participation_Count_Clubs__25[[#This Row],[Total Athletes]]>=$I$5,Participation_Count_Clubs__25[[#This Row],[Total Athletes]]<=$I$6),"L")))) -> M
A30: TOTAL TKD | B30: TTKD[4] | C30: 2 | D30: 8 | E30: 5 | F30: =IF(AND(Participation_Count_Clubs__25[[#This Row],[Total Athletes]]>=$I$2,Participation_Count_Clubs__25[[#This Row],[Total Athletes]]<$I$3),"XS",IF(AND(Participation_Count_Clubs__25[[#This Row],[Total Athletes]]>=$I$3,Participation_Count_Clubs__25[[#This Row],[Total Athletes]]<$I$4),"S",IF(AND(Participation_Count_Clubs__25[[#This Row],[Total Athletes]]>=$I$4,Participation_Count_Clubs__25[[#This Row],[Total Athletes]]<$I$5),"M",IF(AND(Participation_Count_Clubs__25[[#This Row],[Total Athletes]]>=$I$5,Participation_Count_Clubs__25[[#This Row],[Total Athletes]]<=$I$6),"L")))) -> M
A31: Sportschule Monheim | B31: SpoMo | C31: 5 | D31: 7 | E31: 5 | F31: =IF(AND(Participation_Count_Clubs__25[[#This Row],[Total Athletes]]>=$I$2,Participation_Count_Clubs__25[[#This Row],[Total Athletes]]<$I$3),"XS",IF(AND(Participation_Count_Clubs__25[[#This Row],[Total Athletes]]>=$I$3,Participation_Count_Clubs__25[[#This Row],[Total Athletes]]<$I$4),"S",IF(AND(Participation_Count_Clubs__25[[#This Row],[Total Athletes]]>=$I$4,Participation_Count_Clubs__25[[#This Row],[Total Athletes]]<$I$5),"M",IF(AND(Participation_Count_Clubs__25[[#This Row],[Total Athletes]]>=$I$5,Participation_Count_Clubs__25[[#This Row],[Total Athletes]]<=$I$6),"L")))) -> M
A32: Braveheart Martial Arts | B32: Braveheart Martial Arts | C32: 4 | D32: 8 | E32: 5 | F32: =IF(AND(Participation_Count_Clubs__25[[#This Row],[Total Athletes]]>=$I$2,Participation_Count_Clubs__25[[#This Row],[Total Athletes]]<$I$3),"XS",IF(AND(Participation_Count_Clubs__25[[#This Row],[Total Athletes]]>=$I$3,Participation_Count_Clubs__25[[#This Row],[Total Athletes]]<$I$4),"S",IF(AND(Participation_Count_Clubs__25[[#This Row],[Total Athletes]]>=$I$4,Participation_Count_Clubs__25[[#This Row],[Total Athletes]]<$I$5),"M",IF(AND(Participation_Count_Clubs__25[[#This Row],[Total Athletes]]>=$I$5,Participation_Count_Clubs__25[[#This Row],[Total Athletes]]<=$I$6),"L")))) -> M
A33: Hyong Celje | B33: Hyong | C33: 10 | D33: 2 | E33: 5 | F33: =IF(AND(Participation_Count_Clubs__25[[#This Row],[Total Athletes]]>=$I$2,Participation_Count_Clubs__25[[#This Row],[Total Athletes]]<$I$3),"XS",IF(AND(Participation_Count_Clubs__25[[#This Row],[Total Athletes]]>=$I$3,Participation_Count_Clubs__25[[#This Row],[Total Athletes]]<$I$4),"S",IF(AND(Participation_Count_Clubs__25[[#This Row],[Total Athletes]]>=$I$4,Participation_Count_Clubs__25[[#This Row],[Total Athletes]]<$I$5),"M",IF(AND(Participation_Count_Clubs__25[[#This Row],[Total Athletes]]>=$I$5,Participation_Count_Clubs__25[[#This Row],[Total Athletes]]<=$I$6),"L")))) -> M
A34: Taekwondo vereniging Taekyon Houten | B34: Taekyon Houten | C34: 0 | D34: 12 | E34: 6 | F34: =IF(AND(Participation_Count_Clubs__25[[#This Row],[Total Athletes]]>=$I$2,Participation_Count_Clubs__25[[#This Row],[Total Athletes]]<$I$3),"XS",IF(AND(Participation_Count_Clubs__25[[#This Row],[Total Athletes]]>=$I$3,Participation_Count_Clubs__25[[#This Row],[Total Athletes]]<$I$4),"S",IF(AND(Participation_Count_Clubs__25[[#This Row],[Total Athletes]]>=$I$4,Participation_Count_Clubs__25[[#This Row],[Total Athletes]]<$I$5),"M",IF(AND(Participation_Count_Clubs__25[[#This Row],[Total Athletes]]>=$I$5,Participation_Count_Clubs__25[[#This Row],[Total Athletes]]<=$I$6),"L")))) -> M
A35: Enngland Taekwon-Do Association | B35: ETA | C35: 4 | D35: 13 | E35: 7 | F35: =IF(AND(Participation_Count_Clubs__25[[#This Row],[Total Athletes]]>=$I$2,Participation_Count_Clubs__25[[#This Row],[Total Athletes]]<$I$3),"XS",IF(AND(Participation_Count_Clubs__25[[#This Row],[Total Athletes]]>=$I$3,Participation_Count_Clubs__25[[#This Row],[Total Athletes]]<$I$4),"S",IF(AND(Participation_Count_Clubs__25[[#This Row],[Total Athletes]]>=$I$4,Participation_Count_Clubs__25[[#This Row],[Total Athletes]]<$I$5),"M",IF(AND(Participation_Count_Clubs__25[[#This Row],[Total Athletes]]>=$I$5,Participation_Count_Clubs__25[[#This Row],[Total Athletes]]<=$I$6),"L")))) -> M
A36: Tan Gun Sports e.V. | B36: Tan Gun | C36: 2 | D36: 5 | E36: 7 | F36: =IF(AND(Participation_Count_Clubs__25[[#This Row],[Total Athletes]]>=$I$2,Participation_Count_Clubs__25[[#This Row],[Total Athletes]]<$I$3),"XS",IF(AND(Participation_Count_Clubs__25[[#This Row],[Total Athletes]]>=$I$3,Participation_Count_Clubs__25[[#This Row],[Total Athletes]]<$I$4),"S",IF(AND(Participation_Count_Clubs__25[[#This Row],[Total Athletes]]>=$I$4,Participation_Count_Clubs__25[[#This Row],[Total Athletes]]<$I$5),"M",IF(AND(Participation_Count_Clubs__25[[#This Row],[Total Athletes]]>=$I$5,Participation_Count_Clubs__25[[#This Row],[Total Athletes]]<=$I$6),"L")))) -> M
A37: Chong Do Kwan | B37: CDK | C37: 10 | D37: 10 | E37: 7 | F37: =IF(AND(Participation_Count_Clubs__25[[#This Row],[Total Athletes]]>=$I$2,Participation_Count_Clubs__25[[#This Row],[Total Athletes]]<$I$3),"XS",IF(AND(Participation_Count_Clubs__25[[#This Row],[Total Athletes]]>=$I$3,Participation_Count_Clubs__25[[#This Row],[Total Athletes]]<$I$4),"S",IF(AND(Participation_Count_Clubs__25[[#This Row],[Total Athletes]]>=$I$4,Participation_Count_Clubs__25[[#This Row],[Total Athletes]]<$I$5),"M",IF(AND(Participation_Count_Clubs__25[[#This Row],[Total Athletes]]>=$I$5,Participation_Count_Clubs__25[[#This Row],[Total Athletes]]<=$I$6),"L")))) -> M
A38: Difesa Sports | B38: Difesa Sports | C38: 7 | D38: 9 | E38: 8 | F38: =IF(AND(Participation_Count_Clubs__25[[#This Row],[Total Athletes]]>=$I$2,Participation_Count_Clubs__25[[#This Row],[Total Athletes]]<$I$3),"XS",IF(AND(Participation_Count_Clubs__25[[#This Row],[Total Athletes]]>=$I$3,Participation_Count_Clubs__25[[#This Row],[Total Athletes]]<$I$4),"S",IF(AND(Participation_Count_Clubs__25[[#This Row],[Total Athletes]]>=$I$4,Participation_Count_Clubs__25[[#This Row],[Total Athletes]]<$I$5),"M",IF(AND(Participation_Count_Clubs__25[[#This Row],[Total Athletes]]>=$I$5,Participation_Count_Clubs__25[[#This Row],[Total Athletes]]<=$I$6),"L")))) -> M
A39: T.A.Nimjae | B39: TA Nimjae | C39: 12 | D39: 12 | E39: 9 | F39: =IF(AND(Participation_Count_Clubs__25[[#This Row],[Total Athletes]]>=$I$2,Participation_Count_Clubs__25[[#This Row],[Total Athletes]]<$I$3),"XS",IF(AND(Participation_Count_Clubs__25[[#This Row],[Total Athletes]]>=$I$3,Participation_Count_Clubs__25[[#This Row],[Total Athletes]]<$I$4),"S",IF(AND(Participation_Count_Clubs__25[[#This Row],[Total Athletes]]>=$I$4,Participation_Count_Clubs__25[[#This Row],[Total Athletes]]<$I$5),"M",IF(AND(Participation_Count_Clubs__25[[#This Row],[Total Athletes]]>=$I$5,Participation_Count_Clubs__25[[#This Row],[Total Athletes]]<=$I$6),"L")))) -> M
... A60: Sportschool Tim Kool | B60: SSTK | C60: 49 | D60: 94 | E60: 70 | F60: =IF(AND(Participation_Count_Clubs__25[[#This Row],[Total Athletes]]>=$I$2,Participation_Count_Clubs__25[[#This Row],[Total Athletes]]<$I$3),"XS",IF(AND(Participation_Count_Clubs__25[[#This Row],[Total Athletes]]>=$I$3,Participation_Count_Clubs__25[[#This Row],[Total Athletes]]<$I$4),"S",IF(AND(Participation_Count_Clubs__25[[#This Row],[Total Athletes]]>=$I$4,Participation_Count_Clubs__25[[#This Row],[Total Athletes]]<$I$5),"M",IF(AND(Participation_Count_Clubs__25[[#This Row],[Total Athletes]]>=$I$5,Participation_Count_Clubs__25[[#This Row],[Total Athletes]]<=$I$6),"L")))) -> L
