Workbook
Name Slicer_Age_Class1: #N/A
Name Slicer_Club_Size_Entries1: #N/A
Name Slicer_Discipline1: #N/A
Name Slicer_Grade_Class1: #N/A
Name Slicer_Individual_Team1: #N/A
Name Slicer_Sex1: #N/A

Sheet Graphics Corrected Medal Stats
A1: Medal Statistics Holland Cup 2018 | ITF Netherlands Master Series
A2: An interactive insight into the medal statistics
A3: Please note: these are corrected medal statistics, i.e. 3rd place medals in a cateogry with 3 competitors and 2nd place medals in a category of 2 competitors have been removed. Use the filters to zoom in on the statistics you are interested in. Selected filters are blue, unselected filters are white. This will instantly affect all four graphs below (1: Golden Medals per Club; 2: Medals per Club; 3: Gold% relative to entries per club; 4: Medal% relative to entries per club) E.g. only large clubs, junior females in patterns from 4th gup up: Club Size Entries "L"; Discipline "Patterns"; Age class "Junior"; Sex "Female"; Grade Class "A+B G04-D06" and "B G04-G01" (use multi-select toggle button, the icon with the list with checkmarks). Hover over the bars in the charts to view the exact values. Clear filters with the filter symbol with the " X". Club sizes are based on 1st to 4th quartiles with respect to the entries per club: XS 1 to 4.5 entries (1-25th percentile); S 4.5 to 12 entries (25-50th percentile); M 12 to 24.5 entries (50-75th percentile); L 24.5 to 143 entries (75-100th).
A14: Filters:
A26: Statistics:

Sheet Corrected Medal Statistics
B1: Results
A2: Club | B2: 1. Gold | C2: 2. Silver | D2: 3. Bronze | E2: Medals | F2: Entries | G2: Gold% Entries | H2: Medal% Entries
A3: Sportschool Tim Kool | B3: {=SUM(IF('Corrected Results_Entries_Cat'!$A$6:$A$64='Corrected Medal Statistics'!$A3,IF('Corrected Results_Entries_Cat'!$B$5:$RP$5='Corrected Medal Statistics'!B$2,'Corrected Results_Entries_Cat'!$B$6:$RP$64)))} -> 9 | C3: {=SUM(IF('Corrected Results_Entries_Cat'!$A$6:$A$64='Corrected Medal Statistics'!$A3,IF('Corrected Results_Entries_Cat'!$B$5:$RP$5='Corrected Medal Statistics'!C$2,'Corrected Results_Entries_Cat'!$B$6:$RP$64)))} -> 9 | D3: {=SUM(IF('Corrected Results_Entries_Cat'!$A$6:$A$64='Corrected Medal Statistics'!$A3,IF('Corrected Results_Entries_Cat'!$B$5:$RP$5='Corrected Medal Statistics'!D$2,'Corrected Results_Entries_Cat'!$B$6:$RP$64)))} -> 9 | E3: =SUM(B3:D3) -> 27 | F3: =INDEX(Results_Entries_Category_Club!$A$9:$NQ$69,MATCH(A3,Results_Entries_Category_Club!$A$9:$A$69,0),MATCH("Eindtotaal",Results_Entries_Category_Club!$A$9:$NQ$9,0)) -> 126 | G3: =B3/F3 -> 0.071428571 | H3: =E3/F3 -> 0.21428571
A4: Kassem Gym | B4: {=SUM(IF('Corrected Results_Entries_Cat'!$A$6:$A$64='Corrected Medal Statistics'!$A4,IF('Corrected Results_Entries_Cat'!$B$5:$RP$5='Corrected Medal Statistics'!B$2,'Corrected Results_Entries_Cat'!$B$6:$RP$64)))} -> 5 | C4: {=SUM(IF('Corrected Results_Entries_Cat'!$A$6:$A$64='Corrected Medal Statistics'!$A4,IF('Corrected Results_Entries_Cat'!$B$5:$RP$5='Corrected Medal Statistics'!C$2,'Corrected Results_Entries_Cat'!$B$6:$RP$64)))} -> 7 | D4: {=SUM(IF('Corrected Results_Entries_Cat'!$A$6:$A$64='Corrected Medal Statistics'!$A4,IF('Corrected Results_Entries_Cat'!$B$5:$RP$5='Corrected Medal Statistics'!D$2,'Corrected Results_Entries_Cat'!$B$6:$RP$64)))} -> 6 | E4: =SUM(B4:D4) -> 18 | F4: =INDEX(Results_Entries_Category_Club!$A$9:$NQ$69,MATCH(A4,Results_Entries_Category_Club!$A$9:$A$69,0),MATCH("Eindtotaal",Results_Entries_Category_Club!$A$9:$NQ$9,0)) -> 31 | G4: =B4/F4 -> 0.16129032 | H4: =E4/F4 -> 0.58064516
A5: Team Carvalho Sports / TS Amsterdam | B5: {=SUM(IF('Corrected Results_Entries_Cat'!$A$6:$A$64='Corrected Medal Statistics'!$A5,IF('Corrected Results_Entries_Cat'!$B$5:$RP$5='Corrected Medal Statistics'!B$2,'Corrected Results_Entries_Cat'!$B$6:$RP$64)))} -> 5 | C5: {=SUM(IF('Corrected Results_Entries_Cat'!$A$6:$A$64='Corrected Medal Statistics'!$A5,IF('Corrected Results_Entries_Cat'!$B$5:$RP$5='Corrected Medal Statistics'!C$2,'Corrected Results_Entries_Cat'!$B$6:$RP$64)))} -> 1 | D5: {=SUM(IF('Corrected Results_Entries_Cat'!$A$6:$A$64='Corrected Medal Statistics'!$A5,IF('Corrected Results_Entries_Cat'!$B$5:$RP$5='Corrected Medal Statistics'!D$2,'Corrected Results_Entries_Cat'!$B$6:$RP$64)))} -> 3 | E5: =SUM(B5:D5) -> 9 | F5: =INDEX(Results_Entries_Category_Club!$A$9:$NQ$69,MATCH(A5,Results_Entries_Category_Club!$A$9:$A$69,0),MATCH("Eindtotaal",Results_Entries_Category_Club!$A$9:$NQ$9,0)) -> 43 | G5: =B5/F5 -> 0.11627907 | H5: =E5/F5 -> 0.20930233
A6: Ohdokwan | B6: {=SUM(IF('Corrected Results_Entries_Cat'!$A$6:$A$64='Corrected Medal Statistics'!$A6,IF('Corrected Results_Entries_Cat'!$B$5:$RP$5='Corrected Medal Statistics'!B$2,'Corrected Results_Entries_Cat'!$B$6:$RP$64)))} -> 3 | C6: {=SUM(IF('Corrected Results_Entries_Cat'!$A$6:$A$64='Corrected Medal Statistics'!$A6,IF('Corrected Results_Entries_Cat'!$B$5:$RP$5='Corrected Medal Statistics'!C$2,'Corrected Results_Entries_Cat'!$B$6:$RP$64)))} -> 3 | D6: {=SUM(IF('Corrected Results_Entries_Cat'!$A$6:$A$64='Corrected Medal Statistics'!$A6,IF('Corrected Results_Entries_Cat'!$B$5:$RP$5='Corrected Medal Statistics'!D$2,'Corrected Results_Entries_Cat'!$B$6:$RP$64)))} -> 4 | E6: =SUM(B6:D6) -> 10 | F6: =INDEX(Results_Entries_Category_Club!$A$9:$NQ$69,MATCH(A6,Results_Entries_Category_Club!$A$9:$A$69,0),MATCH("Eindtotaal",Results_Entries_Category_Club!$A$9:$NQ$9,0)) -> 32 | G6: =B6/F6 -> 0.09375 | H6: =E6/F6 -> 0.3125
A7: Taekwon-Do Team Vrijsen | B7: {=SUM(IF('Corrected Results_Entries_Cat'!$A$6:$A$64='Corrected Medal Statistics'!$A7,IF('Corrected Results_Entries_Cat'!$B$5:$RP$5='Corrected Medal Statistics'!B$2,'Corrected Results_Entries_Cat'!$B$6:$RP$64)))} -> 5 | C7: {=SUM(IF('Corrected Results_Entries_Cat'!$A$6:$A$64='Corrected Medal Statistics'!$A7,IF('Corrected Results_Entries_Cat'!$B$5:$RP$5='Corrected Medal Statistics'!C$2,'Corrected Results_Entries_Cat'!$B$6:$RP$64)))} -> 4 | D7: {=SUM(IF('Corrected Results_Entries_Cat'!$A$6:$A$64='Corrected Medal Statistics'!$A7,IF('Corrected Results_Entries_Cat'!$B$5:$RP$5='Corrected Medal Statistics'!D$2,'Corrected Results_Entries_Cat'!$B$6:$RP$64)))} -> 4 | E7: =SUM(B7:D7) -> 13 | F7: =INDEX(Results_Entries_Category_Club!$A$9:$NQ$69,MATCH(A7,Results_Entries_Category_Club!$A$9:$A$69,0),MATCH("Eindtotaal",Results_Entries_Category_Club!$A$9:$NQ$9,0)) -> 31 | G7: =B7/F7 -> 0.16129032 | H7: =E7/F7 -> 0.41935484
A8: Koguryo | B8: {=SUM(IF('Corrected Results_Entries_Cat'!$A$6:$A$64='Corrected Medal Statistics'!$A8,IF('Corrected Results_Entries_Cat'!$B$5:$RP$5='Corrected Medal Statistics'!B$2,'Corrected Results_Entries_Cat'!$B$6:$RP$64)))} -> 5 | C8: {=SUM(IF('Corrected Results_Entries_Cat'!$A$6:$A$64='Corrected Medal Statistics'!$A8,IF('Corrected Results_Entries_Cat'!$B$5:$RP$5='Corrected Medal Statistics'!C$2,'Corrected Results_Entries_Cat'!$B$6:$RP$64)))} -> 6 | D8: {=SUM(IF('Corrected Results_Entries_Cat'!$A$6:$A$64='Corrected Medal Statistics'!$A8,IF('Corrected Results_Entries_Cat'!$B$5:$RP$5='Corrected Medal Statistics'!D$2,'Corrected Results_Entries_Cat'!$B$6:$RP$64)))} -> 0 | E8: =SUM(B8:D8) -> 11 | F8: =INDEX(Results_Entries_Category_Club!$A$9:$NQ$69,MATCH(A8,Results_Entries_Category_Club!$A$9:$A$69,0),MATCH("Eindtotaal",Results_Entries_Category_Club!$A$9:$NQ$9,0)) -> 28 | G8: =B8/F8 -> 0.17857143 | H8: =E8/F8 -> 0.39285714
A9: Taekwon-Do Academy Graziella Idili | B9: {=SUM(IF('Corrected Results_Entries_Cat'!$A$6:$A$64='Corrected Medal Statistics'!$A9,IF('Corrected Results_Entries_Cat'!$B$5:$RP$5='Corrected Medal Statistics'!B$2,'Corrected Results_Entries_Cat'!$B$6:$RP$64)))} -> 1 | C9: {=SUM(IF('Corrected Results_Entries_Cat'!$A$6:$A$64='Corrected Medal Statistics'!$A9,IF('Corrected Results_Entries_Cat'!$B$5:$RP$5='Corrected Medal Statistics'!C$2,'Corrected Results_Entries_Cat'!$B$6:$RP$64)))} -> 6 | D9: {=SUM(IF('Corrected Results_Entries_Cat'!$A$6:$A$64='Corrected Medal Statistics'!$A9,IF('Corrected Results_Entries_Cat'!$B$5:$RP$5='Corrected Medal Statistics'!D$2,'Corrected Results_Entries_Cat'!$B$6:$RP$64)))} -> 2 | E9: =SUM(B9:D9) -> 9 | F9: =INDEX(Results_Entries_Category_Club!$A$9:$NQ$69,MATCH(A9,Results_Entries_Category_Club!$A$9:$A$69,0),MATCH("Eindtotaal",Results_Entries_Category_Club!$A$9:$NQ$9,0)) -> 25 | G9: =B9/F9 -> 0.04 | H9: =E9/F9 -> 0.36
A10: PUMA England | B10: {=SUM(IF('Corrected Results_Entries_Cat'!$A$6:$A$64='Corrected Medal Statistics'!$A10,IF('Corrected Results_Entries_Cat'!$B$5:$RP$5='Corrected Medal Statistics'!B$2,'Corrected Results_Entries_Cat'!$B$6:$RP$64)))} -> 8 | C10: {=SUM(IF('Corrected Results_Entries_Cat'!$A$6:$A$64='Corrected Medal Statistics'!$A10,IF('Corrected Results_Entries_Cat'!$B$5:$RP$5='Corrected Medal Statistics'!C$2,'Corrected Results_Entries_Cat'!$B$6:$RP$64)))} -> 1 | D10: {=SUM(IF('Corrected Results_Entries_Cat'!$A$6:$A$64='Corrected Medal Statistics'!$A10,IF('Corrected Results_Entries_Cat'!$B$5:$RP$5='Corrected Medal Statistics'!D$2,'Corrected Results_Entries_Cat'!$B$6:$RP$64)))} -> 4 | E10: =SUM(B10:D10) -> 13 | F10: =INDEX(Results_Entries_Category_Club!$A$9:$NQ$69,MATCH(A10,Results_Entries_Category_Club!$A$9:$A$69,0),MATCH("Eindtotaal",Results_Entries_Category_Club!$A$9:$NQ$9,0)) -> 28 | G10: =B10/F10 -> 0.28571429 | H10: =E10/F10 -> 0.46428571
A11: Soo Bak-Gi | B11: {=SUM(IF('Corrected Results_Entries_Cat'!$A$6:$A$64='Corrected Medal Statistics'!$A11,IF('Corrected Results_Entries_Cat'!$B$5:$RP$5='Corrected Medal Statistics'!B$2,'Corrected Results_Entries_Cat'!$B$6:$RP$64)))} -> 2 | C11: {=SUM(IF('Corrected Results_Entries_Cat'!$A$6:$A$64='Corrected Medal Statistics'!$A11,IF('Corrected Results_Entries_Cat'!$B$5:$RP$5='Corrected Medal Statistics'!C$2,'Corrected Results_Entries_Cat'!$B$6:$RP$64)))} -> 1 | D11: {=SUM(IF('Corrected Results_Entries_Cat'!$A$6:$A$64='Corrected Medal Statistics'!$A11,IF('Corrected Results_Entries_Cat'!$B$5:$RP$5='Corrected Medal Statistics'!D$2,'Corrected Results_Entries_Cat'!$B$6:$RP$64)))} -> 3 | E11: =SUM(B11:D11) -> 6 | F11: =INDEX(Results_Entries_Category_Club!$A$9:$NQ$69,MATCH(A11,Results_Entries_Category_Club!$A$9:$A$69,0),MATCH("Eindtotaal",Results_Entries_Category_Club!$A$9:$NQ$9,0)) -> 24 | G11: =B11/F11 -> 0.083333333 | H11: =E11/F11 -> 0.25
A12: Taekwon-Do Vereniging Hwa Rangdo - Zeewolde | B12: {=SUM(IF('Corrected Results_Entries_Cat'!$A$6:$A$64='Corrected Medal Statistics'!$A12,IF('Corrected Results_Entries_Cat'!$B$5:$RP$5='Corrected Medal Statistics'!B$2,'Corrected Results_Entries_Cat'!$B$6:$RP$64)))} -> 0 | C12: {=SUM(IF('Corrected Results_Entries_Cat'!$A$6:$A$64='Corrected Medal Statistics'!$A12,IF('Corrected Results_Entries_Cat'!$B$5:$RP$5='Corrected Medal Statistics'!C$2,'Corrected Results_Entries_Cat'!$B$6:$RP$64)))} -> 1 | D12: {=SUM(IF('Corrected Results_Entries_Cat'!$A$6:$A$64='Corrected Medal Statistics'!$A12,IF('Corrected Results_Entries_Cat'!$B$5:$RP$5='Corrected Medal Statistics'!D$2,'Corrected Results_Entries_Cat'!$B$6:$RP$64)))} -> 1 | E12: =SUM(B12:D12) -> 2 | F12: =INDEX(Results_Entries_Category_Club!$A$9:$NQ$69,MATCH(A12,Results_Entries_Category_Club!$A$9:$A$69,0),MATCH("Eindtotaal",Results_Entries_Category_Club!$A$9:$NQ$9,0)) -> 21 | G12: =B12/F12 -> 0 | H12: =E12/F12 -> 0.095238095
A13: Taekwon-do Den Hoorn | B13: {=SUM(IF('Corrected Results_Entries_Cat'!$A$6:$A$64='Corrected Medal Statistics'!$A13,IF('Corrected Results_Entries_Cat'!$B$5:$RP$5='Corrected Medal Statistics'!B$2,'Corrected Results_Entries_Cat'!$B$6:$RP$64)))} -> 1 | C13: {=SUM(IF('Corrected Results_Entries_Cat'!$A$6:$A$64='Corrected Medal Statistics'!$A13,IF('Corrected Results_Entries_Cat'!$B$5:$RP$5='Corrected Medal Statistics'!C$2,'Corrected Results_Entries_Cat'!$B$6:$RP$64)))} -> 1 | D13: {=SUM(IF('Corrected Results_Entries_Cat'!$A$6:$A$64='Corrected Medal Statistics'!$A13,IF('Corrected Results_Entries_Cat'!$B$5:$RP$5='Corrected Medal Statistics'!D$2,'Corrected Results_Entries_Cat'!$B$6:$RP$64)))} -> 2 | E13: =SUM(B13:D13) -> 4 | F13: =INDEX(Results_Entries_Category_Club!$A$9:$NQ$69,MATCH(A13,Results_Entries_Category_Club!$A$9:$A$69,0),MATCH("Eindtotaal",Results_Entries_Category_Club!$A$9:$NQ$9,0)) -> 36 | G13: =B13/F13 -> 0.027777778 | H13: =E13/F13 -> 0.11111111
A14: Taekwondo Martial Arts Center Delft | B14: {=SUM(IF('Corrected Results_Entries_Cat'!$A$6:$A$64='Corrected Medal Statistics'!$A14,IF('Corrected Results_Entries_Cat'!$B$5:$RP$5='Corrected Medal Statistics'!B$2,'Corrected Results_Entries_Cat'!$B$6:$RP$64)))} -> 2 | C14: {=SUM(IF('Corrected Results_Entries_Cat'!$A$6:$A$64='Corrected Medal Statistics'!$A14,IF('Corrected Results_Entries_Cat'!$B$5:$RP$5='Corrected Medal Statistics'!C$2,'Corrected Results_Entries_Cat'!$B$6:$RP$64)))} -> 1 | D14: {=SUM(IF('Corrected Results_Entries_Cat'!$A$6:$A$64='Corrected Medal Statistics'!$A14,IF('Corrected Results_Entries_Cat'!$B$5:$RP$5='Corrected Medal Statistics'!D$2,'Corrected Results_Entries_Cat'!$B$6:$RP$64)))} -> 0 | E14: =SUM(B14:D14) -> 3 | F14: =INDEX(Results_Entries_Category_Club!$A$9:$NQ$69,MATCH(A14,Results_Entries_Category_Club!$A$9:$A$69,0),MATCH("Eindtotaal",Results_Entries_Category_Club!$A$9:$NQ$9,0)) -> 18 | G14: =B14/F14 -> 0.11111111 | H14: =E14/F14 -> 0.16666667
... A61: Just For Kicks | B61: {=SUM(IF('Corrected Results_Entries_Cat'!$A$6:$A$64='Corrected Medal Statistics'!$A61,IF('Corrected Results_Entries_Cat'!$B$5:$RP$5='Corrected Medal Statistics'!B$2,'Corrected Results_Entries_Cat'!$B$6:$RP$64)))} -> 0 | C61: {=SUM(IF('Corrected Results_Entries_Cat'!$A$6:$A$64='Corrected Medal Statistics'!$A61,IF('Corrected Results_Entries_Cat'!$B$5:$RP$5='Corrected Medal Statistics'!C$2,'Corrected Results_Entries_Cat'!$B$6:$RP$64)))} -> 1 | D61: {=SUM(IF('Corrected Results_Entries_Cat'!$A$6:$A$64='Corrected Medal Statistics'!$A61,IF('Corrected Results_Entries_Cat'!$B$5:$RP$5='Corrected Medal Statistics'!D$2,'Corrected Results_Entries_Cat'!$B$6:$RP$64)))} -> 0 | E61: =SUM(B61:D61) -> 1 | F61: =INDEX(Results_Entries_Category_Club!$A$9:$NQ$69,MATCH(A61,Results_Entries_Category_Club!$A$9:$A$69,0),MATCH("Eindtotaal",Results_Entries_Category_Club!$A$9:$NQ$9,0)) -> 1 | G61: =B61/F61 -> 0 | H61: =E61/F61 -> 1

Sheet Corrected Results_Entries_Cat
A3: Aantal van Corrected Result | B3: Kolomlabels
B4: 01001 Tul Youth 6-13 F A D01 | D4: Totaal 01001 Tul Youth 6-13 F A D01 | E4: 01002 Tul Youth 6-13 F B G04-G01 | I4: Totaal 01002 Tul Youth 6-13 F B G04-G01 | J4: 01003a Tul Youth 6-13 F C G06-G05 | N4: Totaal 01003a Tul Youth 6-13 F C G06-G05 | O4: 01003b Tul Youth 6-13 F C G07 | S4: Totaal 01003b Tul Youth 6-13 F C G07 | T4: 01004 Tul Youth 6-13 F C G10-G08 | X4: Totaal 01004 Tul Youth 6-13 F C G10-G08 | Y4: 01006 Tul Youth 6-13 M A D01 | AC4: Totaal 01006 Tul Youth 6-13 M A D01 | AD4: 01007a Tul Youth 6-13 M B G02-G01 | AH4: Totaal 01007a Tul Youth 6-13 M B G02-G01 | AI4: 01007b Tul Youth 6-13 M B G04-G03 | AM4: Totaal 01007b Tul Youth 6-13 M B G04-G03 | AN4: 01008a Tul Youth 6-13 M C G06-G05 | AR4: Totaal 01008a Tul Youth 6-13 M C G06-G05 | AS4: 01008b Tul Youth 6-13 M C G07 | AW4: Totaal 01008b Tul Youth 6-13 M C G07 | AX4: 01009 Tul Youth 6-13 M C G10-G08 | BB4: Totaal 01009 Tul Youth 6-13 M C G10-G08 | BC4: 01011 S Tul Junior 14-17 F/M A D02 | BG4: Totaal 01011 S Tul Junior 14-17 F/M A D02 | BH4: 01012 Tul Junior 14-17 F A D01 | BL4: Totaal 01012 Tul Junior 14-17 F A D01 | BM4: 01013 Tul Junior 14-17 F B G04-G01 | BQ4: Totaal 01013 Tul Junior 14-17 F B G04-G01 | BR4: 01014 Tul Junior 14-17 F C G07-G05 | BV4: Totaal 01014 Tul Junior 14-17 F C G07-G05 | BW4: 01018 Tul Junior 14-17 M A D01 | CA4: Totaal 01018 Tul Junior 14-17 M A D01 | CB4: 01019 Tul Junior 14-17 M B G04-G01 | CF4: Totaal 01019 Tul Junior 14-17 M B G04-G01 | CG4: 01020 Tul Junior 14-17 M C G07-G05 | CK4: Totaal 01020 Tul Junior 14-17 M C G07-G05 | CL4: 01021 Tul Junior 14-17 M C G10-G08 | CN4: Totaal 01021 Tul Junior 14-17 M C G10-G08 | CO4: 01022 Tul Senior-Veteran 18+ F A D04-D06 | CS4: Totaal 01022 Tul Senior-Veteran 18+ F A D04-D06 | CT4: 01023 Tul Senior-Veteran 18+ F A D03 | CW4: Totaal 01023 Tul Senior-Veteran 18+ F A D03 | CX4: 01024 Tul Senior-Veteran 18+ F A D02 | DB4: Totaal 01024 Tul Senior-Veteran 18+ F A D02 | DC4: 01025 Tul Senior-Veteran 18+ F A D01 | DG4: Totaal 01025 Tul Senior-Veteran 18+ F A D01 | DH4: 01026 Tul Senior-Veteran 18+ F B G04-G01 | DL4: Totaal 01026 Tul Senior-Veteran 18+ F B G04-G01 | DM4: 01027 Tul Senior-Veteran 18+ F C G07-G05 | DQ4: Totaal 01027 Tul Senior-Veteran 18+ F C G07-G05 | DR4: 01028 Tul Senior-Veteran 18+ F C G10-G08 | DU4: Totaal 01028 Tul Senior-Veteran 18+ F C G10-G08 | DV4: 01029 Tul Senior-Veteran 18+ M A D04-D06 | DZ4: Totaal 01029 Tul Senior-Veteran 18+ M A D04-D06 | EA4: 01030 Tul Senior-Veteran 18+ M A D03 | EE4: Totaal 01030 Tul Senior-Veteran 18+ M A D03 | EF4: 01031 Tul Senior-Veteran 18+ M A D02 | EJ4: Totaal 01031 Tul Senior-Veteran 18+ M A D02 | EK4: 01032 Tul Senior-Veteran 18+ M A D01 | EO4: Totaal 01032 Tul Senior-Veteran 18+ M A D01 | EP4: 01033 Tul Senior-Veteran 18+ M B G04-G01 | ET4: Totaal 01033 Tul Senior-Veteran 18+ M B G04-G01 | EU4: 01034 Tul Senior-Veteran 18+ M C G07-G05 | EY4: Totaal 01034 Tul Senior-Veteran 18+ M C G07-G05 | EZ4: 01035 Tul Senior-Veteran 18+ M C G10-G08 | FD4: Totaal 01035 Tul Senior-Veteran 18+ M C G10-G08 | FE4: 02000 Team Tul Junior-Senior-Veteran 14+ F+M A+B G04-D06 | FI4: Totaal 02000 Team Tul Junior-Senior-Veteran 14+ F+M A+B G04-D06 | FJ4: 03000 Pre-Arranged Junior-Senior-Veteran 14+ F+M A+B G04-D06 | FM4: Totaal 03000 Pre-Arranged Junior-Senior-Veteran 14+ F+M A+B G04-D06 | FN4: 04000 Chon-Ji Challenge Youth 6-13 F+M C G10-G05 | FQ4: Totaal 04000 Chon-Ji Challenge Youth 6-13 F+M C G10-G05 | FR4: 04001 Chon-Ji Challenge Junior-Senior 14+ F+M C G10-G05 | FU4: Totaal 04001 Chon-Ji Challenge Junior-Senior 14+ F+M C G10-G05 | FV4: 05002 S Sparring Youth 6-13 F A/B G04-D03 -150 cm | FZ4: Totaal 05002 S Sparring Youth 6-13 F A/B G04-D03 -150 cm | GA4: 05003 S Sparring Youth 6-13 F A/B G04-D03 -160 cm | GE4: Totaal 05003 S Sparring Youth 6-13 F A/B G04-D03 -160 cm | GF4: 05004 Sparring Youth 6-13 F A D01-D03 -170 cm | GJ4: Totaal 05004 Sparring Youth 6-13 F A D01-D03 -170 cm | GK4: 05006 Sparring Youth 6-13 F B G04-G01 -130 cm | GM4: Totaal 05006 Sparring Youth 6-13 F B G04-G01 -130 cm | GN4: 05007 S Sparring Youth 6-13 F A/B G04-D03 -140 cm | GR4: Totaal 05007 S Sparring Youth 6-13 F A/B G04-D03 -140 cm | GS4: 05010 Sparring Youth 6-13 F B G04-G01 -170 cm | GW4: Totaal 05010 Sparring Youth 6-13 F B G04-G01 -170 cm | GX4: 05012 Sparring Youth 6-13 F C G10-G05 -130 cm | HB4: Totaal 05012 Sparring Youth 6-13 F C G10-G05 -130 cm | HC4: 05013 Sparring Youth 6-13 F C G10-G05 -140 cm | HG4: Totaal 05013 Sparring Youth 6-13 F C G10-G05 -140 cm | HH4: 05014 Sparring Youth 6-13 F C G10-G05 -150 cm | HL4: Totaal 05014 Sparring Youth 6-13 F C G10-G05 -150 cm | HM4: 05015 Sparring Youth 6-13 F C G10-G05 -160 cm | HQ4: Totaal 05015 Sparring Youth 6-13 F C G10-G05 -160 cm | HR4: 05020 S Sparring Youth 6-13 M A/B G04-D03 -150 cm | HV4: Totaal 05020 S Sparring Youth 6-13 M A/B G04-D03 -150 cm | HW4: 05021 S Sparring Youth 6-13 M A/B G04-D03 -160 cm | IA4: Totaal 05021 S Sparring Youth 6-13 M A/B G04-D03 -160 cm | IB4: 05022 S Sparring Youth 6-13 M A/B G04-D03 -170 cm | IF4: Totaal 05022 S Sparring Youth 6-13 M A/B G04-D03 -170 cm | IG4: 05023 S Sparring Youth 6-13 M A/B G04-D03 +170 cm | IH4: Totaal 05023 S Sparring Youth 6-13 M A/B G04-D03 +170 cm | II4: 05024 Sparring Youth 6-13 M B G04-G01 -130 cm | IM4: Totaal 05024 Sparring Youth 6-13 M B G04-G01 -130 cm | IN4: 05025 Sparring Youth 6-13 M B G04-G01 -140 cm | IR4: Totaal 05025 Sparring Youth 6-13 M B G04-G01 -140 cm | IS4: 05030 Sparring Youth 6-13 M C G10-G05 -130 cm | IW4: Totaal 05030 Sparring Youth 6-13 M C G10-G05 -130 cm | IX4: 05031 Sparring Youth 6-13 M C G10-G05 -140 cm | JB4: Totaal 05031 Sparring Youth 6-13 M C G10-G05 -140 cm | JC4: 05032 Sparring Youth 6-13 M C G10-G05 -150 cm | JG4: Totaal 05032 Sparring Youth 6-13 M C G10-G05 -150 cm | JH4: 05033 Sparring Youth 6-13 M C G10-G05 -160 cm | JL4: Totaal 05033 Sparring Youth 6-13 M C G10-G05 -160 cm | JM4: 05034 Sparring Youth 6-13 M C G10-G05 -170 cm | JQ4: Totaal 05034 Sparring Youth 6-13 M C G10-G05 -170 cm | JR4: 05035 Sparring Youth 6-13 M C G10-G05 +170 cm | JV4: Totaal 05035 Sparring Youth 6-13 M C G10-G05 +170 cm | JW4: 05036 S Sparring Junior 14-17 F A/B G04-D03 -45 kg | KA4: Totaal 05036 S Sparring Junior 14-17 F A/B G04-D03 -45 kg | KB4: 05037 S Sparring Junior 14-17 F A/B G04-D03 -50 kg | KF4: Totaal 05037 S Sparring Junior 14-17 F A/B G04-D03 -50 kg | KG4: 05038 S Sparring Junior 14-17 F A/B G04-D03 -55 kg | KK4: Totaal 05038 S Sparring Junior 14-17 F A/B G04-D03 -55 kg | KL4: 05039 S Sparring Junior 14-17 F A/B G04-D03 - 60 kg | KP4: Totaal 05039 S Sparring Junior 14-17 F A/B G04-D03 - 60 kg | KQ4: 05040 Sparring Junior 14-17 F A/B G04-D03 -65 kg | KU4: Totaal 05040 Sparring Junior 14-17 F A/B G04-D03 -65 kg | KV4: 05041 S Sparring Junior 14-17 F A/B G04-D03 +65 kg | KZ4: Totaal 05041 S Sparring Junior 14-17 F A/B G04-D03 +65 kg | LA4: 05048 S Sparring Junior 14-17 F C G10-G05 -50 kg | LC4: Totaal 05048 S Sparring Junior 14-17 F C G10-G05 -50 kg | LD4: 05050 Sparring Junior 14-17 F C G10-G05 -55 kg | LF4: Totaal 05050 Sparring Junior 14-17 F C G10-G05 -55 kg | LG4: 05052 S Sparring Junior 14-17 F C G10-G05 +60 kg | LK4: Totaal 05052 S Sparring Junior 14-17 F C G10-G05 +60 kg | LL4: 05054 S Sparring Junior 14-17 M A/B G04-D03 - 50 kg | LP4: Totaal 05054 S Sparring Junior 14-17 M A/B G04-D03 - 50 kg | LQ4: 05055 Sparring Junior 14-17 M A D01-D03 -56 kg | LU4: Totaal 05055 Sparring Junior 14-17 M A D01-D03 -56 kg | LV4: 05056 Sparring Junior 14-17 M A D01-D03 -62 kg | LZ4: Totaal 05056 Sparring Junior 14-17 M A D01-D03 -62 kg | MA4: 05057 S Sparring Junior 14-17 M A/B G04-D03 -68 kg | MD4: Totaal 05057 S Sparring Junior 14-17 M A/B G04-D03 -68 kg | ME4: 05058 S Sparring Junior 14-17 M A/B G04-D03 -75 kg | MI4: Totaal 05058 S Sparring Junior 14-17 M A/B G04-D03 -75 kg | MJ4: 05059 Sparring Junior 14-17 M A D01-D03 +75 kg | MN4: Totaal 05059 Sparring Junior 14-17 M A D01-D03 +75 kg | MO4: 05061 Sparring Junior 14-17 M B G04-G01 -56 kg | MR4: Totaal 05061 Sparring Junior 14-17 M B G04-G01 -56 kg | MS4: 05062 Sparring Junior 14-17 M B G04-G01 -62 kg | MV4: Totaal 05062 Sparring Junior 14-17 M B G04-G01 -62 kg | MW4: 05065 Sparring Junior 14-17 M B G04-G01 +75 kg | NA4: Totaal 05065 Sparring Junior 14-17 M B G04-G01 +75 kg | NB4: 05067 S Sparring Junior 14-17 M C G10-G05 -62 kg | NF4: Totaal 05067 S Sparring Junior 14-17 M C G10-G05 -62 kg | NG4: 05069 Sparring Junior 14-17 M C G10-G05 -68 kg | NJ4: Totaal 05069 Sparring Junior 14-17 M C G10-G05 -68 kg | NK4: 05071 Sparring Junior 14-17 M C G10-G05 +75 kg | NM4: Totaal 05071 Sparring Junior 14-17 M C G10-G05 +75 kg | NN4: 05072 S Sparring Senior 18+ F A/B G04-D06 -56 kg | NR4: Totaal 05072 S Sparring Senior 18+ F A/B G04-D06 -56 kg | NS4: 05074 Sparring Senior 18+ F A D01-D06 -62 kg | NW4: Totaal 05074 Sparring Senior 18+ F A D01-D06 -62 kg | NX4: 05075 S Sparring Senior 18+ F A D01-D06 -75 kg | NY4: Totaal 05075 S Sparring Senior 18+ F A D01-D06 -75 kg | NZ4: 05077 S Sparring Senior 18+ F A/B G04-D06 +75kg | OD4: Totaal 05077 S Sparring Senior 18+ F A/B G04-D06 +75kg | OE4: 05085 S Sparring Senior 18+ F C G10-G05 -62 kg | OG4: Totaal 05085 S Sparring Senior 18+ F C G10-G05 -62 kg | OH4: 05090 S Sparring Senior 18+ M A/B G04-D06 -57 kg | OK4: Totaal 05090 S Sparring Senior 18+ M A/B G04-D06 -57 kg | OL4: 05091 S Sparring Senior 18+ M A/B G04-D06 -63kg | OP4: Totaal 05091 S Sparring Senior 18+ M A/B G04-D06 -63kg | OQ4: 05092 Sparring Senior 18+ M A D01-D06 -70 kg | OU4: Totaal 05092 Sparring Senior 18+ M A D01-D06 -70 kg | OV4: 05093 S Sparring Senior 18+ M A/B G04-D06 -78 kg | OZ4: Totaal 05093 S Sparring Senior 18+ M A/B G04-D06 -78 kg | PA4: 05094 S Sparring Senior 18+ M A/B G04-D06 -85 kg | PE4: Totaal 05094 S Sparring Senior 18+ M A/B G04-D06 -85 kg | PF4: 05095 S Sparring Senior 18+ M A/B G04-D06 +85 kg | PJ4: Totaal 05095 S Sparring Senior 18+ M A/B G04-D06 +85 kg | PK4: 05098 Sparring Senior 18+ M B G04-G01 -70 kg | PN4: Totaal 05098 Sparring Senior 18+ M B G04-G01 -70 kg | PO4: 05104 Sparring Senior 18+ M C G10-G05 -70 kg | PS4: Totaal 05104 Sparring Senior 18+ M C G10-G05 -70 kg | PT4: 05105 Sparring Senior 18+ M C G10-G05 -78 kg | PX4: Totaal 05105 Sparring Senior 18+ M C G10-G05 -78 kg | PY4: 05106 Sparring Senior 18+ M C G10-G05 -85 kg | QC4: Totaal 05106 Sparring Senior 18+ M C G10-G05 -85 kg | QD4: 05107 Sparring Senior 18+ M C G10-G05 +85 kg | QE4: Totaal 05107 Sparring Senior 18+ M C G10-G05 +85 kg | QF4: 05112 S Sparring Veteran 35+ M A D01-D06 +50 kg | QH4: Totaal 05112 S Sparring Veteran 35+ M A D01-D06 +50 kg | QI4: 06000 Overall Sparring Junior 14-17 F A+B G04-D03 | QL4: Totaal 06000 Overall Sparring Junior 14-17 F A+B G04-D03 | QM4: 06001 Overall Sparring Junior 14-17 M A+B G04-D03 | QP4: Totaal 06001 Overall Sparring Junior 14-17 M A+B G04-D03 | QQ4: 06002 Overall Sparring Senior-Veteran 18+ F A+B G04-D06 | QT4: Totaal 06002 Overall Sparring Senior-Veteran 18+ F A+B G04-D06 | QU4: 06003 Overall Sparring Senior-Veteran 18+ M A+B G04-D06 | QX4: Totaal 06003 Overall Sparring Senior-Veteran 18+ M A+B G04-D06 | QY4: 07000 S Power Breaking Junior 14-17 F A/B G04-D03 | RC4: Totaal 07000 S Power Breaking Junior 14-17 F A/B G04-D03 | RD4: 07002 S Power Breaking Junior 14-17 M A/B G04-D03 | RG4: Totaal 07002 S Power Breaking Junior 14-17 M A/B G04-D03 | RH4: 07004 S Power Breaking Senior 18+ F A/B G04-D06 | RL4: Totaal 07004 S Power Breaking Senior 18+ F A/B G04-D06 | RM4: 07006 S Power Breaking Senior 18+ M A/B G04-D06 | RQ4: Totaal 07006 S Power Breaking Senior 18+ M A/B G04-D06 | RR4: Eindtotaal
A5: Rijlabels | B5: 0. None | C5: 1. Gold | E5: 0. None | F5: 1. Gold | G5: 2. Silver | H5: 3. Bronze | J5: 0. None | K5: 1. Gold | L5: 2. Silver | M5: 3. Bronze | O5: 0. None | P5: 1. Gold | Q5: 2. Silver | R5: 3. Bronze | T5: 0. None | U5: 1. Gold | V5: 2. Silver | W5: 3. Bronze | Y5: 0. None | Z5: 1. Gold | AA5: 2. Silver | AB5: 3. Bronze | AD5: 0. None | AE5: 1. Gold | AF5: 2. Silver | AG5: 3. Bronze | AI5: 0. None | AJ5: 1. Gold | AK5: 2. Silver | AL5: 3. Bronze | AN5: 0. None | AO5: 1. Gold | AP5: 2. Silver | AQ5: 3. Bronze | AS5: 0. None | AT5: 1. Gold | AU5: 2. Silver | AV5: 3. Bronze | AX5: 0. None | AY5: 1. Gold | AZ5: 2. Silver | BA5: 3. Bronze | BC5: 0. None | BD5: 1. Gold | BE5: 2. Silver | BF5: 3. Bronze | BH5: 0. None | BI5: 1. Gold | BJ5: 2. Silver | BK5: 3. Bronze | BM5: 0. None | BN5: 1. Gold | BO5: 2. Silver | BP5: 3. Bronze | BR5: 0. None | BS5: 1. Gold | BT5: 2. Silver | BU5: 3. Bronze | BW5: 0. None | BX5: 1. Gold | BY5: 2. Silver | BZ5: 3. Bronze | CB5: 0. None | CC5: 1. Gold | CD5: 2. Silver | CE5: 3. Bronze | CG5: 0. None | CH5: 1. Gold | CI5: 2. Silver | CJ5: 3. Bronze | CL5: 0. None | CM5: 1. Gold | CO5: 0. None | CP5: 1. Gold | CQ5: 2. Silver | CR5: 3. Bronze | CT5: 0. None | CU5: 1. Gold | CV5: 2. Silver | CX5: 0. None | CY5: 1. Gold | CZ5: 2. Silver | DA5: 3. Bronze | DC5: 0. None | DD5: 1. Gold | DE5: 2. Silver | DF5: 3. Bronze | DH5: 0. None | DI5: 1. Gold | DJ5: 2. Silver | DK5: 3. Bronze | DM5: 0. None | DN5: 1. Gold | DO5: 2. Silver | DP5: 3. Bronze | DR5: 0. None | DS5: 1. Gold | DT5: 2. Silver | DV5: 0. None | DW5: 1. Gold | DX5: 2. Silver | DY5: 3. Bronze | EA5: 0. None | EB5: 1. Gold | EC5: 2. Silver | ED5: 3. Bronze | EF5: 0. None | EG5: 1. Gold | EH5: 2. Silver | EI5: 3. Bronze | EK5: 0. None | EL5: 1. Gold | EM5: 2. Silver | EN5: 3. Bronze | EP5: 0. None | EQ5: 1. Gold | ER5: 2. Silver | ES5: 3. Bronze | EU5: 0. None | EV5: 1. Gold | EW5: 2. Silver | EX5: 3. Bronze | EZ5: 0. None | FA5: 1. Gold | FB5: 2. Silver | FC5: 3. Bronze | FE5: 0. None | FF5: 1. Gold | FG5: 2. Silver | FH5: 3. Bronze | FJ5: 0. None | FK5: 1. Gold | FL5: 3. Bronze | FN5: 0. None | FO5: 1. Gold | FP5: 2. Silver | FR5: 0. None | FS5: 1. Gold | FT5: 2. Silver | FV5: 0. None | FW5: 1. Gold | FX5: 2. Silver | FY5: 3. Bronze | GA5: 0. None | GB5: 1. Gold | GC5: 2. Silver | GD5: 3. Bronze | GF5: 0. None | GG5: 1. Gold | GH5: 2. Silver | GI5: 3. Bronze | GK5: 0. None | GL5: 1. Gold | GN5: 0. None | GO5: 1. Gold | GP5: 2. Silver | GQ5: 3. Bronze | GS5: 0. None | GT5: 1. Gold | GU5: 2. Silver | GV5: 3. Bronze | GX5: 0. None | GY5: 1. Gold | GZ5: 2. Silver | HA5: 3. Bronze | HC5: 0. None | HD5: 1. Gold | HE5: 2. Silver | HF5: 3. Bronze | HH5: 0. None | HI5: 1. Gold | HJ5: 2. Silver | HK5: 3. Bronze | HM5: 0. None | HN5: 1. Gold | HO5: 2. Silver | HP5: 3. Bronze | HR5: 0. None | HS5: 1. Gold | HT5: 2. Silver | HU5: 3. Bronze | HW5: 0. None | HX5: 1. Gold | HY5: 2. Silver | HZ5: 3. Bronze | IB5: 0. None | IC5: 1. Gold | ID5: 2. Silver | IE5: 3. Bronze | IG5: 0. None | II5: 0. None | IJ5: 1. Gold | IK5: 2. Silver | IL5: 3. Bronze | IN5: 0. None | IO5: 1. Gold | IP5: 2. Silver | IQ5: 3. Bronze | IS5: 0. None | IT5: 1. Gold | IU5: 2. Silver | IV5: 3. Bronze | IX5: 0. None | IY5: 1. Gold | IZ5: 2. Silver | JA5: 3. Bronze | JC5: 0. None | JD5: 1. Gold | JE5: 2. Silver | JF5: 3. Bronze | JH5: 0. None | JI5: 1. Gold | JJ5: 2. Silver | JK5: 3. Bronze | JM5: 0. None | JN5: 1. Gold | JO5: 2. Silver | JP5: 3. Bronze | JR5: 0. None | JS5: 1. Gold | JT5: 2. Silver | JU5: 3. Bronze | JW5: 0. None | JX5: 1. Gold | JY5: 2. Silver | JZ5: 3. Bronze | KB5: 0. None | KC5: 1. Gold | KD5: 2. Silver | KE5: 3. Bronze | KG5: 0. None | KH5: 1. Gold | KI5: 2. Silver | KJ5: 3. Bronze | KL5: 0. None | KM5: 1. Gold | KN5: 2. Silver | KO5: 3. Bronze | KQ5: 0. None | KR5: 1. Gold | KS5: 2. Silver | KT5: 3. Bronze | KV5: 0. None | KW5: 1. Gold | KX5: 2. Silver | KY5: 3. Bronze | LA5: 0. None | LB5: 1. Gold | LD5: 0. None | LE5: 1. Gold | LG5: 0. None | LH5: 1. Gold | LI5: 2. Silver | LJ5: 3. Bronze | LL5: 0. None | LM5: 1. Gold | LN5: 2. Silver | LO5: 3. Bronze | LQ5: 0. None | LR5: 1. Gold | LS5: 2. Silver | LT5: 3. Bronze | LV5: 0. None | LW5: 1. Gold | LX5: 2. Silver | LY5: 3. Bronze | MA5: 0. None | MB5: 1. Gold | MC5: 2. Silver | ME5: 0. None | MF5: 1. Gold | MG5: 2. Silver | MH5: 3. Bronze | MJ5: 0. None | MK5: 1. Gold | ML5: 2. Silver | MM5: 3. Bronze | MO5: 0. None | MP5: 1. Gold | MQ5: 2. Silver | MS5: 0. None | MT5: 1. Gold | MU5: 3. Bronze | MW5: 0. None | MX5: 1. Gold | MY5: 2. Silver | MZ5: 3. Bronze | NB5: 0. None | NC5: 1. Gold | ND5: 2. Silver | NE5: 3. Bronze | NG5: 0. None | NH5: 1. Gold | NI5: 2. Silver | NK5: 0. None | NL5: 1. Gold | NN5: 0. None | NO5: 1. Gold | NP5: 2. Silver | NQ5: 3. Bronze | NS5: 0. None | NT5: 1. Gold | NU5: 2. Silver | NV5: 3. Bronze | NX5: 0. None | NZ5: 0. None | OA5: 1. Gold | OB5: 2. Silver | OC5: 3. Bronze | OE5: 0. None | OF5: 1. Gold | OH5: 0. None | OI5: 1. Gold | OJ5: 2. Silver | OL5: 0. None | OM5: 1. Gold | ON5: 2. Silver | OO5: 3. Bronze | OQ5: 0. None | OR5: 1. Gold | OS5: 2. Silver | OT5: 3. Bronze | OV5: 0. None | OW5: 1. Gold | OX5: 2. Silver | OY5: 3. Bronze | PA5: 0. None | PB5: 1. Gold | PC5: 2. Silver | PD5: 3. Bronze | PF5: 0. None | PG5: 1. Gold | PH5: 2. Silver | PI5: 3. Bronze | PK5: 0. None | PL5: 1. Gold | PM5: 2. Silver | PO5: 0. None | PP5: 1. Gold | PQ5: 2. Silver | PR5: 3. Bronze | PT5: 0. None | PU5: 1. Gold | PV5: 2. Silver | PW5: 3. Bronze | PY5: 0. None | PZ5: 1. Gold | QA5: 2. Silver | QB5: 3. Bronze | QD5: 0. None | QF5: 0. None | QG5: 1. Gold | QI5: 0. None | QJ5: 1. Gold | QK5: 2. Silver | QM5: 0. None | QN5: 1. Gold | QO5: 2. Silver | QQ5: 0. None | QR5: 1. Gold | QS5: 2. Silver | QU5: 0. None | QV5: 1. Gold | QW5: 2. Silver | QY5: 0. None | QZ5: 1. Gold | RA5: 2. Silver | RB5: 3. Bronze | RD5: 0. None | RE5: 1. Gold | RF5: 3. Bronze | RH5: 0. None | RI5: 1. Gold | RJ5: 2. Silver | RK5: 3. Bronze | RM5: 0. None | RN5: 1. Gold | RO5: 2. Silver | RP5: 3. Bronze
A6: Aberdeenshire Blackbelt Club | BC6: 1 | BG6: 1 | MG6: 1 | MI6: 1 | QM6: 1 | QP6: 1 | RD6: 1 | RG6: 1 | RR6: 4
A7: BOOZ ITF Taekwon-Do | DC7: 1 | DG7: 1 | RR7: 1
A8: Braveheart Martial Arts | T8: 1 | X8: 1 | AI8: 2 | AM8: 2 | DA8: 1 | DB8: 1 | EF8: 1 | EJ8: 1 | HA8: 1 | HB8: 1 | HR8: 1 | HV8: 1 | IB8: 1 | IF8: 1 | NS8: 1 | NW8: 1 | OX8: 1 | OZ8: 1 | QW8: 1 | QX8: 1 | RR8: 11
A9: Chong Do Kwan | E9: 1 | I9: 1 | J9: 1 | M9: 1 | N9: 2 | T9: 2 | X9: 2 | AN9: 1 | AR9: 1 | AX9: 1 | BB9: 1 | FN9: 6 | FQ9: 6 | FV9: 1 | FZ9: 1 | GZ9: 1 | HB9: 1 | HH9: 1 | HI9: 1 | HL9: 2 | HM9: 1 | HQ9: 1 | IU9: 1 | IW9: 1 | JJ9: 1 | JL9: 1 | RR9: 20
A10: Christiania NTN Taekwon-Do Norway | CT10: 1 | CW10: 1 | EA10: 1 | EE10: 1 | EU10: 1 | EY10: 1 | FR10: 1 | FU10: 1 | NZ10: 1 | OD10: 1 | OQ10: 1 | OU10: 1 | OY10: 1 | OZ10: 1 | PY10: 1 | QC10: 1 | QQ10: 1 | QT10: 1 | QU10: 2 | QX10: 2 | RH10: 1 | RL10: 1 | RR10: 12
A11: Difesa Sports | O11: 1 | S11: 1 | AS11: 1 | AW11: 1 | BM11: 1 | BQ11: 1 | BW11: 1 | CA11: 1 | CO11: 1 | CS11: 1 | FB11: 1 | FD11: 1 | FN11: 3 | FQ11: 3 | HH11: 1 | HL11: 1 | IS11: 1 | IW11: 1 | KT11: 1 | KU11: 1 | LV11: 1 | LZ11: 1 | NT11: 1 | NW11: 1 | QA11: 1 | QC11: 1 | RJ11: 1 | RL11: 1 | RR11: 16
A12: England Taekwon-Do Association | BD12: 1 | BG12: 1 | CG12: 1 | CK12: 1 | CU12: 1 | CW12: 1 | EA12: 1 | EE12: 1 | ER12: 1 | ET12: 1 | EU12: 2 | EY12: 2 | KE12: 1 | KF12: 1 | NL12: 1 | NM12: 1 | NP12: 1 | NR12: 1 | OQ12: 1 | OU12: 1 | PA12: 1 | PE12: 1 | PR12: 1 | PS12: 1 | PV12: 1 | PX12: 1 | QQ12: 1 | QT12: 1 | QU12: 1 | QX12: 1 | RR12: 16
A13: Frolunda TKD | BW13: 1 | CA13: 1 | MK13: 1 | MN13: 1 | QM13: 1 | QP13: 1 | RR13: 3
A14: Ge-Baek | BN14: 1 | BQ14: 1 | RB14: 1 | RC14: 1 | RM14: 1 | RQ14: 1 | RR14: 3
A15: GMS Martial arts | Y15: 1 | AC15: 1 | BW15: 4 | CA15: 4 | IG15: 1 | IH15: 1 | LL15: 1 | LP15: 1 | LQ15: 2 | LS15: 1 | LU15: 3 | RD15: 3 | RG15: 3 | RR15: 13
A16: HWA RANG SAN PEDRO ALCANTARA | AI16: 1 | AM16: 1 | AX16: 1 | BB16: 1 | HR16: 1 | HV16: 1 | IS16: 1 | IW16: 1 | RR16: 4
A17: Hyong Celje | BH17: 2 | BL17: 2 | KD17: 1 | KF17: 1 | KI17: 1 | KK17: 1 | KM17: 1 | KP17: 1 | KS17: 1 | KU17: 1 | KW17: 1 | KZ17: 1 | QI17: 2 | QJ17: 1 | QL17: 3 | RR17: 10
A18: I-Kick Martial Arts | E18: 1 | I18: 1 | J18: 1 | N18: 1 | O18: 1 | S18: 1 | AN18: 2 | AQ18: 1 | AR18: 3 | BW18: 1 | CA18: 1 | CI18: 1 | CK18: 1 | DN18: 1 | DQ18: 1 | EB18: 1 | EE18: 1 | FN18: 5 | FQ18: 5 | FR18: 1 | FT18: 1 | FU18: 2 | FV18: 1 | FZ18: 1 | HM18: 1 | HP18: 1 | HQ18: 2 | JC18: 2 | JG18: 2 | JH18: 1 | JL18: 1 | ML18: 1 | MN18: 1 | NI18: 1 | NJ18: 1 | OF18: 1 | OG18: 1 | OR18: 1 | OU18: 1 | QU18: 1 | QX18: 1 | RR18: 28
A19: IMPACT | AD19: 1 | AH19: 1 | DC19: 2 | DG19: 2 | HW19: 1 | IA19: 1 | NS19: 1 | NW19: 1 | NX19: 1 | NY19: 1 | QQ19: 2 | QT19: 2 | RH19: 2 | RL19: 2 | RR19: 10
A20: ITF Fusion | BJ20: 1 | BL20: 1 | DV20: 1 | DY20: 1 | DZ20: 2 | JY20: 1 | KA20: 1 | OM20: 1 | OP20: 1 | OQ20: 1 | OU20: 1 | QF20: 1 | QH20: 1 | RR20: 7
A21: ITF JAPAN - KANSAI | CZ21: 1 | DB21: 1 | RR21: 1
A22: ITF Paris | CX22: 1 | DB22: 1 | DC22: 1 | DG22: 1 | EF22: 1 | EJ22: 1 | EM22: 1 | EO22: 1 | NN22: 1 | NR22: 1 | OV22: 1 | OZ22: 1 | PA22: 1 | PE22: 1 | RR22: 7
A23: Jungshin Kwan | J23: 1 | N23: 1 | O23: 1 | S23: 1 | T23: 1 | X23: 1 | AN23: 2 | AP23: 1 | AR23: 3 | AS23: 1 | AW23: 1 | DP23: 1 | DQ23: 1 | DT23: 1 | DU23: 1 | EU23: 1 | EY23: 1 | FA23: 1 | FD23: 1 | FN23: 7 | FQ23: 7 | FR23: 4 | FU23: 4 | HC23: 1 | HG23: 1 | HH23: 1 | HL23: 1 | IS23: 1 | IW23: 1 | JC23: 2 | JG23: 2 | JH23: 2 | JL23: 2 | PT23: 1 | PX23: 1 | PY23: 1 | QC23: 1 | RR23: 31
A24: Just For Kicks | CQ24: 1 | CS24: 1 | RR24: 1
A25: Kassem Gym | FW25: 1 | FX25: 1 | FY25: 1 | FZ25: 3 | GK25: 1 | GM25: 1 | GO25: 1 | GP25: 1 | GR25: 2 | GU25: 1 | GW25: 1 | GX25: 1 | HB25: 1 | HF25: 1 | HG25: 1 | HH25: 1 | HL25: 1 | HY25: 1 | IA25: 1 | IL25: 1 | IM25: 1 | IV25: 1 | IW25: 1 | IZ25: 1 | JB25: 1 | JC25: 1 | JG25: 1 | JH25: 2 | JL25: 2 | KL25: 1 | KP25: 1 | KV25: 1 | KX25: 1 | KY25: 1 | KZ25: 3 | LB25: 1 | LC25: 1 | LH25: 1 | LI25: 1 | LK25: 2 | LQ25: 1 | LU25: 1 | LV25: 1 | LZ25: 1 | MA25: 1 | MD25: 1 | NS25: 1 | NW25: 1 | NZ25: 1 | OD25: 1 | OT25: 1 | OU25: 1 | PG25: 1 | PJ25: 1 | RR25: 31
A26: Koguryo | E26: 3 | I26: 3 | AI26: 1 | AM26: 1 | BH26: 1 | BL26: 1 | CV26: 1 | CW26: 1 | EC26: 1 | EE26: 1 | FE26: 1 | FI26: 1 | FV26: 1 | FZ26: 1 | GC26: 1 | GE26: 1 | GH26: 1 | GJ26: 1 | GN26: 2 | GR26: 2 | IN26: 1 | IR26: 1 | JX26: 1 | KA26: 1 | KH26: 1 | KK26: 1 | NN26: 1 | NO26: 1 | NR26: 2 | NU26: 1 | NW26: 1 | NX26: 1 | NY26: 1 | OA26: 1 | OD26: 1 | OL26: 1 | OP26: 1 | OQ26: 1 | OU26: 1 | PF26: 1 | PJ26: 1 | QK26: 1 | QL26: 1 | QQ26: 2 | QR26: 1 | QT26: 3 | RR26: 28
A27: MARRIS GYM | E27: 1 | I27: 1 | J27: 1 | N27: 1 | AI27: 1 | AM27: 1 | AS27: 1 | AW27: 1 | GS27: 1 | GW27: 1 | HC27: 1 | HG27: 1 | IK27: 1 | IM27: 1 | IS27: 1 | IW27: 1 | RR27: 8
A28: Ohdokwan | AI28: 1 | AM28: 1 | AN28: 1 | AR28: 1 | BH28: 1 | BL28: 1 | BO28: 1 | BQ28: 1 | BW28: 1 | CA28: 1 | CB28: 1 | CC28: 1 | CF28: 2 | DK28: 1 | DL28: 1 | DR28: 1 | DS28: 1 | DU28: 2 | EP28: 1 | ET28: 1 | EZ28: 1 | FD28: 1 | FN28: 1 | FQ28: 1 | FR28: 3 | FU28: 3 | KG28: 1 | KK28: 1 | KL28: 1 | KP28: 1 | MS28: 1 | MU28: 1 | MV28: 2 | MW28: 1 | NA28: 1 | NB28: 1 | ND28: 1 | NF28: 2 | PF28: 1 | PJ28: 1 | QB28: 1 | QC28: 1 | QZ28: 1 | RC28: 1 | RD28: 1 | RG28: 1 | RM28: 3 | RO28: 1 | RP28: 1 | RQ28: 5 | RR28: 32
A29: PUMA England | F29: 1 | I29: 1 | U29: 1 | X29: 1 | AD29: 1 | AH29: 1 | AY29: 1 | BB29: 1 | BC29: 1 | BG29: 1 | BH29: 2 | BK29: 1 | BL29: 3 | BW29: 2 | CA29: 2 | CP29: 1 | CS29: 1 | DX29: 1 | DZ29: 1 | EF29: 1 | EJ29: 1 | FK29: 1 | FM29: 1 | FN29: 2 | FQ29: 2 | FV29: 1 | FZ29: 1 | HH29: 1 | HL29: 1 | IT29: 1 | IW29: 1 | JW29: 1 | JZ29: 1 | KA29: 2 | KG29: 1 | KK29: 1 | MH29: 1 | MI29: 1 | MM29: 1 | MN29: 1 | OQ29: 1 | OU29: 1 | QM29: 1 | QN29: 1 | QP29: 2 | RE29: 1 | RG29: 1 | RR29: 28
A30: RasBudo ITF Taekwon-do rf | FV30: 1 | FZ30: 1 | MA30: 1 | MD30: 1 | RR30: 2
A31: SLOVENIA TEAM | IB31: 1 | IF31: 1 | JW31: 1 | KA31: 1 | LR31: 1 | LU31: 1 | OI31: 1 | OK31: 1 | RR31: 4
A32: Soo Bak-Gi | E32: 1 | I32: 1 | T32: 1 | X32: 1 | AI32: 1 | AM32: 1 | AS32: 2 | AU32: 1 | AW32: 3 | CB32: 1 | CE32: 1 | CF32: 2 | CH32: 1 | CK32: 1 | CX32: 1 | DB32: 1 | FN32: 4 | FQ32: 4 | HH32: 1 | HL32: 1 | HR32: 1 | HV32: 1 | IX32: 2 | JB32: 2 | LY32: 1 | LZ32: 1 | MO32: 1 | MR32: 1 | NH32: 1 | NJ32: 1 | OV32: 1 | OZ32: 1 | PW32: 1 | PX32: 1 | RH32: 1 | RL32: 1 | RR32: 24
A33: South queensferry TKD | DD33: 1 | DG33: 1 | EA33: 1 | EE33: 1 | EG33: 1 | EJ33: 1 | ON33: 1 | OP33: 1 | PA33: 1 | PE33: 1 | QU33: 1 | QX33: 1 | RR33: 6
A34: Sportschool Tim Kool | C34: 1 | D34: 1 | E34: 5 | I34: 5 | J34: 3 | N34: 3 | O34: 2 | S34: 2 | T34: 9 | X34: 9 | AD34: 3 | AH34: 3 | AI34: 1 | AJ34: 1 | AM34: 2 | AN34: 4 | AR34: 4 | AX34: 2 | BB34: 2 | BH34: 1 | BI34: 1 | BL34: 2 | BW34: 2 | CA34: 2 | CB34: 1 | CF34: 1 | CJ34: 1 | CK34: 1 | CL34: 1 | CN34: 1 | CY34: 1 | DB34: 1 | DC34: 1 | DE34: 1 | DG34: 2 | DM34: 2 | DO34: 1 | DQ34: 3 | ED34: 1 | EE34: 1 | EH34: 1 | EJ34: 1 | EP34: 1 | ET34: 1 | EU34: 1 | EY34: 1 | FF34: 1 | FH34: 1 | FI34: 2 | FJ34: 1 | FM34: 1 | FN34: 14 | FQ34: 14 | FR34: 6 | FU34: 6 | FV34: 1 | FZ34: 1 | GB34: 1 | GE34: 1 | GI34: 1 | GJ34: 1 | GQ34: 1 | GR34: 1 | GX34: 4 | HB34: 4 | HC34: 3 | HG34: 3 | HH34: 2 | HL34: 2 | HM34: 1 | HQ34: 1 | HT34: 1 | HV34: 1 | HW34: 2 | IA34: 2 | IP34: 1 | IQ34: 1 | IR34: 2 | IS34: 2 | IW34: 2 | JC34: 3 | JG34: 3 | KB34: 1 | KF34: 1 | KN34: 1 | KP34: 1 | LQ34: 1 | LU34: 1 | LV34: 1 | LZ34: 1 | MA34: 1 | MD34: 1 | ME34: 1 | MI34: 1 | MJ34: 2 | MN34: 2 | MX34: 1 | MY34: 1 | NA34: 2 | NE34: 1 | NF34: 1 | NG34: 1 | NJ34: 1 | NV34: 1 | NW34: 1 | NZ34: 1 | OD34: 1 | OE34: 1 | OG34: 1 | OO34: 1 | OP34: 1 | OW34: 1 | OZ34: 1 | PA34: 1 | PC34: 1 | PE34: 2 | PH34: 1 | PJ34: 1 | QI34: 1 | QL34: 1 | QM34: 4 | QP34: 4 | QQ34: 1 | QT34: 1 | QU34: 3 | QV34: 1 | QX34: 4 | RM34: 1 | RQ34: 1 | RR34: 126
A35: Sportschule Monheim | DC35: 1 | DG35: 1 | DI35: 1 | DL35: 1 | EK35: 1 | EO35: 1 | EP35: 1 | ES35: 1 | ET35: 2 | NQ35: 1 | NR35: 1 | NS35: 1 | NW35: 1 | OL35: 1 | OP35: 1 | OV35: 1 | OZ35: 1 | PM35: 1 | PN35: 1 | QS35: 1 | QT35: 1 | RR35: 11
A36: sportschuledamato | H36: 1 | I36: 1 | O36: 2 | P36: 1 | Q36: 1 | S36: 4 | AN36: 1 | AR36: 1 | AX36: 1 | BB36: 1 | BH36: 2 | BL36: 2 | EF36: 1 | EJ36: 1 | EW36: 1 | EY36: 1 | FN36: 5 | FP36: 1 | FQ36: 6 | FR36: 1 | FU36: 1 | FV36: 1 | FZ36: 1 | GY36: 1 | HB36: 1 | HC36: 1 | HG36: 1 | HH36: 1 | HJ36: 1 | HL36: 2 | IY36: 1 | JB36: 1 | JC36: 1 | JG36: 1 | KC36: 1 | KF36: 1 | KL36: 1 | KP36: 1 | OQ36: 1 | OU36: 1 | PO36: 1 | PS36: 1 | QI36: 1 | QL36: 1 | QY36: 1 | RA36: 1 | RC36: 2 | RR36: 32
A37: T.A.Nimjae | E37: 2 | I37: 2 | J37: 1 | N37: 1 | O37: 1 | S37: 1 | T37: 1 | V37: 1 | X37: 2 | AB37: 1 | AC37: 1 | AS37: 1 | AW37: 1 | FC37: 1 | FD37: 1 | FN37: 5 | FQ37: 5 | FR37: 1 | FU37: 1 | GS37: 2 | GW37: 2 | GX37: 1 | HB37: 1 | HC37: 3 | HG37: 3 | HX37: 1 | IA37: 1 | IX37: 1 | JB37: 1 | PP37: 1 | PS37: 1 | RR37: 24
A38: Taekwon-Do Academy Graziella Idili | E38: 1 | I38: 1 | L38: 1 | N38: 1 | T38: 1 | X38: 1 | AS38: 1 | AW38: 1 | AX38: 1 | AZ38: 1 | BB38: 2 | BF38: 1 | BG38: 1 | BP38: 1 | BQ38: 1 | BW38: 1 | BY38: 1 | CA38: 2 | CD38: 1 | CF38: 1 | FG38: 1 | FI38: 1 | FN38: 3 | FQ38: 3 | FV38: 1 | FZ38: 1 | GF38: 1 | GJ38: 1 | GX38: 1 | HB38: 1 | HH38: 1 | HL38: 1 | IS38: 1 | IW38: 1 | IX38: 1 | JB38: 1 | LV38: 1 | LZ38: 1 | MA38: 1 | MB38: 1 | MD38: 2 | QO38: 1 | QP38: 1 | RR38: 25
A39: Taekwon-do Den Hoorn | J39: 3 | N39: 3 | T39: 2 | W39: 1 | X39: 3 | AN39: 3 | AR39: 3 | AX39: 1 | BB39: 1 | EU39: 1 | EY39: 1 | FN39: 12 | FQ39: 12 | FR39: 1 | FU39: 1 | GX39: 1 | HB39: 1 | HC39: 1 | HE39: 1 | HG39: 2 | HH39: 1 | HK39: 1 | HL39: 2 | HM39: 1 | HQ39: 1 | IS39: 2 | IW39: 2 | IX39: 3 | JB39: 3 | PU39: 1 | PX39: 1 | RR39: 36
A40: Taekwon-Do Excel | AD40: 2 | AH40: 2 | IN40: 1 | IO40: 1 | IR40: 2 | RR40: 4
A41: Taekwon-Do IN NAE DO KWAN | E41: 1 | G41: 1 | I41: 2 | J41: 2 | N41: 2 | AL41: 1 | AM41: 1 | AN41: 2 | AR41: 2 | BW41: 1 | CA41: 1 | EL41: 1 | EO41: 1 | EX41: 1 | EY41: 1 | FN41: 4 | FQ41: 4 | FR41: 1 | FU41: 1 | GD41: 1 | GE41: 1 | GT41: 1 | GW41: 1 | HH41: 2 | HL41: 2 | IB41: 1 | IF41: 1 | JA41: 1 | JB41: 1 | JF41: 1 | JG41: 1 | LT41: 1 | LU41: 1 | LV41: 1 | LZ41: 1 | OQ41: 1 | OU41: 1 | PA41: 1 | PE41: 1 | PQ41: 1 | PS41: 1 | QM41: 1 | QP41: 1 | QU41: 1 | QX41: 1 | RR41: 29
A42: Taekwon-Do ITF Nimes | DV42: 1 | DW42: 1 | DZ42: 2 | RM42: 1 | RQ42: 1 | RR42: 3
...

Sheet All Entries
A1: CATEGORY | B1: Name | C1: Club Full | D1: Individual/Team | E1: Discipline | F1: Age Class | G1: Sex | H1: Grade Class | I1: Result | J1: Corrected Result | K1: Total Entries in Category2 | L1: Club entries in Category | M1: Club Size Entries
A2: 01011 S Tul Junior 14-17 F/M A D02 | B2: CAMPINS RICO | C2: Aberdeenshire Blackbelt Club | D2: =VLOOKUP(athlete_entries[[#This Row],[CATEGORY]],Categories!$A$1:$F$106,2,FALSE) -> Individual | E2: =VLOOKUP(athlete_entries[[#This Row],[CATEGORY]],Categories!$A$1:$F$106,3,FALSE) -> Patterns | F2: =VLOOKUP(athlete_entries[[#This Row],[CATEGORY]],Categories!$A$1:$F$106,4,FALSE) -> Junior | G2: =VLOOKUP(athlete_entries[[#This Row],[CATEGORY]],Categories!$A$1:$F$106,5,FALSE) -> Mixed | H2: =VLOOKUP(athlete_entries[[#This Row],[CATEGORY]],Categories!$A$1:$F$106,6,FALSE) -> A D01-D06 | I2: {=_xlfn.IFNA(INDEX(Results__5[#All],MATCH(athlete_entries[[#This Row],[CATEGORY]]&athlete_entries[[#This Row],[Name]],Results__5[[#All],[Category]]&Results__5[[#All],[Name]],0),MATCH(athlete_entries[[#Headers],[Result]],Results__5[#Headers],0)),"0. None")} -> 0. None | J2: =IF(AND(athlete_entries[[#This Row],[Result]]="2. Silver",K2=2),"0. None",IF(AND(athlete_entries[[#This Row],[Result]]="3. Bronze",K2=3),"0. None",athlete_entries[[#This Row],[Result]])) -> 0. None | K2: =INDEX(Categories_and_entries__2[[#All],[Category]:[Entries]],MATCH(athlete_entries[[#This Row],[CATEGORY]],Categories_and_entries__2[[#All],[Category]],0),MATCH("Entries",Categories_and_entries__2[[#Headers],[Category]:[Entries]],0)) -> 6 | L2: =COUNTIFS(athlete_entries[CATEGORY],athlete_entries[[#This Row],[CATEGORY]],athlete_entries[Club Full],athlete_entries[[#This Row],[Club Full]]) -> 1 | M2: =INDEX(Participation_Count_Clubs__24[#All],MATCH(athlete_entries[[#This Row],[Club Full]],Participation_Count_Clubs__24[[#All],[Club Full]],0),MATCH("Club Size Entries",Participation_Count_Clubs__24[#Headers],0)) -> XS
A3: 05058 S Sparring Junior 14-17 M A/B G04-D03 -75 kg | B3: CAMPINS RICO | C3: Aberdeenshire Blackbelt Club | D3: =VLOOKUP(athlete_entries[[#This Row],[CATEGORY]],Categories!$A$1:$F$106,2,FALSE) -> Individual | E3: =VLOOKUP(athlete_entries[[#This Row],[CATEGORY]],Categories!$A$1:$F$106,3,FALSE) -> Sparring | F3: =VLOOKUP(athlete_entries[[#This Row],[CATEGORY]],Categories!$A$1:$F$106,4,FALSE) -> Junior | G3: =VLOOKUP(athlete_entries[[#This Row],[CATEGORY]],Categories!$A$1:$F$106,5,FALSE) -> Male | H3: =VLOOKUP(athlete_entries[[#This Row],[CATEGORY]],Categories!$A$1:$F$106,6,FALSE) -> A+B G04-D06 | I3: {=_xlfn.IFNA(INDEX(Results__5[#All],MATCH(athlete_entries[[#This Row],[CATEGORY]]&athlete_entries[[#This Row],[Name]],Results__5[[#All],[Category]]&Results__5[[#All],[Name]],0),MATCH(athlete_entries[[#Headers],[Result]],Results__5[#Headers],0)),"0. None")} -> 2. Silver | J3: =IF(AND(athlete_entries[[#This Row],[Result]]="2. Silver",K3=2),"0. None",IF(AND(athlete_entries[[#This Row],[Result]]="3. Bronze",K3=3),"0. None",athlete_entries[[#This Row],[Result]])) -> 2. Silver | K3: =INDEX(Categories_and_entries__2[[#All],[Category]:[Entries]],MATCH(athlete_entries[[#This Row],[CATEGORY]],Categories_and_entries__2[[#All],[Category]],0),MATCH("Entries",Categories_and_entries__2[[#Headers],[Category]:[Entries]],0)) -> 5 | L3: =COUNTIFS(athlete_entries[CATEGORY],athlete_entries[[#This Row],[CATEGORY]],athlete_entries[Club Full],athlete_entries[[#This Row],[Club Full]]) -> 1 | M3: =INDEX(Participation_Count_Clubs__24[#All],MATCH(athlete_entries[[#This Row],[Club Full]],Participation_Count_Clubs__24[[#All],[Club Full]],0),MATCH("Club Size Entries",Participation_Count_Clubs__24[#Headers],0)) -> XS
A4: 06001 Overall Sparring Junior 14-17 M A+B G04-D03 | B4: CAMPINS RICO | C4: Aberdeenshire Blackbelt Club | D4: =VLOOKUP(athlete_entries[[#This Row],[CATEGORY]],Categories!$A$1:$F$106,2,FALSE) -> Individual | E4: =VLOOKUP(athlete_entries[[#This Row],[CATEGORY]],Categories!$A$1:$F$106,3,FALSE) -> Sparring | F4: =VLOOKUP(athlete_entries[[#This Row],[CATEGORY]],Categories!$A$1:$F$106,4,FALSE) -> Junior | G4: =VLOOKUP(athlete_entries[[#This Row],[CATEGORY]],Categories!$A$1:$F$106,5,FALSE) -> Male | H4: =VLOOKUP(athlete_entries[[#This Row],[CATEGORY]],Categories!$A$1:$F$106,6,FALSE) -> A+B G04-D06 | I4: {=_xlfn.IFNA(INDEX(Results__5[#All],MATCH(athlete_entries[[#This Row],[CATEGORY]]&athlete_entries[[#This Row],[Name]],Results__5[[#All],[Category]]&Results__5[[#All],[Name]],0),MATCH(athlete_entries[[#Headers],[Result]],Results__5[#Headers],0)),"0. None")} -> 0. None | J4: =IF(AND(athlete_entries[[#This Row],[Result]]="2. Silver",K4=2),"0. None",IF(AND(athlete_entries[[#This Row],[Result]]="3. Bronze",K4=3),"0. None",athlete_entries[[#This Row],[Result]])) -> 0. None | K4: =INDEX(Categories_and_entries__2[[#All],[Category]:[Entries]],MATCH(athlete_entries[[#This Row],[CATEGORY]],Categories_and_entries__2[[#All],[Category]],0),MATCH("Entries",Categories_and_entries__2[[#Headers],[Category]:[Entries]],0)) -> 18 | L4: =COUNTIFS(athlete_entries[CATEGORY],athlete_entries[[#This Row],[CATEGORY]],athlete_entries[Club Full],athlete_entries[[#This Row],[Club Full]]) -> 1 | M4: =INDEX(Participation_Count_Clubs__24[#All],MATCH(athlete_entries[[#This Row],[Club Full]],Participation_Count_Clubs__24[[#All],[Club Full]],0),MATCH("Club Size Entries",Participation_Count_Clubs__24[#Headers],0)) -> XS
A5: 07002 S Power Breaking Junior 14-17 M A/B G04-D03 | B5: CAMPINS RICO | C5: Aberdeenshire Blackbelt Club | D5: =VLOOKUP(athlete_entries[[#This Row],[CATEGORY]],Categories!$A$1:$F$106,2,FALSE) -> Individual | E5: =VLOOKUP(athlete_entries[[#This Row],[CATEGORY]],Categories!$A$1:$F$106,3,FALSE) -> Power | F5: =VLOOKUP(athlete_entries[[#This Row],[CATEGORY]],Categories!$A$1:$F$106,4,FALSE) -> Junior | G5: =VLOOKUP(athlete_entries[[#This Row],[CATEGORY]],Categories!$A$1:$F$106,5,FALSE) -> Male | H5: =VLOOKUP(athlete_entries[[#This Row],[CATEGORY]],Categories!$A$1:$F$106,6,FALSE) -> A+B G04-D06 | I5: {=_xlfn.IFNA(INDEX(Results__5[#All],MATCH(athlete_entries[[#This Row],[CATEGORY]]&athlete_entries[[#This Row],[Name]],Results__5[[#All],[Category]]&Results__5[[#All],[Name]],0),MATCH(athlete_entries[[#Headers],[Result]],Results__5[#Headers],0)),"0. None")} -> 0. None | J5: =IF(AND(athlete_entries[[#This Row],[Result]]="2. Silver",K5=2),"0. None",IF(AND(athlete_entries[[#This Row],[Result]]="3. Bronze",K5=3),"0. None",athlete_entries[[#This Row],[Result]])) -> 0. None | K5: =INDEX(Categories_and_entries__2[[#All],[Category]:[Entries]],MATCH(athlete_entries[[#This Row],[CATEGORY]],Categories_and_entries__2[[#All],[Category]],0),MATCH("Entries",Categories_and_entries__2[[#Headers],[Category]:[Entries]],0)) -> 12 | L5: =COUNTIFS(athlete_entries[CATEGORY],athlete_entries[[#This Row],[CATEGORY]],athlete_entries[Club Full],athlete_entries[[#This Row],[Club Full]]) -> 1 | M5: =INDEX(Participation_Count_Clubs__24[#All],MATCH(athlete_entries[[#This Row],[Club Full]],Participation_Count_Clubs__24[[#All],[Club Full]],0),MATCH("Club Size Entries",Participation_Count_Clubs__24[#Headers],0)) -> XS
A6: 01025 Tul Senior-Veteran 18+ F A D01 | B6: McCarthy Malaika | C6: BOOZ ITF Taekwon-Do | D6: =VLOOKUP(athlete_entries[[#This Row],[CATEGORY]],Categories!$A$1:$F$106,2,FALSE) -> Individual | E6: =VLOOKUP(athlete_entries[[#This Row],[CATEGORY]],Categories!$A$1:$F$106,3,FALSE) -> Patterns | F6: =VLOOKUP(athlete_entries[[#This Row],[CATEGORY]],Categories!$A$1:$F$106,4,FALSE) -> Senior | G6: =VLOOKUP(athlete_entries[[#This Row],[CATEGORY]],Categories!$A$1:$F$106,5,FALSE) -> Female | H6: =VLOOKUP(athlete_entries[[#This Row],[CATEGORY]],Categories!$A$1:$F$106,6,FALSE) -> A D01-D06 | I6: {=_xlfn.IFNA(INDEX(Results__5[#All],MATCH(athlete_entries[[#This Row],[CATEGORY]]&athlete_entries[[#This Row],[Name]],Results__5[[#All],[Category]]&Results__5[[#All],[Name]],0),MATCH(athlete_entries[[#Headers],[Result]],Results__5[#Headers],0)),"0. None")} -> 0. None | J6: =IF(AND(athlete_entries[[#This Row],[Result]]="2. Silver",K6=2),"0. None",IF(AND(athlete_entries[[#This Row],[Result]]="3. Bronze",K6=3),"0. None",athlete_entries[[#This Row],[Result]])) -> 0. None | K6: =INDEX(Categories_and_entries__2[[#All],[Category]:[Entries]],MATCH(athlete_entries[[#This Row],[CATEGORY]],Categories_and_entries__2[[#All],[Category]],0),MATCH("Entries",Categories_and_entries__2[[#Headers],[Category]:[Entries]],0)) -> 10 | L6: =COUNTIFS(athlete_entries[CATEGORY],athlete_entries[[#This Row],[CATEGORY]],athlete_entries[Club Full],athlete_entries[[#This Row],[Club Full]]) -> 1 | M6: =INDEX(Participation_Count_Clubs__24[#All],MATCH(athlete_entries[[#This Row],[Club Full]],Participation_Count_Clubs__24[[#All],[Club Full]],0),MATCH("Club Size Entries",Participation_Count_Clubs__24[#Headers],0)) -> XS
A7: 01004 Tul Youth 6-13 F C G10-G08 | B7: Brown Madison | C7: Braveheart Martial Arts | D7: =VLOOKUP(athlete_entries[[#This Row],[CATEGORY]],Categories!$A$1:$F$106,2,FALSE) -> Individual | E7: =VLOOKUP(athlete_entries[[#This Row],[CATEGORY]],Categories!$A$1:$F$106,3,FALSE) -> Patterns | F7: =VLOOKUP(athlete_entries[[#This Row],[CATEGORY]],Categories!$A$1:$F$106,4,FALSE) -> Youth | G7: =VLOOKUP(athlete_entries[[#This Row],[CATEGORY]],Categories!$A$1:$F$106,5,FALSE) -> Female | H7: =VLOOKUP(athlete_entries[[#This Row],[CATEGORY]],Categories!$A$1:$F$106,6,FALSE) -> C G10-G05 | I7: {=_xlfn.IFNA(INDEX(Results__5[#All],MATCH(athlete_entries[[#This Row],[CATEGORY]]&athlete_entries[[#This Row],[Name]],Results__5[[#All],[Category]]&Results__5[[#All],[Name]],0),MATCH(athlete_entries[[#Headers],[Result]],Results__5[#Headers],0)),"0. None")} -> 0. None | J7: =IF(AND(athlete_entries[[#This Row],[Result]]="2. Silver",K7=2),"0. None",IF(AND(athlete_entries[[#This Row],[Result]]="3. Bronze",K7=3),"0. None",athlete_entries[[#This Row],[Result]])) -> 0. None | K7: =INDEX(Categories_and_entries__2[[#All],[Category]:[Entries]],MATCH(athlete_entries[[#This Row],[CATEGORY]],Categories_and_entries__2[[#All],[Category]],0),MATCH("Entries",Categories_and_entries__2[[#Headers],[Category]:[Entries]],0)) -> 22 | L7: =COUNTIFS(athlete_entries[CATEGORY],athlete_entries[[#This Row],[CATEGORY]],athlete_entries[Club Full],athlete_entries[[#This Row],[Club Full]]) -> 1 | M7: =INDEX(Participation_Count_Clubs__24[#All],MATCH(athlete_entries[[#This Row],[Club Full]],Participation_Count_Clubs__24[[#All],[Club Full]],0),MATCH("Club Size Entries",Participation_Count_Clubs__24[#Headers],0)) -> M
A8: 01007b Tul Youth 6-13 M B G04-G03 | B8: Rahim Lawa | C8: Braveheart Martial Arts | D8: =VLOOKUP(athlete_entries[[#This Row],[CATEGORY]],Categories!$A$1:$F$106,2,FALSE) -> Individual | E8: =VLOOKUP(athlete_entries[[#This Row],[CATEGORY]],Categories!$A$1:$F$106,3,FALSE) -> Patterns | F8: =VLOOKUP(athlete_entries[[#This Row],[CATEGORY]],Categories!$A$1:$F$106,4,FALSE) -> Youth | G8: =VLOOKUP(athlete_entries[[#This Row],[CATEGORY]],Categories!$A$1:$F$106,5,FALSE) -> Male | H8: =VLOOKUP(athlete_entries[[#This Row],[CATEGORY]],Categories!$A$1:$F$106,6,FALSE) -> B G04-G01 | I8: {=_xlfn.IFNA(INDEX(Results__5[#All],MATCH(athlete_entries[[#This Row],[CATEGORY]]&athlete_entries[[#This Row],[Name]],Results__5[[#All],[Category]]&Results__5[[#All],[Name]],0),MATCH(athlete_entries[[#Headers],[Result]],Results__5[#Headers],0)),"0. None")} -> 0. None | J8: =IF(AND(athlete_entries[[#This Row],[Result]]="2. Silver",K8=2),"0. None",IF(AND(athlete_entries[[#This Row],[Result]]="3. Bronze",K8=3),"0. None",athlete_entries[[#This Row],[Result]])) -> 0. None | K8: =INDEX(Categories_and_entries__2[[#All],[Category]:[Entries]],MATCH(athlete_entries[[#This Row],[CATEGORY]],Categories_and_entries__2[[#All],[Category]],0),MATCH("Entries",Categories_and_entries__2[[#Headers],[Category]:[Entries]],0)) -> 19 | L8: =COUNTIFS(athlete_entries[CATEGORY],athlete_entries[[#This Row],[CATEGORY]],athlete_entries[Club Full],athlete_entries[[#This Row],[Club Full]]) -> 2 | M8: =INDEX(Participation_Count_Clubs__24[#All],MATCH(athlete_entries[[#This Row],[Club Full]],Participation_Count_Clubs__24[[#All],[Club Full]],0),MATCH("Club Size Entries",Participation_Count_Clubs__24[#Headers],0)) -> M
A9: 01007b Tul Youth 6-13 M B G04-G03 | B9: Rahim Nali | C9: Braveheart Martial Arts | D9: =VLOOKUP(athlete_entries[[#This Row],[CATEGORY]],Categories!$A$1:$F$106,2,FALSE) -> Individual | E9: =VLOOKUP(athlete_entries[[#This Row],[CATEGORY]],Categories!$A$1:$F$106,3,FALSE) -> Patterns | F9: =VLOOKUP(athlete_entries[[#This Row],[CATEGORY]],Categories!$A$1:$F$106,4,FALSE) -> Youth | G9: =VLOOKUP(athlete_entries[[#This Row],[CATEGORY]],Categories!$A$1:$F$106,5,FALSE) -> Male | H9: =VLOOKUP(athlete_entries[[#This Row],[CATEGORY]],Categories!$A$1:$F$106,6,FALSE) -> B G04-G01 | I9: {=_xlfn.IFNA(INDEX(Results__5[#All],MATCH(athlete_entries[[#This Row],[CATEGORY]]&athlete_entries[[#This Row],[Name]],Results__5[[#All],[Category]]&Results__5[[#All],[Name]],0),MATCH(athlete_entries[[#Headers],[Result]],Results__5[#Headers],0)),"0. None")} -> 0. None | J9: =IF(AND(athlete_entries[[#This Row],[Result]]="2. Silver",K9=2),"0. None",IF(AND(athlete_entries[[#This Row],[Result]]="3. Bronze",K9=3),"0. None",athlete_entries[[#This Row],[Result]])) -> 0. None | K9: =INDEX(Categories_and_entries__2[[#All],[Category]:[Entries]],MATCH(athlete_entries[[#This Row],[CATEGORY]],Categories_and_entries__2[[#All],[Category]],0),MATCH("Entries",Categories_and_entries__2[[#Headers],[Category]:[Entries]],0)) -> 19 | L9: =COUNTIFS(athlete_entries[CATEGORY],athlete_entries[[#This Row],[CATEGORY]],athlete_entries[Club Full],athlete_entries[[#This Row],[Club Full]]) -> 2 | M9: =INDEX(Participation_Count_Clubs__24[#All],MATCH(athlete_entries[[#This Row],[Club Full]],Participation_Count_Clubs__24[[#All],[Club Full]],0),MATCH("Club Size Entries",Participation_Count_Clubs__24[#Headers],0)) -> M
A10: 01024 Tul Senior-Veteran 18+ F A D02 | B10: Brown Megan | C10: Braveheart Martial Arts | D10: =VLOOKUP(athlete_entries[[#This Row],[CATEGORY]],Categories!$A$1:$F$106,2,FALSE) -> Individual | E10: =VLOOKUP(athlete_entries[[#This Row],[CATEGORY]],Categories!$A$1:$F$106,3,FALSE) -> Patterns | F10: =VLOOKUP(athlete_entries[[#This Row],[CATEGORY]],Categories!$A$1:$F$106,4,FALSE) -> Senior | G10: =VLOOKUP(athlete_entries[[#This Row],[CATEGORY]],Categories!$A$1:$F$106,5,FALSE) -> Female | H10: =VLOOKUP(athlete_entries[[#This Row],[CATEGORY]],Categories!$A$1:$F$106,6,FALSE) -> A D01-D06 | I10: {=_xlfn.IFNA(INDEX(Results__5[#All],MATCH(athlete_entries[[#This Row],[CATEGORY]]&athlete_entries[[#This Row],[Name]],Results__5[[#All],[Category]]&Results__5[[#All],[Name]],0),MATCH(athlete_entries[[#Headers],[Result]],Results__5[#Headers],0)),"0. None")} -> 3. Bronze | J10: =IF(AND(athlete_entries[[#This Row],[Result]]="2. Silver",K10=2),"0. None",IF(AND(athlete_entries[[#This Row],[Result]]="3. Bronze",K10=3),"0. None",athlete_entries[[#This Row],[Result]])) -> 3. Bronze | K10: =INDEX(Categories_and_entries__2[[#All],[Category]:[Entries]],MATCH(athlete_entries[[#This Row],[CATEGORY]],Categories_and_entries__2[[#All],[Category]],0),MATCH("Entries",Categories_and_entries__2[[#Headers],[Category]:[Entries]],0)) -> 9 | L10: =COUNTIFS(athlete_entries[CATEGORY],athlete_entries[[#This Row],[CATEGORY]],athlete_entries[Club Full],athlete_entries[[#This Row],[Club Full]]) -> 1 | M10: =INDEX(Participation_Count_Clubs__24[#All],MATCH(athlete_entries[[#This Row],[Club Full]],Participation_Count_Clubs__24[[#All],[Club Full]],0),MATCH("Club Size Entries",Participation_Count_Clubs__24[#Headers],0)) -> M
A11: 01031 Tul Senior-Veteran 18+ M A D02 | B11: OHare Iain | C11: Braveheart Martial Arts | D11: =VLOOKUP(athlete_entries[[#This Row],[CATEGORY]],Categories!$A$1:$F$106,2,FALSE) -> Individual | E11: =VLOOKUP(athlete_entries[[#This Row],[CATEGORY]],Categories!$A$1:$F$106,3,FALSE) -> Patterns | F11: =VLOOKUP(athlete_entries[[#This Row],[CATEGORY]],Categories!$A$1:$F$106,4,FALSE) -> Senior | G11: =VLOOKUP(athlete_entries[[#This Row],[CATEGORY]],Categories!$A$1:$F$106,5,FALSE) -> Male | H11: =VLOOKUP(athlete_entries[[#This Row],[CATEGORY]],Categories!$A$1:$F$106,6,FALSE) -> A D01-D06 | I11: {=_xlfn.IFNA(INDEX(Results__5[#All],MATCH(athlete_entries[[#This Row],[CATEGORY]]&athlete_entries[[#This Row],[Name]],Results__5[[#All],[Category]]&Results__5[[#All],[Name]],0),MATCH(athlete_entries[[#Headers],[Result]],Results__5[#Headers],0)),"0. None")} -> 0. None | J11: =IF(AND(athlete_entries[[#This Row],[Result]]="2. Silver",K11=2),"0. None",IF(AND(athlete_entries[[#This Row],[Result]]="3. Bronze",K11=3),"0. None",athlete_entries[[#This Row],[Result]])) -> 0. None | K11: =INDEX(Categories_and_entries__2[[#All],[Category]:[Entries]],MATCH(athlete_entries[[#This Row],[CATEGORY]],Categories_and_entries__2[[#All],[Category]],0),MATCH("Entries",Categories_and_entries__2[[#Headers],[Category]:[Entries]],0)) -> 10 | L11: =COUNTIFS(athlete_entries[CATEGORY],athlete_entries[[#This Row],[CATEGORY]],athlete_entries[Club Full],athlete_entries[[#This Row],[Club Full]]) -> 1 | M11: =INDEX(Participation_Count_Clubs__24[#All],MATCH(athlete_entries[[#This Row],[Club Full]],Participation_Count_Clubs__24[[#All],[Club Full]],0),MATCH("Club Size Entries",Participation_Count_Clubs__24[#Headers],0)) -> M
