Workbook

Sheet Umpire Application Form
A1: AETF European Open E-Tournament 2021
A2: Umpire Application Form
A3: Please send on or before April 10, 2021 to the email address
A4: umpire@itf-taekwon-do.eu
A6: Your first name
A7: Your surname
A8: Your email address
A9: Your mobile phone number inclusive country code
A10: Your Country
A11: Your Association (NA or AA)
A12: Your degree
A13: Number of the degree certificate
... A22: umpire@itf-taekwon-do.eu

Sheet Takeover
A1: ='Umpire Application Form'!A6 -> Your first name | B1: ='Umpire Application Form'!A7 -> Your surname | C1: ='Umpire Application Form'!A8 -> Your email address | D1: ='Umpire Application Form'!A9 -> Your mobile phone number inclusive country code | E1: ='Umpire Application Form'!A10 -> Your Country | F1: ='Umpire Application Form'!A11 -> Your Association (NA or AA) | G1: ='Umpire Application Form'!A12 -> Your degree | H1: ='Umpire Application Form'!A13 -> Number of the degree certificate | I1: ='Umpire Application Form'!A14 -> Your international Umpire class (license) | J1: ='Umpire Application Form'!A15 -> Number of the umpire certificate | K1: ='Umpire Application Form'!A16 -> The year of your last IUC | L1: ='Umpire Application Form'!A17 -> The year of your last IIC | M1: ='Umpire Application Form'!A18 -> Your last E-Tournament with activity as Umpire. | N1: ='Umpire Application Form'!A19 -> Your last continental or world tournament with activity as Umpire.
A2: =IF('Umpire Application Form'!B6="","",'Umpire Application Form'!B6) | B2: =IF('Umpire Application Form'!B7="","",'Umpire Application Form'!B7) | C2: =IF('Umpire Application Form'!B8="","",'Umpire Application Form'!B8) | D2: =IF('Umpire Application Form'!B9="","",'Umpire Application Form'!B9) | E2: =IF('Umpire Application Form'!B10="","",'Umpire Application Form'!B10) | F2: =IF('Umpire Application Form'!B11="","",'Umpire Application Form'!B11) | G2: =IF('Umpire Application Form'!B12="","",'Umpire Application Form'!B12) | H2: =IF('Umpire Application Form'!B13="","",'Umpire Application Form'!B13) | I2: =IF('Umpire Application Form'!B14="","",'Umpire Application Form'!B14) | J2: =IF('Umpire Application Form'!B15="","",'Umpire Application Form'!B15) | K2: =IF('Umpire Application Form'!B16="","",'Umpire Application Form'!B16) | L2: =IF('Umpire Application Form'!B17="","",'Umpire Application Form'!B17) | M2: =IF('Umpire Application Form'!B18="","non",'Umpire Application Form'!B18) -> non | N2: =IF('Umpire Application Form'!B19="","non",'Umpire Application Form'!B19) -> non
